BEGIN:VCALENDAR
VERSION:2.0
PRODID:-//Families as Allies - ECPv6.15.20//NONSGML v1.0//EN
CALSCALE:GREGORIAN
METHOD:PUBLISH
X-ORIGINAL-URL:https://www.faams.org
X-WR-CALDESC:Events for Families as Allies
REFRESH-INTERVAL;VALUE=DURATION:PT1H
X-Robots-Tag:noindex
X-PUBLISHED-TTL:PT1H
BEGIN:VTIMEZONE
TZID:America/Chicago
BEGIN:DAYLIGHT
TZOFFSETFROM:-0600
TZOFFSETTO:-0500
TZNAME:CDT
DTSTART:20210314T080000
END:DAYLIGHT
BEGIN:STANDARD
TZOFFSETFROM:-0500
TZOFFSETTO:-0600
TZNAME:CST
DTSTART:20211107T070000
END:STANDARD
BEGIN:DAYLIGHT
TZOFFSETFROM:-0600
TZOFFSETTO:-0500
TZNAME:CDT
DTSTART:20220313T080000
END:DAYLIGHT
BEGIN:STANDARD
TZOFFSETFROM:-0500
TZOFFSETTO:-0600
TZNAME:CST
DTSTART:20221106T070000
END:STANDARD
BEGIN:DAYLIGHT
TZOFFSETFROM:-0600
TZOFFSETTO:-0500
TZNAME:CDT
DTSTART:20230312T080000
END:DAYLIGHT
BEGIN:STANDARD
TZOFFSETFROM:-0500
TZOFFSETTO:-0600
TZNAME:CST
DTSTART:20231105T070000
END:STANDARD
END:VTIMEZONE
BEGIN:VEVENT
DTSTART;TZID=America/Chicago:20220923T100000
DTEND;TZID=America/Chicago:20220923T130000
DTSTAMP:20260421T234211
CREATED:20220914T203403Z
LAST-MODIFIED:20220914T203403Z
UID:10001450-1663927200-1663938000@www.faams.org
SUMMARY:Start Smart for Your Baby® Shower and Community Health Fair
DESCRIPTION:Magnolia Health Plan \nYou’re invited to attend a Start Smart for Your Baby® Shower and Community Health Fair. Participants will enjoy games\, food\, giveaways\, flu shots\, and COVID vaccines. Bring your insurance card. \nFor more information contact Magnolia Health 866-912-6285 (Relay 711).
URL:https://www.faams.org/event/start-smart-for-your-baby-shower-and-community-health-fair/
LOCATION:Tunica County Health and Wellness Center\, 1165 Abbay Dr.\, Tunica\, 38676\, United States
CATEGORIES:Gala/Event
ATTACH;FMTTYPE=image/jpeg:https://www.faams.org/wp-content/uploads/2022/09/306642510_8288291824546670_2695143918623063826_n.jpg
END:VEVENT
END:VCALENDAR