BEGIN:VCALENDAR
VERSION:2.0
PRODID:-//Families as Allies - ECPv6.15.20//NONSGML v1.0//EN
CALSCALE:GREGORIAN
METHOD:PUBLISH
X-WR-CALNAME:Families as Allies
X-ORIGINAL-URL:https://www.faams.org
X-WR-CALDESC:Events for Families as Allies
REFRESH-INTERVAL;VALUE=DURATION:PT1H
X-Robots-Tag:noindex
X-PUBLISHED-TTL:PT1H
BEGIN:VTIMEZONE
TZID:America/Chicago
BEGIN:DAYLIGHT
TZOFFSETFROM:-0600
TZOFFSETTO:-0500
TZNAME:CDT
DTSTART:20210314T080000
END:DAYLIGHT
BEGIN:STANDARD
TZOFFSETFROM:-0500
TZOFFSETTO:-0600
TZNAME:CST
DTSTART:20211107T070000
END:STANDARD
BEGIN:DAYLIGHT
TZOFFSETFROM:-0600
TZOFFSETTO:-0500
TZNAME:CDT
DTSTART:20220313T080000
END:DAYLIGHT
BEGIN:STANDARD
TZOFFSETFROM:-0500
TZOFFSETTO:-0600
TZNAME:CST
DTSTART:20221106T070000
END:STANDARD
BEGIN:DAYLIGHT
TZOFFSETFROM:-0600
TZOFFSETTO:-0500
TZNAME:CDT
DTSTART:20230312T080000
END:DAYLIGHT
BEGIN:STANDARD
TZOFFSETFROM:-0500
TZOFFSETTO:-0600
TZNAME:CST
DTSTART:20231105T070000
END:STANDARD
END:VTIMEZONE
BEGIN:VEVENT
DTSTART;TZID=America/Chicago:20221005T113000
DTEND;TZID=America/Chicago:20221005T113000
DTSTAMP:20260421T213513
CREATED:20220920T193719Z
LAST-MODIFIED:20220920T193759Z
UID:10001458-1664969400-1664969400@www.faams.org
SUMMARY:Wendy’s Children’s Golf Classic Sponsorship
DESCRIPTION:Mississippi Families for Kids \nJoin Mississippi Families for Kids for a 4-man scramble\, 18-hole golf tournament complete with food\, drinks\, prizes\, and gifts benefiting MFFK’s child permanency efforts.  \nTeam and individual registration and sponsorship opportunities are available. All purchases are tax-deductible. \nClick the link below to register\, sponsor or learn more.\nhttps://mffk.org/eventsfundraisers/ 
URL:https://www.faams.org/event/wendys-childrens-golf-classic-sponsorship/
LOCATION:Lake Caroline Golf Club
CATEGORIES:Gala/Event
ATTACH;FMTTYPE=image/png:https://www.faams.org/wp-content/uploads/2022/09/unnamed-3.png
END:VEVENT
END:VCALENDAR