BEGIN:VCALENDAR
VERSION:2.0
PRODID:-//Families as Allies - ECPv6.15.20//NONSGML v1.0//EN
CALSCALE:GREGORIAN
METHOD:PUBLISH
X-ORIGINAL-URL:https://www.faams.org
X-WR-CALDESC:Events for Families as Allies
REFRESH-INTERVAL;VALUE=DURATION:PT1H
X-Robots-Tag:noindex
X-PUBLISHED-TTL:PT1H
BEGIN:VTIMEZONE
TZID:America/Chicago
BEGIN:DAYLIGHT
TZOFFSETFROM:-0600
TZOFFSETTO:-0500
TZNAME:CDT
DTSTART:20210314T080000
END:DAYLIGHT
BEGIN:STANDARD
TZOFFSETFROM:-0500
TZOFFSETTO:-0600
TZNAME:CST
DTSTART:20211107T070000
END:STANDARD
BEGIN:DAYLIGHT
TZOFFSETFROM:-0600
TZOFFSETTO:-0500
TZNAME:CDT
DTSTART:20220313T080000
END:DAYLIGHT
BEGIN:STANDARD
TZOFFSETFROM:-0500
TZOFFSETTO:-0600
TZNAME:CST
DTSTART:20221106T070000
END:STANDARD
BEGIN:DAYLIGHT
TZOFFSETFROM:-0600
TZOFFSETTO:-0500
TZNAME:CDT
DTSTART:20230312T080000
END:DAYLIGHT
BEGIN:STANDARD
TZOFFSETFROM:-0500
TZOFFSETTO:-0600
TZNAME:CST
DTSTART:20231105T070000
END:STANDARD
END:VTIMEZONE
BEGIN:VEVENT
DTSTART;TZID=America/Chicago:20220921T113000
DTEND;TZID=America/Chicago:20220921T130000
DTSTAMP:20260424T194055
CREATED:20220914T225006Z
LAST-MODIFIED:20220914T225006Z
UID:10001453-1663759800-1663765200@www.faams.org
SUMMARY:Food for Thought Presentation - Stress Management - CEU available!
DESCRIPTION:Gulfport Behavioral Health System  \nStress affects everyone at times and learning to deal with stress effectively is essential to our well-being. Speaker: Hope Beaver\, Ph.D. \nComplementary lunch will be served at 11:30 am\, program starts promptly at noon. \nThis program is approved for one (1) general CEU credit through the MS Board of Examiners for Social Work and Marriage and Family Therapists. \nCompletion certificate will be available for all participants that attend with completed evaluation. \nRegister here  >> \nContact\nStephen East\nGulfport Behavioral Health System\n228-731-2235\nstephen.east@uhsinc.com
URL:https://www.faams.org/event/food-for-thought-presentation-stress-management-ceu-available/
LOCATION:Knight Nonprofit Center\, 11975 Seaway Rd\, Gulfport\, Mississippi\, 39503\, United States
CATEGORIES:Training
ATTACH;FMTTYPE=image/jpeg:https://www.faams.org/wp-content/uploads/2022/09/unnamed.jpg
END:VEVENT
END:VCALENDAR