BEGIN:VCALENDAR
VERSION:2.0
PRODID:-//Families as Allies - ECPv6.15.20//NONSGML v1.0//EN
CALSCALE:GREGORIAN
METHOD:PUBLISH
X-WR-CALNAME:Families as Allies
X-ORIGINAL-URL:https://www.faams.org
X-WR-CALDESC:Events for Families as Allies
REFRESH-INTERVAL;VALUE=DURATION:PT1H
X-Robots-Tag:noindex
X-PUBLISHED-TTL:PT1H
BEGIN:VTIMEZONE
TZID:America/Chicago
BEGIN:DAYLIGHT
TZOFFSETFROM:-0600
TZOFFSETTO:-0500
TZNAME:CDT
DTSTART:20220313T080000
END:DAYLIGHT
BEGIN:STANDARD
TZOFFSETFROM:-0500
TZOFFSETTO:-0600
TZNAME:CST
DTSTART:20221106T070000
END:STANDARD
BEGIN:DAYLIGHT
TZOFFSETFROM:-0600
TZOFFSETTO:-0500
TZNAME:CDT
DTSTART:20230312T080000
END:DAYLIGHT
BEGIN:STANDARD
TZOFFSETFROM:-0500
TZOFFSETTO:-0600
TZNAME:CST
DTSTART:20231105T070000
END:STANDARD
BEGIN:DAYLIGHT
TZOFFSETFROM:-0600
TZOFFSETTO:-0500
TZNAME:CDT
DTSTART:20240310T080000
END:DAYLIGHT
BEGIN:STANDARD
TZOFFSETFROM:-0500
TZOFFSETTO:-0600
TZNAME:CST
DTSTART:20241103T070000
END:STANDARD
END:VTIMEZONE
BEGIN:VEVENT
DTSTART;TZID=America/Chicago:20231108T100000
DTEND;TZID=America/Chicago:20231108T140000
DTSTAMP:20260423T191703
CREATED:20231102T204138Z
LAST-MODIFIED:20231102T204138Z
UID:10001690-1699437600-1699452000@www.faams.org
SUMMARY:Fall Community Health & Resource Fair
DESCRIPTION:MS Shine Project & Magnolia Health \nYou are invited to attend the Fall Community Health & Resource Fair on Wednesday\, November 8th from 10 am – 2 pm at the John H Thompson Sports Complex in Bassfield\, MS. \nFor more information contact Shanell Williamson at 601-441-9333.
URL:https://www.faams.org/event/fall-community-health-resource-fair/
LOCATION:John H Thompson Sports Complex\, 3844 Hwy 42\, Bassfield\, MS\, 39221
CATEGORIES:Event
ATTACH;FMTTYPE=image/jpeg:https://www.faams.org/wp-content/uploads/2023/11/Fall-Community-Health-and-Resource-Fair-scaled-e1698957207205.jpg
END:VEVENT
END:VCALENDAR