BEGIN:VCALENDAR
VERSION:2.0
PRODID:-//Families as Allies - ECPv6.15.20//NONSGML v1.0//EN
CALSCALE:GREGORIAN
METHOD:PUBLISH
X-WR-CALNAME:Families as Allies
X-ORIGINAL-URL:https://www.faams.org
X-WR-CALDESC:Events for Families as Allies
REFRESH-INTERVAL;VALUE=DURATION:PT1H
X-Robots-Tag:noindex
X-PUBLISHED-TTL:PT1H
BEGIN:VTIMEZONE
TZID:America/Chicago
BEGIN:DAYLIGHT
TZOFFSETFROM:-0600
TZOFFSETTO:-0500
TZNAME:CDT
DTSTART:20200308T080000
END:DAYLIGHT
BEGIN:STANDARD
TZOFFSETFROM:-0500
TZOFFSETTO:-0600
TZNAME:CST
DTSTART:20201101T070000
END:STANDARD
BEGIN:DAYLIGHT
TZOFFSETFROM:-0600
TZOFFSETTO:-0500
TZNAME:CDT
DTSTART:20210314T080000
END:DAYLIGHT
BEGIN:STANDARD
TZOFFSETFROM:-0500
TZOFFSETTO:-0600
TZNAME:CST
DTSTART:20211107T070000
END:STANDARD
BEGIN:DAYLIGHT
TZOFFSETFROM:-0600
TZOFFSETTO:-0500
TZNAME:CDT
DTSTART:20220313T080000
END:DAYLIGHT
BEGIN:STANDARD
TZOFFSETFROM:-0500
TZOFFSETTO:-0600
TZNAME:CST
DTSTART:20221106T070000
END:STANDARD
BEGIN:DAYLIGHT
TZOFFSETFROM:-0600
TZOFFSETTO:-0500
TZNAME:CDT
DTSTART:20230312T080000
END:DAYLIGHT
BEGIN:STANDARD
TZOFFSETFROM:-0500
TZOFFSETTO:-0600
TZNAME:CST
DTSTART:20231105T070000
END:STANDARD
END:VTIMEZONE
BEGIN:VEVENT
DTSTART;TZID=America/Chicago:20220616T100000
DTEND;TZID=America/Chicago:20220616T100000
DTSTAMP:20260422T150045
CREATED:20211213T152226Z
LAST-MODIFIED:20220614T200858Z
UID:10001310-1655373600-1655373600@www.faams.org
SUMMARY:The Mississippi State Board of Education Meeting
DESCRIPTION:Mississippi State Board of Education\n\n\n\nMississippi State Board of Education meetings can be viewed via live stream. \n\n\nDate: 10 a.m.\, June 16\, 2022 \nLocation: Central High School Building\, 359 N. West St.\, Jackson\, MS\, 4th floor Board Room \n 
URL:https://www.faams.org/event/the-mississippi-state-board-of-education-meeting-8/
LOCATION:Central High School\, Location: Central High School Building\, 359 N. West St.\, Jackson\, MS\, 4th floor Board Room\, Jackson\, MS
CATEGORIES:Meeting
ATTACH;FMTTYPE=image/jpeg:https://www.faams.org/wp-content/uploads/2021/04/mde-master-logo_png_0.jpg
END:VEVENT
BEGIN:VEVENT
DTSTART;TZID=America/Chicago:20220519T100000
DTEND;TZID=America/Chicago:20220519T100000
DTSTAMP:20260422T150045
CREATED:20211213T150927Z
LAST-MODIFIED:20220518T205031Z
UID:10001309-1652954400-1652954400@www.faams.org
SUMMARY:The Mississippi State Board of Education Meeting
DESCRIPTION:Mississippi State Board of Education\n\n\n\nMississippi State Board of Education meetings can be viewed via live stream. \n\n\nDate: 10 a.m.\, May 19\, 2022 \nLocation: Central High School Building\, 359 N. West St.\, Jackson\, MS\, 4th floor Board Room \n 
URL:https://www.faams.org/event/the-mississippi-state-board-of-education-meeting-7/
LOCATION:Central High School\, Location: Central High School Building\, 359 N. West St.\, Jackson\, MS\, 4th floor Board Room\, Jackson\, MS
CATEGORIES:Meeting
ATTACH;FMTTYPE=image/jpeg:https://www.faams.org/wp-content/uploads/2021/04/mde-master-logo_png_0.jpg
END:VEVENT
BEGIN:VEVENT
DTSTART;TZID=America/Chicago:20220421T100000
DTEND;TZID=America/Chicago:20220421T100000
DTSTAMP:20260422T150045
CREATED:20211213T150528Z
LAST-MODIFIED:20220414T175511Z
UID:10001308-1650535200-1650535200@www.faams.org
SUMMARY:The Mississippi State Board of Education Meeting
DESCRIPTION:Mississippi State Board of Education\n\n\n\nMississippi State Board of Education meetings can be viewed via live stream. \n\n\nDate: 10 a.m.\, April 21\, 2022 \nLocation: Central High School Building\, 359 N. West St.\, Jackson\, MS\, 4th floor Board Room \n 
URL:https://www.faams.org/event/the-mississippi-state-board-of-education-meeting-6/
LOCATION:Central High School\, Location: Central High School Building\, 359 N. West St.\, Jackson\, MS\, 4th floor Board Room\, Jackson\, MS
CATEGORIES:Meeting
ATTACH;FMTTYPE=image/jpeg:https://www.faams.org/wp-content/uploads/2021/04/mde-master-logo_png_0.jpg
END:VEVENT
BEGIN:VEVENT
DTSTART;TZID=America/Chicago:20220317T100000
DTEND;TZID=America/Chicago:20220317T100000
DTSTAMP:20260422T150045
CREATED:20211213T145959Z
LAST-MODIFIED:20220228T213835Z
UID:10001307-1647511200-1647511200@www.faams.org
SUMMARY:The Mississippi State Board of Education Meeting
DESCRIPTION:Mississippi State Board of Education\n\nMississippi State Board of Education meetings can be viewed via live stream.\n\n\nDate: 10 a.m.\, March 17\, 2022 \nLocation: Central High School Building\, 359 N. West St.\, Jackson\, MS\, 4th floor Board Room
URL:https://www.faams.org/event/the-mississippi-state-board-of-education-meeting-5/
LOCATION:Central High School\, Location: Central High School Building\, 359 N. West St.\, Jackson\, MS\, 4th floor Board Room\, Jackson\, MS
CATEGORIES:Meeting
ATTACH;FMTTYPE=image/jpeg:https://www.faams.org/wp-content/uploads/2021/04/mde-master-logo_png_0.jpg
END:VEVENT
BEGIN:VEVENT
DTSTART;TZID=America/Chicago:20220217T100000
DTEND;TZID=America/Chicago:20220217T100000
DTSTAMP:20260422T150045
CREATED:20211213T145348Z
LAST-MODIFIED:20211213T153301Z
UID:10001306-1645092000-1645092000@www.faams.org
SUMMARY:The Mississippi State Board of Education Meeting
DESCRIPTION:Mississippi State Board of Education\n\nMississippi State Board of Education meetings can be viewed via live stream.\n\n\nDate: 10 a.m.\, February 17\, 2022 \nLocation: Central High School Building\, 359 N. West St.\, Jackson\, MS\, 4th floor Board Room \n  \n\n\n 
URL:https://www.faams.org/event/the-mississippi-state-board-of-education-meeting-4/
LOCATION:Central High School\, Location: Central High School Building\, 359 N. West St.\, Jackson\, MS\, 4th floor Board Room\, Jackson\, MS
CATEGORIES:Meeting
ATTACH;FMTTYPE=image/jpeg:https://www.faams.org/wp-content/uploads/2021/04/mde-master-logo_png_0.jpg
END:VEVENT
BEGIN:VEVENT
DTSTART;TZID=America/Chicago:20220120T100000
DTEND;TZID=America/Chicago:20220120T100000
DTSTAMP:20260422T150045
CREATED:20211213T144641Z
LAST-MODIFIED:20211213T153156Z
UID:10001305-1642672800-1642672800@www.faams.org
SUMMARY:The Mississippi State Board of Education Meeting
DESCRIPTION:Mississippi State Board of Education\n\n\n\nMississippi State Board of Education meetings can be viewed via live stream. \n\n\nDate: 10 a.m.\, January 20\, 2022 \nLocation: Central High School Building\, 359 N. West St.\, Jackson\, MS\, 4th floor Board Room \n 
URL:https://www.faams.org/event/the-mississippi-state-board-of-education-meeting-3/
LOCATION:Central High School\, Location: Central High School Building\, 359 N. West St.\, Jackson\, MS\, 4th floor Board Room\, Jackson\, MS
CATEGORIES:Meeting
ATTACH;FMTTYPE=image/jpeg:https://www.faams.org/wp-content/uploads/2021/04/mde-master-logo_png_0.jpg
END:VEVENT
BEGIN:VEVENT
DTSTART;TZID=America/Chicago:20211216T100000
DTEND;TZID=America/Chicago:20211216T100000
DTSTAMP:20260422T150045
CREATED:20211207T201107Z
LAST-MODIFIED:20211213T152950Z
UID:10001301-1639648800-1639648800@www.faams.org
SUMMARY:The Mississippi State Board of Education Meeting
DESCRIPTION:Mississippi State Board of Education\n\n\n\nMississippi State Board of Education meeting can be viewed via live stream. \n\n\nDate: 10 a.m.\, December 16\, 2021 \nLocation: Central High School Building\, 359 N. West St.\, Jackson\, MS\, 4th floor Board Room \n 
URL:https://www.faams.org/event/the-mississippi-state-board-of-education-meeting-2/
LOCATION:Central High School\, Location: Central High School Building\, 359 N. West St.\, Jackson\, MS\, 4th floor Board Room\, Jackson\, MS
CATEGORIES:Meeting
ATTACH;FMTTYPE=image/jpeg:https://www.faams.org/wp-content/uploads/2021/04/mde-master-logo_png_0.jpg
END:VEVENT
BEGIN:VEVENT
DTSTART;TZID=America/Chicago:20211021T100000
DTEND;TZID=America/Chicago:20211021T100000
DTSTAMP:20260422T150045
CREATED:20211012T171904Z
LAST-MODIFIED:20211012T171904Z
UID:10000983-1634810400-1634810400@www.faams.org
SUMMARY:The Mississippi State Board of Education Meeting
DESCRIPTION:Mississippi State Board of Education\n\nThe Mississippi State Board of Education meeting can be viewed via live stream.\n\nLocation: Central High School Building\, 359 N. West St.\, Jackson\, MS\, 4th floor Board Room
URL:https://www.faams.org/event/the-mississippi-state-board-of-education-meeting/
LOCATION:Central High School\, Location: Central High School Building\, 359 N. West St.\, Jackson\, MS\, 4th floor Board Room\, Jackson\, MS
CATEGORIES:Meeting
ATTACH;FMTTYPE=image/jpeg:https://www.faams.org/wp-content/uploads/2021/04/mde-master-logo_png_0.jpg
END:VEVENT
END:VCALENDAR