BEGIN:VCALENDAR
VERSION:2.0
PRODID:-//Families as Allies - ECPv6.15.20//NONSGML v1.0//EN
CALSCALE:GREGORIAN
METHOD:PUBLISH
X-ORIGINAL-URL:https://www.faams.org
X-WR-CALDESC:Events for Families as Allies
REFRESH-INTERVAL;VALUE=DURATION:PT1H
X-Robots-Tag:noindex
X-PUBLISHED-TTL:PT1H
BEGIN:VTIMEZONE
TZID:America/Chicago
BEGIN:DAYLIGHT
TZOFFSETFROM:-0600
TZOFFSETTO:-0500
TZNAME:CDT
DTSTART:20190310T080000
END:DAYLIGHT
BEGIN:STANDARD
TZOFFSETFROM:-0500
TZOFFSETTO:-0600
TZNAME:CST
DTSTART:20191103T070000
END:STANDARD
BEGIN:DAYLIGHT
TZOFFSETFROM:-0600
TZOFFSETTO:-0500
TZNAME:CDT
DTSTART:20200308T080000
END:DAYLIGHT
BEGIN:STANDARD
TZOFFSETFROM:-0500
TZOFFSETTO:-0600
TZNAME:CST
DTSTART:20201101T070000
END:STANDARD
BEGIN:DAYLIGHT
TZOFFSETFROM:-0600
TZOFFSETTO:-0500
TZNAME:CDT
DTSTART:20210314T080000
END:DAYLIGHT
BEGIN:STANDARD
TZOFFSETFROM:-0500
TZOFFSETTO:-0600
TZNAME:CST
DTSTART:20211107T070000
END:STANDARD
END:VTIMEZONE
BEGIN:VEVENT
DTSTART;TZID=America/Chicago:20200427T120000
DTEND;TZID=America/Chicago:20200427T130000
DTSTAMP:20260425T210621
CREATED:20200420T220609Z
LAST-MODIFIED:20200420T220609Z
UID:10000789-1587988800-1587992400@www.faams.org
SUMMARY:Utilizing PBIS at Home: Supporting Families during COVID-19
DESCRIPTION:Presented by: Patty Gautier\, Family\, Data & Dissemination Coordinator\, REACH MS \nJoin REACH MS as they share strategies for using Positive Behavioral Interventions and Supports (PBIS) in the home as well as the home classroom. They will discuss how PBIS can be used to encourage appropriate behavior during this time of distance learning.
URL:https://www.faams.org/event/utilizing-pbis-at-home-supporting-families-during-covid-19/
CATEGORIES:Training
ATTACH;FMTTYPE=image/png:https://www.faams.org/wp-content/uploads/2020/04/Screen-Shot-2020-04-20-at-5.05.17-PM.png
END:VEVENT
END:VCALENDAR