BEGIN:VCALENDAR
VERSION:2.0
PRODID:-//Families as Allies - ECPv6.15.20//NONSGML v1.0//EN
CALSCALE:GREGORIAN
METHOD:PUBLISH
X-WR-CALNAME:Families as Allies
X-ORIGINAL-URL:https://www.faams.org
X-WR-CALDESC:Events for Families as Allies
REFRESH-INTERVAL;VALUE=DURATION:PT1H
X-Robots-Tag:noindex
X-PUBLISHED-TTL:PT1H
BEGIN:VTIMEZONE
TZID:America/Chicago
BEGIN:DAYLIGHT
TZOFFSETFROM:-0600
TZOFFSETTO:-0500
TZNAME:CDT
DTSTART:20250309T080000
END:DAYLIGHT
BEGIN:STANDARD
TZOFFSETFROM:-0500
TZOFFSETTO:-0600
TZNAME:CST
DTSTART:20251102T070000
END:STANDARD
BEGIN:DAYLIGHT
TZOFFSETFROM:-0600
TZOFFSETTO:-0500
TZNAME:CDT
DTSTART:20260308T080000
END:DAYLIGHT
BEGIN:STANDARD
TZOFFSETFROM:-0500
TZOFFSETTO:-0600
TZNAME:CST
DTSTART:20261101T070000
END:STANDARD
BEGIN:DAYLIGHT
TZOFFSETFROM:-0600
TZOFFSETTO:-0500
TZNAME:CDT
DTSTART:20270314T080000
END:DAYLIGHT
BEGIN:STANDARD
TZOFFSETFROM:-0500
TZOFFSETTO:-0600
TZNAME:CST
DTSTART:20271107T070000
END:STANDARD
END:VTIMEZONE
BEGIN:VEVENT
DTSTART;TZID=America/Chicago:20260422T120000
DTEND;TZID=America/Chicago:20260422T120000
DTSTAMP:20260423T172038
CREATED:20251216T192305Z
LAST-MODIFIED:20251216T192305Z
UID:10002432-1776859200-1776859200@www.faams.org
SUMMARY:Leadership Coaching and Policy Discussion
DESCRIPTION:Families as Allies \nThis group focuses on understanding current policy issues and also opportunities for leadership training graduates to serve on decision-making committees. Leadership training graduates are strongly encouraged to attend\, but the meetings are open to anyone who is interested in learning more about policy. \nRegister here>>
URL:https://www.faams.org/event/leadership-coaching-and-policy-discussion-36/
CATEGORIES:Event
ATTACH;FMTTYPE=image/png:https://www.faams.org/wp-content/uploads/2025/01/Leadership-Coaching-and-Policy-Discussion.png
END:VEVENT
BEGIN:VEVENT
DTSTART;TZID=America/Chicago:20260424T113000
DTEND;TZID=America/Chicago:20260424T133000
DTSTAMP:20260423T172038
CREATED:20260423T163921Z
LAST-MODIFIED:20260423T163921Z
UID:10002473-1777030200-1777037400@www.faams.org
SUMMARY:Lunch & Learn with the Arc
DESCRIPTION:The Arc \nThe Arc Northeast Mississippi invites the community to a Lunch & Learn focused on building stronger\, more inclusive connections across our region. Attendees will hear from local leaders who are expanding recreational\, vocational\, and residential opportunities for individuals with disabilities. Featured speakers include Leanne Mattox from the Tupelo Park District\, sharing updates on inclusive recreation\, and Britney Dill from Crossroads Ranch\, highlighting vocational and residential supports for adults with special needs. \nThis free event will be held on Friday\, April 24\, 2026\, from 11:30 a.m. to 1:30 p.m. at Ability Works\, located at 613 Pegram Drive in Tupelo. Lunch is provided\, and families\, professionals\, and community partners are encouraged to attend. For more information\, call 662‑732‑0444.
URL:https://www.faams.org/event/lunch-learn-with-the-arc/
CATEGORIES:Event
ATTACH;FMTTYPE=image/jpeg:https://www.faams.org/wp-content/uploads/2026/04/Lunch-Learn-with-the-ARC.jpg
END:VEVENT
END:VCALENDAR