BEGIN:VCALENDAR
VERSION:2.0
PRODID:-//Families as Allies - ECPv6.15.20//NONSGML v1.0//EN
CALSCALE:GREGORIAN
METHOD:PUBLISH
X-ORIGINAL-URL:https://www.faams.org
X-WR-CALDESC:Events for Families as Allies
REFRESH-INTERVAL;VALUE=DURATION:PT1H
X-Robots-Tag:noindex
X-PUBLISHED-TTL:PT1H
BEGIN:VTIMEZONE
TZID:America/Chicago
BEGIN:DAYLIGHT
TZOFFSETFROM:-0600
TZOFFSETTO:-0500
TZNAME:CDT
DTSTART:20250309T080000
END:DAYLIGHT
BEGIN:STANDARD
TZOFFSETFROM:-0500
TZOFFSETTO:-0600
TZNAME:CST
DTSTART:20251102T070000
END:STANDARD
BEGIN:DAYLIGHT
TZOFFSETFROM:-0600
TZOFFSETTO:-0500
TZNAME:CDT
DTSTART:20260308T080000
END:DAYLIGHT
BEGIN:STANDARD
TZOFFSETFROM:-0500
TZOFFSETTO:-0600
TZNAME:CST
DTSTART:20261101T070000
END:STANDARD
BEGIN:DAYLIGHT
TZOFFSETFROM:-0600
TZOFFSETTO:-0500
TZNAME:CDT
DTSTART:20270314T080000
END:DAYLIGHT
BEGIN:STANDARD
TZOFFSETFROM:-0500
TZOFFSETTO:-0600
TZNAME:CST
DTSTART:20271107T070000
END:STANDARD
END:VTIMEZONE
BEGIN:VEVENT
DTSTART;TZID=America/Chicago:20260518T120000
DTEND;TZID=America/Chicago:20260518T170000
DTSTAMP:20260424T024945
CREATED:20260422T221953Z
LAST-MODIFIED:20260422T221953Z
UID:10002468-1779105600-1779123600@www.faams.org
SUMMARY:CoE-IHS Webinar: Best Practices to Provide Integrated Care for Children with Serious Emotional Disturbance (SED) & Neurodevelopmental Needs
DESCRIPTION:The Center of Excellence for Integrated Health Solutions  \nThe Center of Excellence for Integrated Health Solutions is funded by Grant Number 1H79SM090141-01from the U.S. Department of Health and Human Services (HHS) and managed by the National Council for Mental Wellbeing. The views\, opinions and content expressed in this presentation do not necessarily reflect the views\, opinions or policies of the HHS. \nRegister here>>
URL:https://www.faams.org/event/coe-ihs-webinar-best-practices-to-provide-integrated-care-for-children-with-serious-emotional-disturbance-sed-neurodevelopmental-needs/
CATEGORIES:Webinar
ATTACH;FMTTYPE=image/avif:https://www.faams.org/wp-content/uploads/2026/04/051826.avif
END:VEVENT
END:VCALENDAR