BEGIN:VCALENDAR
VERSION:2.0
PRODID:-//Families as Allies - ECPv6.15.20//NONSGML v1.0//EN
CALSCALE:GREGORIAN
METHOD:PUBLISH
X-ORIGINAL-URL:https://www.faams.org
X-WR-CALDESC:Events for Families as Allies
REFRESH-INTERVAL;VALUE=DURATION:PT1H
X-Robots-Tag:noindex
X-PUBLISHED-TTL:PT1H
BEGIN:VTIMEZONE
TZID:America/Chicago
BEGIN:DAYLIGHT
TZOFFSETFROM:-0600
TZOFFSETTO:-0500
TZNAME:CDT
DTSTART:20250309T080000
END:DAYLIGHT
BEGIN:STANDARD
TZOFFSETFROM:-0500
TZOFFSETTO:-0600
TZNAME:CST
DTSTART:20251102T070000
END:STANDARD
BEGIN:DAYLIGHT
TZOFFSETFROM:-0600
TZOFFSETTO:-0500
TZNAME:CDT
DTSTART:20260308T080000
END:DAYLIGHT
BEGIN:STANDARD
TZOFFSETFROM:-0500
TZOFFSETTO:-0600
TZNAME:CST
DTSTART:20261101T070000
END:STANDARD
BEGIN:DAYLIGHT
TZOFFSETFROM:-0600
TZOFFSETTO:-0500
TZNAME:CDT
DTSTART:20270314T080000
END:DAYLIGHT
BEGIN:STANDARD
TZOFFSETFROM:-0500
TZOFFSETTO:-0600
TZNAME:CST
DTSTART:20271107T070000
END:STANDARD
END:VTIMEZONE
BEGIN:VEVENT
DTSTART;VALUE=DATE:20260511
DTEND;VALUE=DATE:20260516
DTSTAMP:20260423T232110
CREATED:20250509T203909Z
LAST-MODIFIED:20250509T203909Z
UID:10002238-1778457600-1778889599@www.faams.org
SUMMARY:Parent Caregiver Peer Support
DESCRIPTION:Are you a parent or caregiver raising a child aged 0-21 who has mental health or behavioral health challenges? Would you like to use your lived experience to help another parent on the same journey?\n\nThen\, being a parent peer supporter may be for you! \n\n\nWhat is Parent-Peer Support? Parent-peer support is when a parent or caregiver uses their lived experience to support another parent or caregiver who is going through similar experiences.\n\nWho Can Be a Parent Peer Supporter? A parent-peer supporter is a biological parent\, adoptive parent\, or caregiver with legal custody who is currently raising or has raised a child with these characteristics:\n\nThe child is currently between the ages of 0-21\, or was when they first began having challenges.\nThe child has an emotional\, social\, behavioral\, or substance use disability.\n The child received services in or navigated the mental health or a related system (for example\, a child with an IEP related to behavior issues at school).\n\nHow Do I Become a Parent Peer Supporter? The Department of Mental Health certifies parent-peer supporters in the mental health system.\nUpcoming training:\n\nMay 11-15\, 2026\n\n\nClick here for the application packet. \n\n\nWho Should Take the Training?\nAny parent or caregiver who is raising a child who has challenges and:\n\nIs interested in working for a community mental health center or another agency certified by the Department of Mental Health. Completing the training does not guarantee you a job\, but it helps ensure you’ll be ready for one.\nIs interested in doing part-time contractual work for Families as Allies. We are building our pool of contractual employees.\nSupports parents in any system. This training will strengthen your skills and help you network with other parent-peer supporters.\nWould like to learn how to support other parents in the same shoes in any child-serving system. We currently have funds to pay training stipends to parents who are—or have been—involved in the youth court system and would like to learn how to support other parents going through the same thing. Contact us at 601-355-0915 or info@faams.org to learn more.
URL:https://www.faams.org/event/parent-caregiver-peer-support-6/
CATEGORIES:Training
ATTACH;FMTTYPE=image/png:https://www.faams.org/wp-content/uploads/2022/08/Screen-Shot-2023-05-09-at-3.32.27-PM.png
END:VEVENT
BEGIN:VEVENT
DTSTART;TZID=America/Chicago:20260511T130000
DTEND;TZID=America/Chicago:20260511T143000
DTSTAMP:20260423T232110
CREATED:20260422T215922Z
LAST-MODIFIED:20260422T215922Z
UID:10002467-1778504400-1778509800@www.faams.org
SUMMARY:Trauma-Informed Care for Kinship/Grandfamilies
DESCRIPTION:Grandfamilies & Kinship Support Network \nThis webinar\, co-hosted by Network partner ZERO TO THREE\, will address how trauma can present in both kin caregivers and children in their care\, and how it impacts relational health. Explore practices associated with trauma-informed care to better support the kin caregivers you serve. Our presenter is Dr. Mike Sherman\, a licensed clinical psychologist and NAPA/UC Davis Infant-Parent Mental Health fellow. Dr. Sherman is an expert in infant and early childhood mental health and has presented internationally. For more than 15 years\, he has worked at the nexus of community mental health and child welfare programs\, including direct service provision\, supervision\, training\, consulting\, program development and administration. His work focuses on the integration of mental health in community and child welfare systems and the intersection of trauma- and relationally driven practice. \nThis webinar will be supplemented by two learning community sessions\, where you can take a deeper dive into this topic and participate in highly interactive conversations with your peers. One session\, led by Dr. Sherman\, will focus on trauma in children using a case study approach. The second session will focus on trauma in caregivers\, engaging a panel of kin caregivers\, facilitated by Network Subject Matter Expert Dr. Joseph Crumbley. You will need to register for these learning community sessions separately\, using the links below. \nRegister here>>
URL:https://www.faams.org/event/trauma-informed-care-for-kinship-grandfamilies/
CATEGORIES:Webinar
ATTACH;FMTTYPE=image/png:https://www.faams.org/wp-content/uploads/2026/04/051126.png
END:VEVENT
BEGIN:VEVENT
DTSTART;TZID=America/Chicago:20260513T120000
DTEND;TZID=America/Chicago:20260513T130000
DTSTAMP:20260423T232110
CREATED:20251211T035809Z
LAST-MODIFIED:20251212T212007Z
UID:10002415-1778673600-1778677200@www.faams.org
SUMMARY:Supportive Coaching for Parents Supporting Other Parents
DESCRIPTION:For any parents supporting other parents in any system. Parent peer support specialists\, parent consultants\, parent educators\, and parents who have completed parent peer support training are strongly encouraged to attend. We will discuss current trends in parent peer support\, national standards for parent peer support\, continuing education opportunities\, and local and state issues affecting parent peer support. The group also provides support and coaching for any specific issues participants share. Meetings are held on the second Wednesday of each month at 12:00 p.m. We ask that anyone attending respect the confidentiality of the group. \nRegister here >>
URL:https://www.faams.org/event/supportive-coaching-for-parents-supporting-other-parents-63/
CATEGORIES:Meeting
ATTACH;FMTTYPE=image/jpeg:https://www.faams.org/wp-content/uploads/2021/04/lucas-law-ecELcxmJTk4-unsplash.jpg
END:VEVENT
BEGIN:VEVENT
DTSTART;TZID=America/Chicago:20260515T130000
DTEND;TZID=America/Chicago:20260515T150000
DTSTAMP:20260423T232110
CREATED:20251216T213751Z
LAST-MODIFIED:20251216T213751Z
UID:10002449-1778850000-1778857200@www.faams.org
SUMMARY:Early Hearing Detection and Intervention Advisory Committee
DESCRIPTION:Mississippi Department of Health \nThe Early Hearing Detection and Intervention Advisory Council will hold a public hearing on proposed changes to the Department of Health. \nMicrosoft Teams Need help?\nJoin the meeting now\nMeeting ID: 282 621 533 885 5\nPasscode: vE38B7pH \nDial in by phone\n+1 769-208-4410\,\,232052900# United States\, Jackson\nFind a local number\nPhone conference ID: 232 052 900#\nFor organizers: Meeting options | Reset dial-in PIN \nIf you have any questions related to the public hearing\, please get in touch with Teresa Windham by phone at 662-316-5727 or email teresa.windham@msdh.ms.gov
URL:https://www.faams.org/event/early-hearing-detection-and-intervention-advisory-committee-3/
CATEGORIES:Meeting
ATTACH;FMTTYPE=image/jpeg:https://www.faams.org/wp-content/uploads/2025/12/MSDH.jpg
END:VEVENT
BEGIN:VEVENT
DTSTART;TZID=America/Chicago:20260516T100000
DTEND;TZID=America/Chicago:20260516T100000
DTSTAMP:20260423T232110
CREATED:20260423T180327Z
LAST-MODIFIED:20260423T180522Z
UID:10002474-1778925600-1778925600@www.faams.org
SUMMARY:Gulf Coast Sibshop
DESCRIPTION:Gulf Coast Sibshop \nGulf Coast Sibshop invites siblings of children with different abilities to a fun\, supportive event designed just for them. This interactive session gives kids a chance to connect with peers who understand their experiences\, share feelings in a safe space\, build confidence through engaging activities\, and celebrate what makes them unique. Hosted by Embrace Abilities and Happy Coast Families\, this Sibshop creates a welcoming environment for learning\, friendship\, and encouragement. \nThe event will take place on May 16\, 2026\, from 10 a.m. to 1 p.m. at The Arc. Families can register using the QR code provided. All siblings are welcome to join this uplifting and empowering experience.
URL:https://www.faams.org/event/gulf-coast-sibshop/
CATEGORIES:Event
ATTACH;FMTTYPE=image/jpeg:https://www.faams.org/wp-content/uploads/2026/04/673878521_122253336770259353_7181625813556147305_n.jpg
END:VEVENT
END:VCALENDAR