BEGIN:VCALENDAR
VERSION:2.0
PRODID:-//Families as Allies - ECPv6.15.20//NONSGML v1.0//EN
CALSCALE:GREGORIAN
METHOD:PUBLISH
X-WR-CALNAME:Families as Allies
X-ORIGINAL-URL:https://www.faams.org
X-WR-CALDESC:Events for Families as Allies
REFRESH-INTERVAL;VALUE=DURATION:PT1H
X-Robots-Tag:noindex
X-PUBLISHED-TTL:PT1H
BEGIN:VTIMEZONE
TZID:America/Chicago
BEGIN:DAYLIGHT
TZOFFSETFROM:-0600
TZOFFSETTO:-0500
TZNAME:CDT
DTSTART:20250309T080000
END:DAYLIGHT
BEGIN:STANDARD
TZOFFSETFROM:-0500
TZOFFSETTO:-0600
TZNAME:CST
DTSTART:20251102T070000
END:STANDARD
BEGIN:DAYLIGHT
TZOFFSETFROM:-0600
TZOFFSETTO:-0500
TZNAME:CDT
DTSTART:20260308T080000
END:DAYLIGHT
BEGIN:STANDARD
TZOFFSETFROM:-0500
TZOFFSETTO:-0600
TZNAME:CST
DTSTART:20261101T070000
END:STANDARD
BEGIN:DAYLIGHT
TZOFFSETFROM:-0600
TZOFFSETTO:-0500
TZNAME:CDT
DTSTART:20270314T080000
END:DAYLIGHT
BEGIN:STANDARD
TZOFFSETFROM:-0500
TZOFFSETTO:-0600
TZNAME:CST
DTSTART:20271107T070000
END:STANDARD
END:VTIMEZONE
BEGIN:VEVENT
DTSTART;TZID=America/Chicago:20260311T120000
DTEND;TZID=America/Chicago:20260311T130000
DTSTAMP:20260421T111910
CREATED:20250930T163539Z
LAST-MODIFIED:20250930T163539Z
UID:10002374-1773230400-1773234000@www.faams.org
SUMMARY:Supportive Coaching for Parents Supporting Other Parents
DESCRIPTION:For any parents supporting other parents in any system. Parent peer support specialists\, parent consultants\, parent educators\, and parents who have completed parent peer support training are strongly encouraged to attend. We will discuss current trends in parent peer support\, national standards for parent peer support\, continuing education opportunities\, and local and state issues affecting parent peer support. The group also provides support and coaching for any specific issues participants share. Meetings are held on the second Wednesday of each month at 12:00 p.m. We ask that anyone attending respect the confidentiality of the group. \nRegister here >>
URL:https://www.faams.org/event/supportive-coaching-for-parents-supporting-other-parents-61/
CATEGORIES:Meeting
ATTACH;FMTTYPE=image/jpeg:https://www.faams.org/wp-content/uploads/2021/04/lucas-law-ecELcxmJTk4-unsplash.jpg
END:VEVENT
BEGIN:VEVENT
DTSTART;TZID=America/Chicago:20260312T130000
DTEND;TZID=America/Chicago:20260312T140000
DTSTAMP:20260421T111910
CREATED:20260212T191820Z
LAST-MODIFIED:20260212T191820Z
UID:10002461-1773320400-1773324000@www.faams.org
SUMMARY:Becoming a MHFA Instructor
DESCRIPTION:National Council for Mental Wellbeing \nJoin this hour-long webinar to learn more about becoming a Mental Health First Aid (MHFA) Instructor. During the webinar we’ll discuss: -What to expect from a MHFA class. -The role of a MHFA Instructor. -An overview of our Instructor certification process. Become a MHFA Instructor and empower your community to tackle mental health and substance use challenges head-on with an evidence-based\, nationally recognized program. \nRegister here>>
URL:https://www.faams.org/event/becoming-a-mhfa-instructor-2/
CATEGORIES:Webinar
ATTACH;FMTTYPE=image/png:https://www.faams.org/wp-content/uploads/2026/02/Mental-Health-First-Aid.png
END:VEVENT
END:VCALENDAR