BEGIN:VCALENDAR
VERSION:2.0
PRODID:-//Families as Allies - ECPv6.15.20//NONSGML v1.0//EN
CALSCALE:GREGORIAN
METHOD:PUBLISH
X-WR-CALNAME:Families as Allies
X-ORIGINAL-URL:https://www.faams.org
X-WR-CALDESC:Events for Families as Allies
REFRESH-INTERVAL;VALUE=DURATION:PT1H
X-Robots-Tag:noindex
X-PUBLISHED-TTL:PT1H
BEGIN:VTIMEZONE
TZID:America/Chicago
BEGIN:DAYLIGHT
TZOFFSETFROM:-0600
TZOFFSETTO:-0500
TZNAME:CDT
DTSTART:20250309T080000
END:DAYLIGHT
BEGIN:STANDARD
TZOFFSETFROM:-0500
TZOFFSETTO:-0600
TZNAME:CST
DTSTART:20251102T070000
END:STANDARD
BEGIN:DAYLIGHT
TZOFFSETFROM:-0600
TZOFFSETTO:-0500
TZNAME:CDT
DTSTART:20260308T080000
END:DAYLIGHT
BEGIN:STANDARD
TZOFFSETFROM:-0500
TZOFFSETTO:-0600
TZNAME:CST
DTSTART:20261101T070000
END:STANDARD
BEGIN:DAYLIGHT
TZOFFSETFROM:-0600
TZOFFSETTO:-0500
TZNAME:CDT
DTSTART:20270314T080000
END:DAYLIGHT
BEGIN:STANDARD
TZOFFSETFROM:-0500
TZOFFSETTO:-0600
TZNAME:CST
DTSTART:20271107T070000
END:STANDARD
END:VTIMEZONE
BEGIN:VEVENT
DTSTART;TZID=America/Chicago:20260224T110000
DTEND;TZID=America/Chicago:20260224T120000
DTSTAMP:20260421T111831
CREATED:20260212T025450Z
LAST-MODIFIED:20260212T025925Z
UID:10002458-1771930800-1771934400@www.faams.org
SUMMARY:Pyramid Practice Lunch & Learn
DESCRIPTION:Innovations Institute \nJoin Innovations Institute’s Parent\, Infant\, and Early Childhood (PIEC) team for their monthly Pyramid Practice Lunch & Learn. February’s session will offer concrete strategies to establish and support the UNIVERSAL Tier 1 Pyramid Model strategies. \nRegister here>>
URL:https://www.faams.org/event/pyramid-practice-lunch-learn/
CATEGORIES:Event
ATTACH;FMTTYPE=image/jpeg:https://www.faams.org/wp-content/uploads/2026/02/022426.jpg
END:VEVENT
BEGIN:VEVENT
DTSTART;TZID=America/Chicago:20260225T120000
DTEND;TZID=America/Chicago:20260225T120000
DTSTAMP:20260421T111831
CREATED:20251216T191202Z
LAST-MODIFIED:20251216T191354Z
UID:10002428-1772020800-1772020800@www.faams.org
SUMMARY:Leadership Coaching and Policy Discussion
DESCRIPTION:Families as Allies \nThis group focuses on understanding current policy issues and also opportunities for leadership training graduates to serve on decision-making committees. Leadership training graduates are strongly encouraged to attend\, but the meetings are open to anyone who is interested in learning more about policy. \nRegister here>>
URL:https://www.faams.org/event/leadership-coaching-and-policy-discussion-34/
CATEGORIES:Event
ATTACH;FMTTYPE=image/png:https://www.faams.org/wp-content/uploads/2025/01/Leadership-Coaching-and-Policy-Discussion.png
END:VEVENT
END:VCALENDAR