BEGIN:VCALENDAR
VERSION:2.0
PRODID:-//Families as Allies - ECPv6.15.20//NONSGML v1.0//EN
CALSCALE:GREGORIAN
METHOD:PUBLISH
X-WR-CALNAME:Families as Allies
X-ORIGINAL-URL:https://www.faams.org
X-WR-CALDESC:Events for Families as Allies
REFRESH-INTERVAL;VALUE=DURATION:PT1H
X-Robots-Tag:noindex
X-PUBLISHED-TTL:PT1H
BEGIN:VTIMEZONE
TZID:America/Chicago
BEGIN:DAYLIGHT
TZOFFSETFROM:-0600
TZOFFSETTO:-0500
TZNAME:CDT
DTSTART:20200308T080000
END:DAYLIGHT
BEGIN:STANDARD
TZOFFSETFROM:-0500
TZOFFSETTO:-0600
TZNAME:CST
DTSTART:20201101T070000
END:STANDARD
BEGIN:DAYLIGHT
TZOFFSETFROM:-0600
TZOFFSETTO:-0500
TZNAME:CDT
DTSTART:20210314T080000
END:DAYLIGHT
BEGIN:STANDARD
TZOFFSETFROM:-0500
TZOFFSETTO:-0600
TZNAME:CST
DTSTART:20211107T070000
END:STANDARD
BEGIN:DAYLIGHT
TZOFFSETFROM:-0600
TZOFFSETTO:-0500
TZNAME:CDT
DTSTART:20220313T080000
END:DAYLIGHT
BEGIN:STANDARD
TZOFFSETFROM:-0500
TZOFFSETTO:-0600
TZNAME:CST
DTSTART:20221106T070000
END:STANDARD
END:VTIMEZONE
BEGIN:VEVENT
DTSTART;TZID=America/Chicago:20210427T130000
DTEND;TZID=America/Chicago:20210427T143000
DTSTAMP:20260424T194404
CREATED:20210410T213727Z
LAST-MODIFIED:20210410T214743Z
UID:10000885-1619528400-1619533800@www.faams.org
SUMMARY:Education and Mental Health During COVID-19: How are the Children and Caregivers Doing\, Really?
DESCRIPTION:SAMHSA-sponsored webinars presented by the National Federation of Families\nA Two-Part Webinar Series Discussing the Effects of COVID 19 From the Family Perspective \nOver the past year\, COVID 19 dramatically transformed every aspect of family life as stay-at-home orders went into effect nationwide. In January 2021\, the National Federation of Families conducted a national survey to learn from families regarding the effects of COVID 19 related to their children’s education and both their children and their family’s mental health. Receiving over 1100 responses from families in every state and the District of Columbia\, NFF has compiled this data to create an infographic that offers a comprehensive look at the struggles our families face with both virtual education and behavioral health. Challenges range from balancing school and work\, meeting students’ special education needs\, and accessing needed behavioral health services. Both quantitative and qualitative data were collected\, and these results will serve as the catalyst for the discussions in each webinar. \nThis topic will be presented as a two-part series. The first will present the data and define the challenges from the family perspective. We will discuss the data findings and delve into the rich\, anecdotal information. The second will address the implications for both schools and behavioral health providers. How do schools gear up to support the mental health needs of students with resources that are equitable to those earmarked for physical health issues? How do behavioral health providers meet the needs of families and attempt to mitigate the effects of the pandemic? Equally important is how these two groups partner to ensure that both children and families are receiving the support they need. \nThese two interactive roundtable events will include ample opportunities for questions from participants. By the end of these discussions\, it is anticipated that participants will be able to: \n• Understand the challenges that families have faced during the pandemic\n• Articulate the importance of supporting both mental and physical health needs as students return to in-person learning\n• Describe the importance of strong partnership between schools and behavioral health providers \nRegister here>> \n 
URL:https://www.faams.org/event/how-do-i-know-if-my-child-needs-help-and-where-do-i-go-if-they-do-3/
CATEGORIES:Training
ATTACH;FMTTYPE=image/png:https://www.faams.org/wp-content/uploads/2021/04/Screen-Shot-2021-04-10-at-4.36.16-PM.png
END:VEVENT
BEGIN:VEVENT
DTSTART;TZID=America/Chicago:20210430T143000
DTEND;TZID=America/Chicago:20210430T160000
DTSTAMP:20260424T194404
CREATED:20210410T214535Z
LAST-MODIFIED:20210410T214535Z
UID:10000887-1619793000-1619798400@www.faams.org
SUMMARY:Education and Mental Health During COVID-19: How are the Children and Caregivers Doing\, Really?
DESCRIPTION:SAMHSA-sponsored webinars presented by the National Federation of Families\nDiscussing the Effects of COVID 19 from the Family Perspective – Part Two \nOver the past year\, COVID 19 dramatically transformed every aspect of family life as stay-at-home orders went into effect nationwide. In January 2021\, the National Federation of Families (NFF) conducted a national survey to learn from families regarding the effects of COVID 19 related to their children’s education and both their children and their family’s mental health. Receiving over 1100 responses from families in every state and the District of Columbia\, NFF has compiled this data to create an infographic that offers a comprehensive look at the struggles our families face with both virtual education and behavioral health. Challenges range from balancing school and work\, meeting students’ special education needs\, and accessing needed behavioral health services. Both quantitative and qualitative data were collected\, and these results will serve as the catalyst for the discussions in each webinar. \nThis topic will be presented as a two-part series. The first will present the data and define the challenges from the family perspective. We will discuss the data findings and delve into the rich\, anecdotal information. Part 2 will address the implications for both schools and behavioral health providers. How do schools gear up to support the mental health needs of students with resources that are equitable to those earmarked for physical health issues? How do behavioral health providers meet the needs of families and attempt to mitigate the effects of the pandemic? Equally important is how these two groups partner to ensure that both children and families are receiving the support they need. \nBy the end of these discussions\, it is anticipated that participants will be able to:\n· Understand the challenges that families have faced during the pandemic\n· Articulate the importance of supporting both mental and physical health needs as students return to in-person learning\n· Describe the importance of strong partnership between schools and behavioral health providers \nPresenters\n· Sharon A. Hoover\, Ph.D. – A licensed clinical psychologist and Professor at the University of Maryland School of Medicine\, Division of Child and Adolescent Psychiatry\, Co-Director of the National Center for School Mental Health and Director of the Center for Safe Supportive Schools (CS3)\n· Melinda Baldwin\, Ph.D. – Chief of the Child\, Adolescent\, & Family Branch in the Center for Mental Health Services at SAMHSA \nFacilitator\n· Lynda Gargan\, Ph.D. – Executive Director\, National Federation of Families \nRegister here>> \n 
URL:https://www.faams.org/event/discussing-the-effects-of-covid-19-from-the-family-perspective/
CATEGORIES:Training
ATTACH;FMTTYPE=image/png:https://www.faams.org/wp-content/uploads/2021/04/Screen-Shot-2021-04-10-at-4.36.16-PM.png
END:VEVENT
BEGIN:VEVENT
DTSTART;TZID=America/Chicago:20210504T140000
DTEND;TZID=America/Chicago:20210504T140000
DTSTAMP:20260424T194404
CREATED:20210426T154833Z
LAST-MODIFIED:20210426T155343Z
UID:10001117-1620136800-1620136800@www.faams.org
SUMMARY:Children's Mental Health Awareness Week - Flip the Script Live!
DESCRIPTION:On May 4th\, Tuesday of Children’s Mental Health Awareness Week\, at 2:00 p.m. ET\, the National Federation of Families will host a live “fireside chat” style event during which a small group of leaders from national organizations focused on children’s and youth mental health will share their thoughts on this year’s theme “Flip the Script on Mental Health” and how it applies to their work. You can learn more about the theme here. Visit this page again for updates about the event – coming soon! \nWe’re excited to announce our panel of presenters. Each will share their thoughts on how we can Flip the Script on Mental Health to build acceptance and improve the lives of the children\, youth\, and families they serve.\nModerator: \n​Lynda Gargan\, Ph.D.\nExecutive Director\, National Federation of Families\nPrincipal Investigator\, National Family Support Technical Assistance Center \n​Panel Presenters: \n​Joshua Boynton\nNational Expert\, National Federation of Families Board Member \n​Marlene Matarese\nDeputy Director\, Institute for Innovation and Implementation\, Principal Investigator\, Center for Excellence on LGBTQ+ Behavioral Health Equity\, National Quality Improvement Center for LGBTQ2S Youth In Foster Care\, National Quality Improvement Center on Family Centered Reunification\, and Clinical Associate Professor\, University of Maryland\, Baltimore School of Social Work \n​David Miller\nProject Director\, National Association of State Mental Health Program Directors (NASMHPD) \n​Jennifer Rothman\nNational Youth Programs\, Senior Manager\, Youth/Young Adult Initiatives\, Information\, Support & Education\, National Alliance on Mental Illness (NAMI) \n​Dawn Tyus\nDirector/ Principal Investigator: Southeast Addiction Technology Transfer Center\, Principal Investigator: African American Behavioral Health Center of Excellence \nRegister here>>
URL:https://www.faams.org/event/childrens-mental-health-awareness-week-flip-the-script-live/
CATEGORIES:Training
ATTACH;FMTTYPE=image/png:https://www.faams.org/wp-content/uploads/2021/04/Screen-Shot-2021-04-26-at-10.44.31-AM.png
END:VEVENT
END:VCALENDAR