BEGIN:VCALENDAR
VERSION:2.0
PRODID:-//Families as Allies - ECPv6.15.20//NONSGML v1.0//EN
CALSCALE:GREGORIAN
METHOD:PUBLISH
X-ORIGINAL-URL:https://www.faams.org
X-WR-CALDESC:Events for Families as Allies
REFRESH-INTERVAL;VALUE=DURATION:PT1H
X-Robots-Tag:noindex
X-PUBLISHED-TTL:PT1H
BEGIN:VTIMEZONE
TZID:America/Chicago
BEGIN:DAYLIGHT
TZOFFSETFROM:-0600
TZOFFSETTO:-0500
TZNAME:CDT
DTSTART:20200308T080000
END:DAYLIGHT
BEGIN:STANDARD
TZOFFSETFROM:-0500
TZOFFSETTO:-0600
TZNAME:CST
DTSTART:20201101T070000
END:STANDARD
BEGIN:DAYLIGHT
TZOFFSETFROM:-0600
TZOFFSETTO:-0500
TZNAME:CDT
DTSTART:20210314T080000
END:DAYLIGHT
BEGIN:STANDARD
TZOFFSETFROM:-0500
TZOFFSETTO:-0600
TZNAME:CST
DTSTART:20211107T070000
END:STANDARD
BEGIN:DAYLIGHT
TZOFFSETFROM:-0600
TZOFFSETTO:-0500
TZNAME:CDT
DTSTART:20220313T080000
END:DAYLIGHT
BEGIN:STANDARD
TZOFFSETFROM:-0500
TZOFFSETTO:-0600
TZNAME:CST
DTSTART:20221106T070000
END:STANDARD
BEGIN:DAYLIGHT
TZOFFSETFROM:-0600
TZOFFSETTO:-0500
TZNAME:CDT
DTSTART:20230312T080000
END:DAYLIGHT
BEGIN:STANDARD
TZOFFSETFROM:-0500
TZOFFSETTO:-0600
TZNAME:CST
DTSTART:20231105T070000
END:STANDARD
BEGIN:DAYLIGHT
TZOFFSETFROM:-0600
TZOFFSETTO:-0500
TZNAME:CDT
DTSTART:20240310T080000
END:DAYLIGHT
BEGIN:STANDARD
TZOFFSETFROM:-0500
TZOFFSETTO:-0600
TZNAME:CST
DTSTART:20241103T070000
END:STANDARD
END:VTIMEZONE
BEGIN:VEVENT
DTSTART;TZID=America/Chicago:20210617T090000
DTEND;TZID=America/Chicago:20210617T163000
DTSTAMP:20260422T144240
CREATED:20210427T231632Z
LAST-MODIFIED:20210427T231632Z
UID:10001125-1623920400-1623947400@www.faams.org
SUMMARY:2021 Virtual Mississippi Disability Megaconference
DESCRIPTION:Due to COVID-19\, the MegaConference will be held virtually. Four outstanding speakers will inspire and inform you. The first session will begin at 9:00 a.m.\, with sign-in beginning at 8:30 a.m. You may attend one\, two\, three\, or all sessions. We hope you will participate from your home or office! \n\nOutstanding speakers include:\n– Gabe Adams\, Motivational Speaker and Featured on the “Born Different” Video Series\n– Thomas Dobbs\, MD\, MPH\, State Health Officer\, Mississippi State Department of Health\n– Julio Cespedes\, Director of Telehealth Innovation\, Program Design\, and Implementation\, University of Mississippi Medical Center\n– Rachel Daniels\, LCSW\, Owner\, Consulting and Counseling with Rachel\n\n\n\nCEUs for Teachers Only. Registration Is Free!\n\n\nRegister here>>\n 
URL:https://www.faams.org/event/2021-virtual-mississippi-disability-megaconference/
CATEGORIES:Conference
ATTACH;FMTTYPE=image/jpeg:https://www.faams.org/wp-content/uploads/2021/04/Megaconference-logo.jpg
END:VEVENT
BEGIN:VEVENT
DTSTART;TZID=America/Chicago:20220616T073000
DTEND;TZID=America/Chicago:20220617T170000
DTSTAMP:20260422T144240
CREATED:20220504T122954Z
LAST-MODIFIED:20220504T123032Z
UID:10001397-1655364600-1655485200@www.faams.org
SUMMARY:2022 Mississippi disAbility MegaConference
DESCRIPTION:The Mississippi disAbility MegaConference is Mississippi’s largest cross-disability conference for people with disabilities\, families\, students\, and professionals.  \nPresenters\, sponsors\, and exhibitors will share the latest information and innovations on many topics. \nCome meet people and make new friends!  \nContinuing education credits are offered in several areas.   \n(A Pre-Conference Evening Event will be held on June 15)   \nRegister here >>
URL:https://www.faams.org/event/2022-mississippi-disability-megaconference/
CATEGORIES:Conference
ATTACH;FMTTYPE=image/jpeg:https://www.faams.org/wp-content/uploads/2021/04/Megaconference-logo.jpg
END:VEVENT
BEGIN:VEVENT
DTSTART;VALUE=DATE:20230606
DTEND;VALUE=DATE:20230608
DTSTAMP:20260422T144240
CREATED:20230412T211014Z
LAST-MODIFIED:20240206T161416Z
UID:10001235-1686009600-1686182399@www.faams.org
SUMMARY:2023 Mississippi disAbility MegaConference
DESCRIPTION:The Mississippi disAbility MegaConference is Mississippi’s largest cross-disability conference for people with disabilities\, families\, students\, and professionals.  \nPresenters\, sponsors\, and exhibitors will share the latest information and innovations on many topics. \nCome meet people and make new friends!  \nContinuing Education – Applying for DMH Credentials and Education (No SWU this year)  \nGame Night will be June 5 from 5:30 – 7:30 p.m. in the Cabana Room. \nRegistration Fee\nParent or Person with a Disability – $50\nStudent (register using school email address) – $35\nProfessional – $175 \nRegister here >>
URL:https://www.faams.org/event/2023-mississippi-disability-megaconference/
LOCATION:Hilton Jackson\, 1001 E County Line Rd\, Jackson\, MS\, 39211\, United States
CATEGORIES:Conference
ATTACH;FMTTYPE=image/jpeg:https://www.faams.org/wp-content/uploads/2021/04/Megaconference-logo.jpg
END:VEVENT
END:VCALENDAR