BEGIN:VCALENDAR
VERSION:2.0
PRODID:-//Families as Allies - ECPv6.15.20//NONSGML v1.0//EN
CALSCALE:GREGORIAN
METHOD:PUBLISH
X-ORIGINAL-URL:https://www.faams.org
X-WR-CALDESC:Events for Families as Allies
REFRESH-INTERVAL;VALUE=DURATION:PT1H
X-Robots-Tag:noindex
X-PUBLISHED-TTL:PT1H
BEGIN:VTIMEZONE
TZID:America/Chicago
BEGIN:DAYLIGHT
TZOFFSETFROM:-0600
TZOFFSETTO:-0500
TZNAME:CDT
DTSTART:20250309T080000
END:DAYLIGHT
BEGIN:STANDARD
TZOFFSETFROM:-0500
TZOFFSETTO:-0600
TZNAME:CST
DTSTART:20251102T070000
END:STANDARD
BEGIN:DAYLIGHT
TZOFFSETFROM:-0600
TZOFFSETTO:-0500
TZNAME:CDT
DTSTART:20260308T080000
END:DAYLIGHT
BEGIN:STANDARD
TZOFFSETFROM:-0500
TZOFFSETTO:-0600
TZNAME:CST
DTSTART:20261101T070000
END:STANDARD
BEGIN:DAYLIGHT
TZOFFSETFROM:-0600
TZOFFSETTO:-0500
TZNAME:CDT
DTSTART:20270314T080000
END:DAYLIGHT
BEGIN:STANDARD
TZOFFSETFROM:-0500
TZOFFSETTO:-0600
TZNAME:CST
DTSTART:20271107T070000
END:STANDARD
BEGIN:DAYLIGHT
TZOFFSETFROM:-0600
TZOFFSETTO:-0500
TZNAME:CDT
DTSTART:20280312T080000
END:DAYLIGHT
BEGIN:STANDARD
TZOFFSETFROM:-0500
TZOFFSETTO:-0600
TZNAME:CST
DTSTART:20281105T070000
END:STANDARD
END:VTIMEZONE
BEGIN:VEVENT
DTSTART;TZID=America/Chicago:20261120T130000
DTEND;TZID=America/Chicago:20261120T130000
DTSTAMP:20260421T200954
CREATED:20251216T204142Z
LAST-MODIFIED:20251216T204142Z
UID:10002447-1795179600-1795179600@www.faams.org
SUMMARY:Emergency Medical Services Advisory Council (EMSAC)
DESCRIPTION:Mississippi Department of Health \nThe Emergency Medical Services Advisory Council (EMSAC) will hold a public hearing on proposed changes to the Department of Health. \nMeeting Date: Friday\, November 20\, 2026\nMeeting Time: 1:00 pm\nMeeting Location: In-person location and Zoom link TBA \nIf you have any questions related to the public hearing\, please get in touch with Teresa Windham by phone at 662-316-5727 or email teresa.windham@msdh.ms.gov
URL:https://www.faams.org/event/emergency-medical-services-advisory-council-emsac-4/
CATEGORIES:Meeting
ATTACH;FMTTYPE=image/jpeg:https://www.faams.org/wp-content/uploads/2025/12/MSDH.jpg
END:VEVENT
BEGIN:VEVENT
DTSTART;TZID=America/Chicago:20261125T120000
DTEND;TZID=America/Chicago:20261125T120000
DTSTAMP:20260421T200954
CREATED:20251216T201007Z
LAST-MODIFIED:20251216T201007Z
UID:10002442-1795608000-1795608000@www.faams.org
SUMMARY:Leadership Coaching and Policy Discussion
DESCRIPTION:Families as Allies \nThis group focuses on understanding current policy issues and also opportunities for leadership training graduates to serve on decision-making committees. Leadership training graduates are strongly encouraged to attend\, but the meetings are open to anyone who is interested in learning more about policy. \nRegister here>>
URL:https://www.faams.org/event/leadership-coaching-and-policy-discussion-43/
CATEGORIES:Event
ATTACH;FMTTYPE=image/png:https://www.faams.org/wp-content/uploads/2025/01/Leadership-Coaching-and-Policy-Discussion.png
END:VEVENT
BEGIN:VEVENT
DTSTART;TZID=America/Chicago:20261209T120000
DTEND;TZID=America/Chicago:20261209T130000
DTSTAMP:20260421T200954
CREATED:20251212T211004Z
LAST-MODIFIED:20251212T211004Z
UID:10002424-1796817600-1796821200@www.faams.org
SUMMARY:Supportive Coaching for Parents Supporting Other Parents
DESCRIPTION:For any parents supporting other parents in any system. Parent peer support specialists\, parent consultants\, parent educators\, and parents who have completed parent peer support training are strongly encouraged to attend. We will discuss current trends in parent peer support\, national standards for parent peer support\, continuing education opportunities\, and local and state issues affecting parent peer support. The group also provides support and coaching for any specific issues participants share. Meetings are held on the second Wednesday of each month at 12:00 p.m. We ask that anyone attending respect the confidentiality of the group. \nRegister here >>
URL:https://www.faams.org/event/supportive-coaching-for-parents-supporting-other-parents-70/
CATEGORIES:Meeting
ATTACH;FMTTYPE=image/jpeg:https://www.faams.org/wp-content/uploads/2021/04/lucas-law-ecELcxmJTk4-unsplash.jpg
END:VEVENT
BEGIN:VEVENT
DTSTART;TZID=America/Chicago:20261223T120000
DTEND;TZID=America/Chicago:20261223T120000
DTSTAMP:20260421T200954
CREATED:20251216T201114Z
LAST-MODIFIED:20251216T201114Z
UID:10002443-1798027200-1798027200@www.faams.org
SUMMARY:Leadership Coaching and Policy Discussion
DESCRIPTION:Families as Allies \nThis group focuses on understanding current policy issues and also opportunities for leadership training graduates to serve on decision-making committees. Leadership training graduates are strongly encouraged to attend\, but the meetings are open to anyone who is interested in learning more about policy. \nRegister here>>
URL:https://www.faams.org/event/leadership-coaching-and-policy-discussion-44/
CATEGORIES:Event
ATTACH;FMTTYPE=image/png:https://www.faams.org/wp-content/uploads/2025/01/Leadership-Coaching-and-Policy-Discussion.png
END:VEVENT
BEGIN:VEVENT
DTSTART;TZID=America/Chicago:20270121T183000
DTEND;TZID=America/Chicago:20270121T193000
DTSTAMP:20260421T200954
CREATED:20251211T033109Z
LAST-MODIFIED:20251211T033109Z
UID:10002408-1800556200-1800559800@www.faams.org
SUMMARY:Families as Allies Board Quarterly Board Meeting
DESCRIPTION:Quarterly board meeting of the board of Families as Allies. All meetings are open to the public and include time for public comments. Public comments can also be emailed to info@faams.org or faxed to 601-355-0919. \n\n\n\nRegister here >>
URL:https://www.faams.org/event/families-as-allies-board-quarterly-board-meeting-20/
CATEGORIES:Families as Allies meeting
ATTACH;FMTTYPE=image/jpeg:https://www.faams.org/wp-content/uploads/2022/04/272825917_5130348763656248_3367918031541469050_n.jpg
END:VEVENT
BEGIN:VEVENT
DTSTART;TZID=America/Chicago:20270415T183000
DTEND;TZID=America/Chicago:20270415T193000
DTSTAMP:20260421T200954
CREATED:20251211T033500Z
LAST-MODIFIED:20251211T033500Z
UID:10002410-1807813800-1807817400@www.faams.org
SUMMARY:Families as Allies Board Quarterly Board Meeting
DESCRIPTION:Quarterly board meeting of the board of Families as Allies. All meetings are open to the public and include time for public comments. Public comments can also be emailed to info@faams.org or faxed to 601-355-0919. \n\n\n\nRegister here >>
URL:https://www.faams.org/event/families-as-allies-board-quarterly-board-meeting-21/
CATEGORIES:Families as Allies meeting
ATTACH;FMTTYPE=image/jpeg:https://www.faams.org/wp-content/uploads/2022/04/272825917_5130348763656248_3367918031541469050_n.jpg
END:VEVENT
BEGIN:VEVENT
DTSTART;TZID=America/Chicago:20270715T183000
DTEND;TZID=America/Chicago:20270715T193000
DTSTAMP:20260421T200954
CREATED:20251211T033650Z
LAST-MODIFIED:20251211T033650Z
UID:10002411-1815676200-1815679800@www.faams.org
SUMMARY:Families as Allies Board Quarterly Board Meeting
DESCRIPTION:Quarterly board meeting of the board of Families as Allies. All meetings are open to the public and include time for public comments. Public comments can also be emailed to info@faams.org or faxed to 601-355-0919. \n\n\n\nRegister here >>
URL:https://www.faams.org/event/families-as-allies-board-quarterly-board-meeting-22/
CATEGORIES:Families as Allies meeting
ATTACH;FMTTYPE=image/jpeg:https://www.faams.org/wp-content/uploads/2022/04/272825917_5130348763656248_3367918031541469050_n.jpg
END:VEVENT
BEGIN:VEVENT
DTSTART;TZID=America/Chicago:20271021T183000
DTEND;TZID=America/Chicago:20271021T193000
DTSTAMP:20260421T200954
CREATED:20251211T033931Z
LAST-MODIFIED:20251211T033931Z
UID:10002412-1824143400-1824147000@www.faams.org
SUMMARY:Families as Allies Board Quarterly Board Meeting
DESCRIPTION:Quarterly board meeting of the board of Families as Allies. All meetings are open to the public and include time for public comments. Public comments can also be emailed to info@faams.org or faxed to 601-355-0919. \n\n\n\nRegister here >>
URL:https://www.faams.org/event/families-as-allies-board-quarterly-board-meeting-23/
CATEGORIES:Families as Allies meeting
ATTACH;FMTTYPE=image/jpeg:https://www.faams.org/wp-content/uploads/2022/04/272825917_5130348763656248_3367918031541469050_n.jpg
END:VEVENT
END:VCALENDAR