BEGIN:VCALENDAR
VERSION:2.0
PRODID:-//Families as Allies - ECPv6.15.20//NONSGML v1.0//EN
CALSCALE:GREGORIAN
METHOD:PUBLISH
X-WR-CALNAME:Families as Allies
X-ORIGINAL-URL:https://www.faams.org
X-WR-CALDESC:Events for Families as Allies
REFRESH-INTERVAL;VALUE=DURATION:PT1H
X-Robots-Tag:noindex
X-PUBLISHED-TTL:PT1H
BEGIN:VTIMEZONE
TZID:America/Chicago
BEGIN:DAYLIGHT
TZOFFSETFROM:-0600
TZOFFSETTO:-0500
TZNAME:CDT
DTSTART:20240310T080000
END:DAYLIGHT
BEGIN:STANDARD
TZOFFSETFROM:-0500
TZOFFSETTO:-0600
TZNAME:CST
DTSTART:20241103T070000
END:STANDARD
BEGIN:DAYLIGHT
TZOFFSETFROM:-0600
TZOFFSETTO:-0500
TZNAME:CDT
DTSTART:20250309T080000
END:DAYLIGHT
BEGIN:STANDARD
TZOFFSETFROM:-0500
TZOFFSETTO:-0600
TZNAME:CST
DTSTART:20251102T070000
END:STANDARD
BEGIN:DAYLIGHT
TZOFFSETFROM:-0600
TZOFFSETTO:-0500
TZNAME:CDT
DTSTART:20260308T080000
END:DAYLIGHT
BEGIN:STANDARD
TZOFFSETFROM:-0500
TZOFFSETTO:-0600
TZNAME:CST
DTSTART:20261101T070000
END:STANDARD
END:VTIMEZONE
BEGIN:VEVENT
DTSTART;TZID=America/Chicago:20250428T110000
DTEND;TZID=America/Chicago:20250428T113000
DTSTAMP:20260423T035605
CREATED:20250421T174823Z
LAST-MODIFIED:20250421T174904Z
UID:10002215-1745838000-1745839800@www.faams.org
SUMMARY:Keys to Building Effective Communication Skills
DESCRIPTION:Mississippi Parent Training & Information Center Project \nEffective communication is essential for creating meaningful relationships\, reaching common goals\, and navigating conflicts – whether in personal life or the workplace. It includes expressing ideas clearly\, listening attentively\, and picking up on nonverbal signals. When people develop effective communication skills\, they build trust\, empathy\, and teamwork\, which positively impact many areas of life. Join us as we explore these invaluable life skills. \nRegister here>>
URL:https://www.faams.org/event/keys-to-building-effective-communication-skills/
CATEGORIES:Event
ATTACH;FMTTYPE=image/png:https://www.faams.org/wp-content/uploads/2025/04/042825-Keys-to-building-effective-communication-skills.png
END:VEVENT
BEGIN:VEVENT
DTSTART;TZID=America/Chicago:20250428T100000
DTEND;TZID=America/Chicago:20250428T180000
DTSTAMP:20260423T035605
CREATED:20250404T232201Z
LAST-MODIFIED:20250404T232313Z
UID:10002194-1745834400-1745863200@www.faams.org
SUMMARY:Autism Screening Day
DESCRIPTION:MS LIFT \nJoin us for MECIC Statewide Autism Screening Day\, a free event offering screenings for children aged 5 and under. Families across Mississippi can access expert evaluations to support early childhood development. \nTake advantage of this opportunity to support your child’s growth and development. Early detection can make a difference! \nCall to schedule an appointment: 601-266-4745 \n 
URL:https://www.faams.org/event/autism-screening-day-2/
CATEGORIES:Event
ATTACH;FMTTYPE=image/jpeg:https://www.faams.org/wp-content/uploads/2025/04/042825-Autism-Screening.jpg
END:VEVENT
BEGIN:VEVENT
DTSTART;TZID=America/Chicago:20250427T143000
DTEND;TZID=America/Chicago:20250427T160000
DTSTAMP:20260423T035605
CREATED:20250418T231653Z
LAST-MODIFIED:20250418T231736Z
UID:10002209-1745764200-1745769600@www.faams.org
SUMMARY:Walk a Mile in Her Shoes
DESCRIPTION:Butterflies By Grace Defined By Faith \nApril is National Sexual Assault Awareness Month. Join BBGDF by participate in a one-mile walk to raise awareness around the issues of rape\, sexual assault and gender violence.  \nThe goal of this march is to empower men to join the efforts of women by literally walking in their shoes. We aim to make our communities safe places for all and to provide an opportunity for communities to discuss these important issues. We want our clergy community\, churches\, coaches\, political members\, first responders\, and all to participate in this year’s walk. \nRegister here>>
URL:https://www.faams.org/event/walk-a-mile-in-her-shoes/
CATEGORIES:Event
ATTACH;FMTTYPE=image/png:https://www.faams.org/wp-content/uploads/2025/04/042725-Walk-a-mile-in-her-shoes.png
END:VEVENT
BEGIN:VEVENT
DTSTART;TZID=America/Chicago:20250426T110000
DTEND;TZID=America/Chicago:20250426T124500
DTSTAMP:20260423T035605
CREATED:20250418T230239Z
LAST-MODIFIED:20250418T230416Z
UID:10002208-1745665200-1745671500@www.faams.org
SUMMARY:Girl Talk: A Purple Talk Table Event
DESCRIPTION:Butterflies By Grace Defined By Faith  \nJoin Butterflies BBGDF for Girl Talk: Purple Table Talk Edition\, an empowering and private space for women to discuss important topics like Pleasure\, Sensual Love\, and Body Shaming. This session is designed to foster conversations about womanhood\, survival\, and healing\, all in a safe and supportive environment. \nOur keynote speaker\, Keiona Cavett\, M.A.\, brings her expertise as an educator\, sex educator\, and community outreach coordinator to guide these meaningful discussions. \nRegister here>>
URL:https://www.faams.org/event/13264/
CATEGORIES:Event
ATTACH;FMTTYPE=image/png:https://www.faams.org/wp-content/uploads/2025/04/042625-Girl-talk.png
END:VEVENT
BEGIN:VEVENT
DTSTART;TZID=America/Chicago:20250426T100000
DTEND;TZID=America/Chicago:20250426T100000
DTSTAMP:20260423T035605
CREATED:20250425T230903Z
LAST-MODIFIED:20250425T231026Z
UID:10002225-1745661600-1745661600@www.faams.org
SUMMARY:End The Cycle Stop Gun Violence
DESCRIPTION:Jackson Police Department \nJoin the Jackson Police Department in taking a stand against gun violence. \nBe a part of the Youth March Against Violence and help end the cycle. Together\, we can raise awareness and promote peace in our community. The march kicks off at 810 Cooper Road Precinct 1 and will conclude at Sykes Park.
URL:https://www.faams.org/event/end-the-cycle-stop-gun-violence/
CATEGORIES:Event
ATTACH;FMTTYPE=image/jpeg:https://www.faams.org/wp-content/uploads/2025/04/042625-Stop-Gun-VIolence.jpg
END:VEVENT
BEGIN:VEVENT
DTSTART;VALUE=DATE:20250426
DTEND;VALUE=DATE:20250427
DTSTAMP:20260423T035605
CREATED:20250419T005927Z
LAST-MODIFIED:20250419T011023Z
UID:10002214-1745625600-1745711999@www.faams.org
SUMMARY:Health and Wellness Fair 2025
DESCRIPTION:Cade Chapel \nJoin Cade Chapel for their Annual Family and Friends Festival and enjoy a day of health screenings\, wellness information and demonstration.
URL:https://www.faams.org/event/health-and-wellness-fair-2025/
CATEGORIES:Event
ATTACH;FMTTYPE=image/jpeg:https://www.faams.org/wp-content/uploads/2025/04/042625-Cade-Chapels-Health-and-Wellness-Fair.jpg
END:VEVENT
BEGIN:VEVENT
DTSTART;TZID=America/Chicago:20250423T120000
DTEND;TZID=America/Chicago:20250423T120000
DTSTAMP:20260423T035605
CREATED:20250123T001348Z
LAST-MODIFIED:20250124T013532Z
UID:10002125-1745409600-1745409600@www.faams.org
SUMMARY:Leadership Coaching and Policy Discussion
DESCRIPTION:Families as Allies \nThis group focuses on understanding current policy issues and also opportunities for leadership training graduates to serve on decision-making committees. Leadership training graduates are strongly encouraged to attend\, but the meetings are open to anyone who is interested in learning more about policy. \nRegister here>>
URL:https://www.faams.org/event/leadership-coaching-and-policy-discussion-26/
CATEGORIES:Event
ATTACH;FMTTYPE=image/png:https://www.faams.org/wp-content/uploads/2025/01/Leadership-Coaching-and-Policy-Discussion.png
END:VEVENT
BEGIN:VEVENT
DTSTART;TZID=America/Chicago:20250422T163000
DTEND;TZID=America/Chicago:20250422T180000
DTSTAMP:20260423T035605
CREATED:20250418T234716Z
LAST-MODIFIED:20250418T235024Z
UID:10002211-1745339400-1745344800@www.faams.org
SUMMARY:Nfusion Metro Picnic
DESCRIPTION: Nfusion Metro \nBring your family and join us for the Nfusion Metro Picnic!  \nThis delightful event promotes family engagement and cost-efficient activities in a welcoming\, green park setting. Unwind with loved ones on picnic blankets\, enjoy tasty treats\, and participate in fun games and activities. \nIt’s the perfect way to create lasting memories while strengthening family bonds. We can’t wait to see you there!
URL:https://www.faams.org/event/nfusion-metro-picnic/
CATEGORIES:Event
ATTACH;FMTTYPE=image/png:https://www.faams.org/wp-content/uploads/2025/04/NFusion-Metro-Picnic-Event-1.png
END:VEVENT
BEGIN:VEVENT
DTSTART;VALUE=DATE:20250422
DTEND;VALUE=DATE:20250426
DTSTAMP:20260423T035605
CREATED:20240815T215843Z
LAST-MODIFIED:20250422T230204Z
UID:10002003-1745280000-1745625599@www.faams.org
SUMMARY:The Behavioral Health Summit
DESCRIPTION:FTC Prevention Services\, LLC \nThis 4-day conference is designed to equip professionals with evidence-based strategies to promote holistic care\, improve outcomes\, and strengthen support systems for mental health\, behavioral health\, and recovery. Whether you’re a clinician\, advocate\, or educator\, this event offers invaluable insights and networking opportunities. \nRegister here>>
URL:https://www.faams.org/event/the-behavioral-health-summit/
CATEGORIES:Event
ATTACH;FMTTYPE=image/png:https://www.faams.org/wp-content/uploads/2024/08/042225-042525-Behavioral-Health-Summit.png
END:VEVENT
BEGIN:VEVENT
DTSTART;TZID=America/Chicago:20250417T183000
DTEND;TZID=America/Chicago:20250417T193000
DTSTAMP:20260423T035605
CREATED:20250416T011627Z
LAST-MODIFIED:20250416T011627Z
UID:10002204-1744914600-1744918200@www.faams.org
SUMMARY:Families as Allies Board Quarterly Board Meeting
DESCRIPTION:Quarterly board meeting of the board of Families as Allies. All meetings are open to the public and include time for public comments. Public comments can also be emailed to info@faams.org or faxed to 601-355-0919. \n\n\n\nRegister here >>
URL:https://www.faams.org/event/families-as-allies-board-quarterly-board-meeting-15/
CATEGORIES:Families as Allies meeting
ATTACH;FMTTYPE=image/jpeg:https://www.faams.org/wp-content/uploads/2022/04/272825917_5130348763656248_3367918031541469050_n.jpg
END:VEVENT
BEGIN:VEVENT
DTSTART;TZID=America/Chicago:20250417T093000
DTEND;TZID=America/Chicago:20250417T120000
DTSTAMP:20260423T035605
CREATED:20250410T031255Z
LAST-MODIFIED:20250410T031255Z
UID:10002200-1744882200-1744891200@www.faams.org
SUMMARY:Easter Eggstravaganza: A Health & Wellness Fair
DESCRIPTION:Larry Summers Career and Technical Center \nJoin us at Larry Summers Career and Technical Center for a fun-filled Health & Wellness Fair focused on inclusivity\, student support\, and healthy living! \nRegister here>>
URL:https://www.faams.org/event/easter-eggstravaganza-a-health-wellness-fair/
CATEGORIES:Event
ATTACH;FMTTYPE=image/jpeg:https://www.faams.org/wp-content/uploads/2025/04/041725-Easter-Eggstravaganza-A-Health-Wellness-Fair.jpg
END:VEVENT
BEGIN:VEVENT
DTSTART;TZID=America/Chicago:20250417T090000
DTEND;TZID=America/Chicago:20250417T090000
DTSTAMP:20260423T035605
CREATED:20240627T174057Z
LAST-MODIFIED:20240627T181344Z
UID:10001941-1744880400-1744880400@www.faams.org
SUMMARY:Board of Mental Health Meeting
DESCRIPTION:Department of Mental Health\n\n\nThe Department of Mental Health Regular  Board meeting will be held Virtually on April 17\, 2025\, at 9:00 am. \nClick here for notice information:\nhttps://www.ms.gov/dfa/pmn/Home/NoticeDetails/991db1c4-6b2f-4279-be01-e239b53d8c90 \n\nMeeting Location\n\n3550 MS 468\nWhitfield MS 39193 \nContact Information\nSuzanne Marler\n6013596260\nSuzanne.marler@dmh.ms.gov
URL:https://www.faams.org/event/board-of-mental-health-meeting-29/
CATEGORIES:Meeting
ATTACH;FMTTYPE=image/png:https://www.faams.org/wp-content/uploads/2023/06/Board-of-Mental-Health-Meeting.png
END:VEVENT
BEGIN:VEVENT
DTSTART;TZID=America/Chicago:20250416T180000
DTEND;TZID=America/Chicago:20250416T200000
DTSTAMP:20260423T035605
CREATED:20250404T223750Z
LAST-MODIFIED:20250404T223750Z
UID:10002191-1744826400-1744833600@www.faams.org
SUMMARY:A Night of Storytelling
DESCRIPTION:Springboard To Opportunities\n\n\nJoin Springboard to Opportunities for an inspiring Night of Storytelling. A virtual option is available! \nThe evening will feature powerful stories from Springboard mothers and an engaging conversation with Dr. Tressie McMillan Cottom\, award-winning writer\, sociologist\, and cultural critic. After the program\, stay for a reception to continue the conversation\, enjoy refreshments\, and connect with fellow attendees. This event is free! \nRegister here>>
URL:https://www.faams.org/event/a-night-of-storytelling/
CATEGORIES:Event
ATTACH;FMTTYPE=image/png:https://www.faams.org/wp-content/uploads/2025/04/Springboard-to-Opportunities.png
END:VEVENT
BEGIN:VEVENT
DTSTART;TZID=America/Chicago:20250416T000000
DTEND;TZID=America/Chicago:20250416T000000
DTSTAMP:20260423T035605
CREATED:20250417T033603Z
LAST-MODIFIED:20250417T033729Z
UID:10002207-1744761600-1744761600@www.faams.org
SUMMARY:Get Your Bag Up!
DESCRIPTION:Delta Sigma Theta Sorority\, Incorporated \nJoin us for an empowering financial literacy event featuring workshops\, door prizes\, and a variety of financial and retail vendors. Esteemed speakers include Rieko Wells (Community Bank)\, Damian Murriel (Jackson Memorial Funeral Service)\, and Andrew & Lori Moncure (Primerica).
URL:https://www.faams.org/event/get-your-bag-up/
ATTACH;FMTTYPE=image/jpeg:https://www.faams.org/wp-content/uploads/2025/04/041925-Get-your-bag-up.jpeg
END:VEVENT
BEGIN:VEVENT
DTSTART;TZID=America/Chicago:20250415T180000
DTEND;TZID=America/Chicago:20250415T190000
DTSTAMP:20260423T035605
CREATED:20250404T231137Z
LAST-MODIFIED:20250404T231137Z
UID:10002193-1744740000-1744743600@www.faams.org
SUMMARY:Family Engagement Parent Cohorts
DESCRIPTION:Institute for Disability Studies  \nJoin us for the Family Engagement Parent Cohorts\, a virtual gathering designed for families of students receiving special education services. This event fosters connection\, learning\, and empowerment in a welcoming environment. \nFor more information\, call 601.266.5163 or email fan@groups.usm.edu. \nDon’t miss this opportunity to gain valuable knowledge\, build relationships\, and advocate for your child’s education! \n 
URL:https://www.faams.org/event/family-engagement-parent-cohorts/
CATEGORIES:Event
ATTACH;FMTTYPE=image/jpeg:https://www.faams.org/wp-content/uploads/2025/04/041525-Parent-Engagement.jpg
END:VEVENT
BEGIN:VEVENT
DTSTART;TZID=America/Chicago:20250415T113000
DTEND;TZID=America/Chicago:20250415T123000
DTSTAMP:20260423T035605
CREATED:20250409T233341Z
LAST-MODIFIED:20250412T001629Z
UID:10002196-1744716600-1744720200@www.faams.org
SUMMARY:Pathways to College: Preparing for Inclusive Postsecondary Success
DESCRIPTION:Mississippi Parent Training & Information Center Project \nJoin us for a comprehensive overview of volunteerism opportunities targeting youth and young adults with disabilities. This session will cover the benefits of volunteering\, ways to get involved\, and how to assist organizations in creating inclusive opportunities. In addition\, virtual volunteer options will be explored. \nRegister here>>
URL:https://www.faams.org/event/pathways-to-college-preparing-for-inclusive-postsecondary-success/
CATEGORIES:Event
ATTACH;FMTTYPE=image/png:https://www.faams.org/wp-content/uploads/2025/04/041525-Pathways-to-College-Preparing-for-Inclusive-Postsecondary-Success.png
END:VEVENT
BEGIN:VEVENT
DTSTART;TZID=America/Chicago:20250414T124500
DTEND;TZID=America/Chicago:20250414T140000
DTSTAMP:20260423T035605
CREATED:20250410T030105Z
LAST-MODIFIED:20250410T030105Z
UID:10002199-1744634700-1744639200@www.faams.org
SUMMARY:Boots on the Ground for Testing
DESCRIPTION:Woolfolk Middle School \nJoin Woolfolk Middle School for an exciting event\, Boots on the Ground for Testing\, on Monday\, April 14\, 2025\, from 12:45 PM to 2:00 PM. This celebration is designed to motivate and uplift students as they prepare for their upcoming assessments. \nParents\, teachers\, and community members are encouraged to attend and share words of encouragement to inspire students to perform their best. \nLet’s come together to celebrate academic excellence and support our students in achieving success!
URL:https://www.faams.org/event/boots-on-the-ground-for-testing/
CATEGORIES:Event
ATTACH;FMTTYPE=image/png:https://www.faams.org/wp-content/uploads/2025/04/041225-Boots-on-the-Ground-for-Testing.png
END:VEVENT
BEGIN:VEVENT
DTSTART;TZID=America/Chicago:20250414T090000
DTEND;TZID=America/Chicago:20250416T180000
DTSTAMP:20260423T035605
CREATED:20250411T014736Z
LAST-MODIFIED:20250411T014736Z
UID:10002203-1744621200-1744826400@www.faams.org
SUMMARY:Diaper Drive
DESCRIPTION:Magnolia Medical Foundation  \nJoin the Magnolia Medical Foundation in making a difference for local families in need! We’re collecting size 4 diapers to provide essentials and support for our community. \nDrop off your donations and contribute to a cause that truly matters. Every diaper counts! \nFor more information\, contact (601) 397-6860 or email kaitleen.noah@magmedfound.org.
URL:https://www.faams.org/event/diaper-drive/
CATEGORIES:Event
ATTACH;FMTTYPE=image/png:https://www.faams.org/wp-content/uploads/2025/04/041425-Diaper-Drive.png
END:VEVENT
BEGIN:VEVENT
DTSTART;TZID=America/Chicago:20250412T090000
DTEND;TZID=America/Chicago:20250412T120000
DTSTAMP:20260423T035605
CREATED:20250404T222723Z
LAST-MODIFIED:20250404T230001Z
UID:10002190-1744448400-1744459200@www.faams.org
SUMMARY:Bloom and Grow Family Fun Day
DESCRIPTION:The Mississippi Early Childhood Association (MsECA) and United Way of Southeastern Mississippi  \nJoin MsECA for a Special Needs Resource Fair & Training Event! \nThe Mississippi Early Childhood Association (MsECA) and United Way of Southeastern Mississippi are partnering to host “Bloom and Grow Family Fun Day\,” a training and resource fair for children with all abilities. \nParents and educators of children with special needs are especially encouraged to attend. Attendees will have access to training\, free developmental screenings\, and vendors providing valuable resources for families and early childhood providers. \nDate: Saturday\, April 12\nTime: 9:00 AM – 12:00 PM\nLocation: Parkway Heights United Methodist Church\, Hattiesburg\, MS\nCost: FREE & Open to the Public! \nThis event is a fantastic opportunity for parents\, caregivers\, and early childhood providers to access expert guidance and practical tools in a friendly\, community-driven environment. \nDon’t miss out—join us for a day of learning\, support\, and fun!
URL:https://www.faams.org/event/bloom-and-grow-family-fun-day/
CATEGORIES:Event
ATTACH;FMTTYPE=image/jpeg:https://www.faams.org/wp-content/uploads/2025/04/Bloom-and-Grow.jpg
END:VEVENT
BEGIN:VEVENT
DTSTART;TZID=America/Chicago:20250410T090000
DTEND;TZID=America/Chicago:20250410T090000
DTSTAMP:20260423T035606
CREATED:20250410T024148Z
LAST-MODIFIED:20250410T024228Z
UID:10002198-1744275600-1744275600@www.faams.org
SUMMARY:Annual South JXN Parade
DESCRIPTION:Association of South Jackson Neighborhoods \nJoin the Association of South Jackson Neighborhoods (ASJN) for the Annual South Jackson Parade on Saturday\, April 12\, 2025!  The parade starts at 9 AM from the Little Caesars parking lot on McDowell Rd and concludes at Cordoza Middle School. \nPost-Parade Fun: Stick around for festivities and a vibrant fun zone at Cordoza Middle School\, located at 3180 McDowell Rd Ext.\, Jackson\, MS. \nGet Involved: Vendors\, bands\, dance/cheer groups\, and more are welcome to participate! \nFor more information\, contact:\nErnest Ward – 601-201-3020\nJohnny Byrd – 601-720-9965
URL:https://www.faams.org/event/annual-south-jxn-parade/
CATEGORIES:Event
ATTACH;FMTTYPE=image/png:https://www.faams.org/wp-content/uploads/2025/04/041225-South-JXN-Parade.png
END:VEVENT
BEGIN:VEVENT
DTSTART;TZID=America/Chicago:20250410T090000
DTEND;TZID=America/Chicago:20250410T090000
DTSTAMP:20260423T035606
CREATED:20250403T215710Z
LAST-MODIFIED:20250403T220226Z
UID:10002185-1744275600-1744275600@www.faams.org
SUMMARY:Mississippi Early Childhood Development Coalition
DESCRIPTION:Early Childhood Development Coalition \nJoin the Mississippi Early Childhood Development Coalition to connect\, collaborate\, and plan for the future.  \nWe look forward to a meaningful conversation and collective progress.  \nRegister here>>
URL:https://www.faams.org/event/mississippi-early-childhood-development-coalition/
CATEGORIES:Event
ATTACH;FMTTYPE=image/png:https://www.faams.org/wp-content/uploads/2025/04/0403-ECDC.png
END:VEVENT
BEGIN:VEVENT
DTSTART;TZID=America/Chicago:20250409T180000
DTEND;TZID=America/Chicago:20250409T193000
DTSTAMP:20260423T035606
CREATED:20250331T212052Z
LAST-MODIFIED:20250331T212052Z
UID:10002182-1744221600-1744227000@www.faams.org
SUMMARY:What’s a Café? Come Find Out!
DESCRIPTION:Be Strong Families \nThe mission\, should you embrace it\, involves shaping young lives while juggling responsibilities\, emotions\, and unpredictability. It’s about being a guide\, a cheerleader\, a disciplinarian\, and a source of comfort. Despite the sleepless nights\, tantrums\, and self-doubt\, the rewards—seeing your child grow\, learn\, and thrive—make every moment worth it. In this mission\, perfection isn’t the goal; persistence and love are the keys to success. And though the journey is not always smooth\, it’s undeniably one of the most important and fulfilling missions you’ll ever undertake. Your mission will be daunting yet rewarding if you choose to accept it. This mission is a challenge that requires patience\, adaptability\, and unconditional love. \nRegister here>>
URL:https://www.faams.org/event/whats-a-cafe-come-find-out/
CATEGORIES:Event
ATTACH;FMTTYPE=image/png:https://www.faams.org/wp-content/uploads/2025/03/040425-Whats-a-Cafe.png
END:VEVENT
BEGIN:VEVENT
DTSTART;TZID=America/Chicago:20250409T140000
DTEND;TZID=America/Chicago:20250409T140000
DTSTAMP:20260423T035606
CREATED:20250404T014513Z
LAST-MODIFIED:20250404T014539Z
UID:10002189-1744207200-1744207200@www.faams.org
SUMMARY:Better Communication\, Stronger Connections: Building Family Engagement in Special Education
DESCRIPTION:National Association for Family\, School\, and Community Engagement \nIn this fast-paced session\, we will discuss the transformative power of family engagement and great communication in Special Education. \nRegister here>> \n 
URL:https://www.faams.org/event/better-communication-stronger-connections-building-family-engagement-in-special-education/
CATEGORIES:Webinar
ATTACH;FMTTYPE=image/png:https://www.faams.org/wp-content/uploads/2025/04/040925-2422abba-4022-49ff-bae3-1c53481d5829.png
END:VEVENT
BEGIN:VEVENT
DTSTART;TZID=America/Chicago:20250409T120000
DTEND;TZID=America/Chicago:20250409T130000
DTSTAMP:20260423T035606
CREATED:20240416T163309Z
LAST-MODIFIED:20240416T163309Z
UID:10001824-1744200000-1744203600@www.faams.org
SUMMARY:Supportive Coaching for Parents Supporting Other Parents
DESCRIPTION:For any parents supporting other parents in any system. Parent peer support specialists\, parent consultants\, parent educators\, and parents who have completed parent peer support training are strongly encouraged to attend. We will discuss current trends in parent peer support\, national standards for parent peer support\, continuing education opportunities\, and local and state issues affecting parent peer support. The group also provides support and coaching for any specific issues participants share. Meetings are held on the second Wednesday of the month at 12 noon. We ask that anyone attending respect the confidentiality of the group. \nRegister here >>
URL:https://www.faams.org/event/supportive-coaching-for-parents-supporting-other-parents-51/
CATEGORIES:Meeting
ATTACH;FMTTYPE=image/jpeg:https://www.faams.org/wp-content/uploads/2021/04/lucas-law-ecELcxmJTk4-unsplash.jpg
END:VEVENT
BEGIN:VEVENT
DTSTART;TZID=America/Chicago:20250406T150000
DTEND;TZID=America/Chicago:20250406T160000
DTSTAMP:20260423T035606
CREATED:20250404T013238Z
LAST-MODIFIED:20250404T013630Z
UID:10002188-1743951600-1743955200@www.faams.org
SUMMARY:Week of the Young Child Kick-Off Call
DESCRIPTION:Mississippi Early Learning Alliance \nJoin MELA as they celebrate Week of the Young Child (WOYC) with a special kickoff event! \nWOYC is a time to recognize the vital role early learning plays in a child’s development. This kickoff event will feature the official proclamation of the celebration and exciting highlights of upcoming activities planned throughout the week. \nLet’s celebrate young learners and the educators\, families\, and community members who support them! \nRegister here>>
URL:https://www.faams.org/event/week-of-the-young-child-kick-off-call/
CATEGORIES:Event
ATTACH;FMTTYPE=image/jpeg:https://www.faams.org/wp-content/uploads/2025/04/040625-Week-of-the-young-child.jpg
END:VEVENT
BEGIN:VEVENT
DTSTART;TZID=America/Chicago:20250405T110000
DTEND;TZID=America/Chicago:20250405T130000
DTSTAMP:20260423T035606
CREATED:20250306T160931Z
LAST-MODIFIED:20250306T161124Z
UID:10002162-1743850800-1743858000@www.faams.org
SUMMARY:Hope Brunch
DESCRIPTION:NFusion Metro \nJoin NFusion Metro for a heartwarming event dedicated to honoring those who stand against domestic violence and sexual assault. The “Nfusion of Hope Brunch” brings survivors\, advocates\, allies\, and community leaders together for a meaningful gathering. Let’s celebrate courage\, advocacy\, and unity over a delightful brunch. \nRSVP or learn more by contacting Machayla or Shan at 769-233-4729.
URL:https://www.faams.org/event/hope-brunch/
CATEGORIES:Event
ATTACH;FMTTYPE=image/png:https://www.faams.org/wp-content/uploads/2025/03/NFusion-of-Hope-Brunch.png
END:VEVENT
BEGIN:VEVENT
DTSTART;TZID=America/Chicago:20250404T150000
DTEND;TZID=America/Chicago:20250404T180000
DTSTAMP:20260423T035606
CREATED:20250404T011459Z
LAST-MODIFIED:20250404T011459Z
UID:10002187-1743778800-1743789600@www.faams.org
SUMMARY:Spring Into Action and Achieve With Us
DESCRIPTION:The Arc   \nJoin The Arc Northeast Mississippi for an unforgettable afternoon of fun\, food\, and music at our Spring Into Action and Achieve With Us community outreach picnic! \nBring your family and friends to enjoy live performances from Sam Ratliff and Randy Travis ETA\, delicious food\, exciting activities\, and the warm company of our community. \n 
URL:https://www.faams.org/event/spring-into-action-and-achieve-with-us/
CATEGORIES:Event
ATTACH;FMTTYPE=image/jpeg:https://www.faams.org/wp-content/uploads/2025/04/040425-Spring-Into-Action.jpg
END:VEVENT
BEGIN:VEVENT
DTSTART;TZID=America/Chicago:20250404T130000
DTEND;TZID=America/Chicago:20250404T130000
DTSTAMP:20260423T035606
CREATED:20250325T020840Z
LAST-MODIFIED:20250325T020916Z
UID:10002175-1743771600-1743771600@www.faams.org
SUMMARY:Empower Together
DESCRIPTION:The Arc \nDon’t Miss This Unique Opportunity! The Arc is proud to host a free training session led by Dr. Jeanfreau from USM\, a renowned expert in relationships and sexuality in IDD. Using a nationally recognized curriculum\, Dr. Jeanfreau will guide participants in building awareness and understanding. \nThis training is open to both service providers and those who receive services\, and it’s absolutely FREE! Seats are available on a first-come\, first-served basis\, so act quickly. \nImportant: Be sure to note the two locations and different training dates. \nEmpower yourself with knowledge—because knowledge is powerful and essential for safety. \nTo reserve your spot\, don’t hesitate to get in touch with Lisa Burck at lisa@arcms.org
URL:https://www.faams.org/event/empower-together-4/
CATEGORIES:Event
ATTACH;FMTTYPE=image/png:https://www.faams.org/wp-content/uploads/2025/03/040425-053025-061325-Empower-Together.png
END:VEVENT
BEGIN:VEVENT
DTSTART;VALUE=DATE:20250404
DTEND;VALUE=DATE:20250421
DTSTAMP:20260423T035606
CREATED:20250404T225329Z
LAST-MODIFIED:20250404T225329Z
UID:10002192-1743724800-1745193599@www.faams.org
SUMMARY:Public Comment Period: EI 2025-2026 Grant Application Draft
DESCRIPTION:Mississippi’s Early Intervention \nMississippi’s Early Intervention (First Steps) program is seeking public comments on its 2025-2026 Grant Application before it is submitted to the Office of Special Education Programs (OSEP). \nSubmit Your Comments: Send your feedback to firststepsearlyintervention@msdh.ms.gov by April 21! \nYou can view the EI Grant Application Here>>
URL:https://www.faams.org/event/public-comment-period-ei-2025-2026-grant-application-draft/
CATEGORIES:Event
ATTACH;FMTTYPE=image/png:https://www.faams.org/wp-content/uploads/2025/04/MS-State-Dept-of-health.png
END:VEVENT
BEGIN:VEVENT
DTSTART;TZID=America/Chicago:20250331T110000
DTEND;TZID=America/Chicago:20250331T113000
DTSTAMP:20260423T035606
CREATED:20250328T022351Z
LAST-MODIFIED:20250328T022614Z
UID:10002181-1743418800-1743420600@www.faams.org
SUMMARY:Practical Tips for Using PBIS (Positive Behavioral Interventions and Supports)  ﻿in the Home
DESCRIPTION:Mississippi Parent Training & Information Center Project \nJoin us for an insightful session on ‘Practical Tips for Using PBIS at Home\,’ designed to empower parents with effective strategies for fostering positive behaviors and life skills in children. Led by Patty Gautier\, Family & Dissemination Coordinator at REACH MS\, this event will help transform challenges into meaningful and enjoyable moments with your kids. \nRegister here>>
URL:https://www.faams.org/event/practical-tips-for-using-pbis-positive-behavioral-interventions-and-supports-in-the-home/
CATEGORIES:Event
ATTACH;FMTTYPE=image/jpeg:https://www.faams.org/wp-content/uploads/2025/03/033125-Practical-Tips-for-Using-PBIS-Positive-Behavioral-Interventions-and-Supports.jpg
END:VEVENT
END:VCALENDAR