BEGIN:VCALENDAR
VERSION:2.0
PRODID:-//Families as Allies - ECPv6.15.20//NONSGML v1.0//EN
CALSCALE:GREGORIAN
METHOD:PUBLISH
X-WR-CALNAME:Families as Allies
X-ORIGINAL-URL:https://www.faams.org
X-WR-CALDESC:Events for Families as Allies
REFRESH-INTERVAL;VALUE=DURATION:PT1H
X-Robots-Tag:noindex
X-PUBLISHED-TTL:PT1H
BEGIN:VTIMEZONE
TZID:America/Chicago
BEGIN:DAYLIGHT
TZOFFSETFROM:-0600
TZOFFSETTO:-0500
TZNAME:CDT
DTSTART:20240310T080000
END:DAYLIGHT
BEGIN:STANDARD
TZOFFSETFROM:-0500
TZOFFSETTO:-0600
TZNAME:CST
DTSTART:20241103T070000
END:STANDARD
BEGIN:DAYLIGHT
TZOFFSETFROM:-0600
TZOFFSETTO:-0500
TZNAME:CDT
DTSTART:20250309T080000
END:DAYLIGHT
BEGIN:STANDARD
TZOFFSETFROM:-0500
TZOFFSETTO:-0600
TZNAME:CST
DTSTART:20251102T070000
END:STANDARD
BEGIN:DAYLIGHT
TZOFFSETFROM:-0600
TZOFFSETTO:-0500
TZNAME:CDT
DTSTART:20260308T080000
END:DAYLIGHT
BEGIN:STANDARD
TZOFFSETFROM:-0500
TZOFFSETTO:-0600
TZNAME:CST
DTSTART:20261101T070000
END:STANDARD
END:VTIMEZONE
BEGIN:VEVENT
DTSTART;TZID=America/Chicago:20250828T100000
DTEND;TZID=America/Chicago:20250828T110000
DTSTAMP:20260424T104416
CREATED:20250818T185111Z
LAST-MODIFIED:20250819T164342Z
UID:10002331-1756375200-1756378800@www.faams.org
SUMMARY:The Story Behind Caiden's Corner: Turning a Diagnosis Into a Movement
DESCRIPTION:MSPTI \nThis session is a raw\, real look at how one autism diagnosis flipped everything I knew upside down and sparked a mission to make sure no other family ever feels alone on this journey. I’ll share the behind-the-scenes story of starting Caiden’s Corner\, how we’re building support systems for families across Mississippi\, and what we’ve learned about advocacy\, grief\, grit\, and community along the way. \nRegister here>>
URL:https://www.faams.org/event/the-story-behind-caidens-corner-turning-a-diagnosis-into-a-movement/
CATEGORIES:Training
ATTACH;FMTTYPE=image/png:https://www.faams.org/wp-content/uploads/2025/08/082825-The-Story-Behind-Caidens-Corner-Turning-a-Diagnosis-Into-a-Movement.png
END:VEVENT
END:VCALENDAR