BEGIN:VCALENDAR
VERSION:2.0
PRODID:-//Families as Allies - ECPv6.15.20//NONSGML v1.0//EN
CALSCALE:GREGORIAN
METHOD:PUBLISH
X-WR-CALNAME:Families as Allies
X-ORIGINAL-URL:https://www.faams.org
X-WR-CALDESC:Events for Families as Allies
REFRESH-INTERVAL;VALUE=DURATION:PT1H
X-Robots-Tag:noindex
X-PUBLISHED-TTL:PT1H
BEGIN:VTIMEZONE
TZID:America/Chicago
BEGIN:DAYLIGHT
TZOFFSETFROM:-0600
TZOFFSETTO:-0500
TZNAME:CDT
DTSTART:20250309T080000
END:DAYLIGHT
BEGIN:STANDARD
TZOFFSETFROM:-0500
TZOFFSETTO:-0600
TZNAME:CST
DTSTART:20251102T070000
END:STANDARD
BEGIN:DAYLIGHT
TZOFFSETFROM:-0600
TZOFFSETTO:-0500
TZNAME:CDT
DTSTART:20260308T080000
END:DAYLIGHT
BEGIN:STANDARD
TZOFFSETFROM:-0500
TZOFFSETTO:-0600
TZNAME:CST
DTSTART:20261101T070000
END:STANDARD
BEGIN:DAYLIGHT
TZOFFSETFROM:-0600
TZOFFSETTO:-0500
TZNAME:CDT
DTSTART:20270314T080000
END:DAYLIGHT
BEGIN:STANDARD
TZOFFSETFROM:-0500
TZOFFSETTO:-0600
TZNAME:CST
DTSTART:20271107T070000
END:STANDARD
END:VTIMEZONE
BEGIN:VEVENT
DTSTART;TZID=America/Chicago:20260529T130000
DTEND;TZID=America/Chicago:20260529T130000
DTSTAMP:20260423T113159
CREATED:20251216T203635Z
LAST-MODIFIED:20251216T204235Z
UID:10002445-1780059600-1780059600@www.faams.org
SUMMARY:Emergency Medical Services Advisory Council (EMSAC)
DESCRIPTION:Mississippi Department of Health \nThe Emergency Medical Services Advisory Council (EMSAC) will hold a public hearing on proposed changes to the Department of Health. \nMeeting Date: Friday\, May 29\, 2026\nMeeting Time: 1:00 pm\nMeeting Location: In-person location and Zoom link TBA \nIf you have any questions related to the public hearing\, please get in touch with Teresa Windham by phone at 662-316-5727 or email teresa.windham@msdh.ms.gov
URL:https://www.faams.org/event/emergency-medical-services-advisory-council-emsac-2/
CATEGORIES:Meeting
ATTACH;FMTTYPE=image/jpeg:https://www.faams.org/wp-content/uploads/2025/12/MSDH.jpg
END:VEVENT
END:VCALENDAR