BEGIN:VCALENDAR
VERSION:2.0
PRODID:-//Families as Allies - ECPv6.15.20//NONSGML v1.0//EN
CALSCALE:GREGORIAN
METHOD:PUBLISH
X-WR-CALNAME:Families as Allies
X-ORIGINAL-URL:https://www.faams.org
X-WR-CALDESC:Events for Families as Allies
REFRESH-INTERVAL;VALUE=DURATION:PT1H
X-Robots-Tag:noindex
X-PUBLISHED-TTL:PT1H
BEGIN:VTIMEZONE
TZID:America/Chicago
BEGIN:DAYLIGHT
TZOFFSETFROM:-0600
TZOFFSETTO:-0500
TZNAME:CDT
DTSTART:20240310T080000
END:DAYLIGHT
BEGIN:STANDARD
TZOFFSETFROM:-0500
TZOFFSETTO:-0600
TZNAME:CST
DTSTART:20241103T070000
END:STANDARD
BEGIN:DAYLIGHT
TZOFFSETFROM:-0600
TZOFFSETTO:-0500
TZNAME:CDT
DTSTART:20250309T080000
END:DAYLIGHT
BEGIN:STANDARD
TZOFFSETFROM:-0500
TZOFFSETTO:-0600
TZNAME:CST
DTSTART:20251102T070000
END:STANDARD
BEGIN:DAYLIGHT
TZOFFSETFROM:-0600
TZOFFSETTO:-0500
TZNAME:CDT
DTSTART:20260308T080000
END:DAYLIGHT
BEGIN:STANDARD
TZOFFSETFROM:-0500
TZOFFSETTO:-0600
TZNAME:CST
DTSTART:20261101T070000
END:STANDARD
END:VTIMEZONE
BEGIN:VEVENT
DTSTART;TZID=America/Chicago:20251210T120000
DTEND;TZID=America/Chicago:20251210T130000
DTSTAMP:20260423T101029
CREATED:20250930T162719Z
LAST-MODIFIED:20250930T162719Z
UID:10002371-1765368000-1765371600@www.faams.org
SUMMARY:Supportive Coaching for Parents Supporting Other Parents
DESCRIPTION:For any parents supporting other parents in any system. Parent peer support specialists\, parent consultants\, parent educators\, and parents who have completed parent peer support training are strongly encouraged to attend. We will discuss current trends in parent peer support\, national standards for parent peer support\, continuing education opportunities\, and local and state issues affecting parent peer support. The group also provides support and coaching for any specific issues participants share. Meetings are held on the second Wednesday of each month at 12:00 p.m. We ask that anyone attending respect the confidentiality of the group. \nRegister here >>
URL:https://www.faams.org/event/supportive-coaching-for-parents-supporting-other-parents-58/
CATEGORIES:Meeting
ATTACH;FMTTYPE=image/jpeg:https://www.faams.org/wp-content/uploads/2021/04/lucas-law-ecELcxmJTk4-unsplash.jpg
END:VEVENT
BEGIN:VEVENT
DTSTART;TZID=America/Chicago:20251121T130000
DTEND;TZID=America/Chicago:20251121T130000
DTSTAMP:20260423T101029
CREATED:20251014T225239Z
LAST-MODIFIED:20251014T225239Z
UID:10001928-1763730000-1763730000@www.faams.org
SUMMARY:Early Hearing Detection & Intervention Advisory Committee
DESCRIPTION:Early Hearing Detection and Intervention Advisory Committee \nThe Early Hearing Detection and Intervention Advisory Committee (EHDI-AC)\, established by state statute (MS Code 41-90-7)\, is an advisory committee appointed by the State Health Officer to advise and assist the Mississippi State Department of Health and the Mississippi State Interagency Coordinating Council for Early Intervention on the identification of infants and toddlers with hearing impairments and linking them with early intervention services.
URL:https://www.faams.org/event/early-hearing-detection-intervention-advisory-committee-4/
CATEGORIES:Meeting
ATTACH;FMTTYPE=image/jpeg:https://www.faams.org/wp-content/uploads/2022/02/242622843_222236009945653_272540563979948365_n.jpg
END:VEVENT
BEGIN:VEVENT
DTSTART;TZID=America/Chicago:20251120T090000
DTEND;TZID=America/Chicago:20251120T090000
DTSTAMP:20260423T101029
CREATED:20250625T202737Z
LAST-MODIFIED:20251009T203309Z
UID:10002284-1763629200-1763629200@www.faams.org
SUMMARY:BSF Parent Cafes
DESCRIPTION:Be Strong Families \nIf you ever needed a place to learn how to keep families strong—this is it! This information session will give you a complete overview of the Be Strong Families’ Parent Cafés and the process of how to make them a part of your parent outreach. \nRegister here>>
URL:https://www.faams.org/event/bsf-parent-cafes-5/
CATEGORIES:Meeting
ATTACH;FMTTYPE=image/gif:https://www.faams.org/wp-content/uploads/2024/04/Be-Strong-Famalies.gif
END:VEVENT
BEGIN:VEVENT
DTSTART;TZID=America/Chicago:20251112T123000
DTEND;TZID=America/Chicago:20251112T150000
DTSTAMP:20260423T101029
CREATED:20250820T152451Z
LAST-MODIFIED:20250820T153857Z
UID:10002342-1762950600-1762959600@www.faams.org
SUMMARY:Health & Wellness Resource Fair
DESCRIPTION:Yazoo City High School \nJoin us for the Health & Wellness Resource Fair at Yazoo City High School on Wednesday\, November 12\, 2025\, from 12:30 to 3:00 PM. This community event will feature free health screenings\, including blood pressure checks\, glucose testing\, and BMI assessments. You can also connect with local community resources and take part in fun fitness challenges. \nThe fair is open to everyone\, with a focus on promoting health\, education\, and outreach. Don’t miss this chance to learn more about your health and discover valuable resources for you and your family. \nTo register for the fair\, please confirm your commitment by email. ztallen@yazoocity.k12.ms.us.
URL:https://www.faams.org/event/health-wellness-resource-fair/
CATEGORIES:Meeting
ATTACH;FMTTYPE=image/jpeg:https://www.faams.org/wp-content/uploads/2025/08/111225-Health-and-Wellness-Resource-Fair.jpg
END:VEVENT
BEGIN:VEVENT
DTSTART;TZID=America/Chicago:20251112T120000
DTEND;TZID=America/Chicago:20251112T130000
DTSTAMP:20260423T101029
CREATED:20250930T162331Z
LAST-MODIFIED:20250930T162331Z
UID:10002370-1762948800-1762952400@www.faams.org
SUMMARY:Supportive Coaching for Parents Supporting Other Parents
DESCRIPTION:For any parents supporting other parents in any system. Parent peer support specialists\, parent consultants\, parent educators\, and parents who have completed parent peer support training are strongly encouraged to attend. We will discuss current trends in parent peer support\, national standards for parent peer support\, continuing education opportunities\, and local and state issues affecting parent peer support. The group also provides support and coaching for any specific issues participants share. Meetings are held on the second Wednesday of each month at 12:00 p.m. We ask that anyone attending respect the confidentiality of the group. \nRegister here >>
URL:https://www.faams.org/event/supportive-coaching-for-parents-supporting-other-parents-57/
CATEGORIES:Meeting
ATTACH;FMTTYPE=image/jpeg:https://www.faams.org/wp-content/uploads/2021/04/lucas-law-ecELcxmJTk4-unsplash.jpg
END:VEVENT
BEGIN:VEVENT
DTSTART;TZID=America/Chicago:20251023T090000
DTEND;TZID=America/Chicago:20251023T090000
DTSTAMP:20260423T101029
CREATED:20250625T202321Z
LAST-MODIFIED:20250625T202442Z
UID:10002283-1761210000-1761210000@www.faams.org
SUMMARY:BSF Parent Cafes
DESCRIPTION:Be Strong Families \nIf you ever needed a place to learn how to keep families strong—this is it! This information session will give you a complete overview of the Be Strong Families’ Parent Cafés and the process of how to make them a part of your parent outreach. \nRegister here>>
URL:https://www.faams.org/event/bsf-parent-cafes-4/
CATEGORIES:Meeting
ATTACH;FMTTYPE=image/gif:https://www.faams.org/wp-content/uploads/2024/04/Be-Strong-Famalies.gif
END:VEVENT
BEGIN:VEVENT
DTSTART;TZID=America/Chicago:20251008T170000
DTEND;TZID=America/Chicago:20251008T200000
DTSTAMP:20260423T101029
CREATED:20250923T150002Z
LAST-MODIFIED:20250923T150002Z
UID:10002361-1759942800-1759953600@www.faams.org
SUMMARY:Redeemer Community Fish Fry
DESCRIPTION:Redeemer Church PCA \nJoin us at Redeemer for a free Community Fish Fry! \nEnjoy food\, games\, and music with neighbors — and stick around for a Town Hall as we share updates about Chastain and hear from you. \n 
URL:https://www.faams.org/event/redeemer-community-fish-fry/
CATEGORIES:Meeting
ATTACH;FMTTYPE=image/jpeg:https://www.faams.org/wp-content/uploads/2025/09/Community-Fish-Fry-100825.jpg
END:VEVENT
BEGIN:VEVENT
DTSTART;TZID=America/Chicago:20251008T120000
DTEND;TZID=America/Chicago:20251008T130000
DTSTAMP:20260423T101029
CREATED:20250923T151201Z
LAST-MODIFIED:20250923T151201Z
UID:10002362-1759924800-1759928400@www.faams.org
SUMMARY:Supportive Coaching for Parents Supporting Other Parents
DESCRIPTION:For any parents supporting other parents in any system. Parent peer support specialists\, parent consultants\, parent educators\, and parents who have completed parent peer support training are strongly encouraged to attend. We will discuss current trends in parent peer support\, national standards for parent peer support\, continuing education opportunities\, and local and state issues affecting parent peer support. The group also provides support and coaching for any specific issues participants share. Meetings are held on the second Wednesday of each month at 12:00 p.m. We ask that anyone attending respect the confidentiality of the group. \nRegister here >>
URL:https://www.faams.org/event/supportive-coaching-for-parents-supporting-other-parents-40/
CATEGORIES:Meeting
ATTACH;FMTTYPE=image/jpeg:https://www.faams.org/wp-content/uploads/2021/04/lucas-law-ecELcxmJTk4-unsplash.jpg
END:VEVENT
BEGIN:VEVENT
DTSTART;TZID=America/Chicago:20250925T090000
DTEND;TZID=America/Chicago:20250925T090000
DTSTAMP:20260423T101029
CREATED:20250707T194151Z
LAST-MODIFIED:20251009T203849Z
UID:10002289-1758790800-1758790800@www.faams.org
SUMMARY:BSF Parent Cafes
DESCRIPTION:Be Strong Families \nIf you ever needed a place to learn how to keep families strong—this is it! This information session will give you a complete overview of the Be Strong Families’ Parent Cafés and the process of how to make them a part of your parent outreach. \nRegister here>>
URL:https://www.faams.org/event/bsf-parent-cafes-9/
CATEGORIES:Meeting
ATTACH;FMTTYPE=image/gif:https://www.faams.org/wp-content/uploads/2024/04/Be-Strong-Famalies.gif
END:VEVENT
BEGIN:VEVENT
DTSTART;TZID=America/Chicago:20250910T120000
DTEND;TZID=America/Chicago:20250910T130000
DTSTAMP:20260423T101029
CREATED:20240416T164447Z
LAST-MODIFIED:20240416T164447Z
UID:10001829-1757505600-1757509200@www.faams.org
SUMMARY:Supportive Coaching for Parents Supporting Other Parents
DESCRIPTION:For any parents supporting other parents in any system. Parent peer support specialists\, parent consultants\, parent educators\, and parents who have completed parent peer support training are strongly encouraged to attend. We will discuss current trends in parent peer support\, national standards for parent peer support\, continuing education opportunities\, and local and state issues affecting parent peer support. The group also provides support and coaching for any specific issues participants share. Meetings are held on the second Wednesday of the month at 12 noon. We ask that anyone attending respect the confidentiality of the group. \nRegister here >>
URL:https://www.faams.org/event/supportive-coaching-for-parents-supporting-other-parents-56/
CATEGORIES:Meeting
ATTACH;FMTTYPE=image/jpeg:https://www.faams.org/wp-content/uploads/2021/04/lucas-law-ecELcxmJTk4-unsplash.jpg
END:VEVENT
BEGIN:VEVENT
DTSTART;TZID=America/Chicago:20250828T090000
DTEND;TZID=America/Chicago:20250828T090000
DTSTAMP:20260423T101029
CREATED:20250707T193058Z
LAST-MODIFIED:20251009T203625Z
UID:10002288-1756371600-1756371600@www.faams.org
SUMMARY:BSF Parent Cafes
DESCRIPTION:Be Strong Families \nIf you ever needed a place to learn how to keep families strong—this is it! This information session will give you a complete overview of the Be Strong Families’ Parent Cafés and the process of how to make them a part of your parent outreach. \nRegister here>>
URL:https://www.faams.org/event/bsf-parent-cafes-8/
CATEGORIES:Meeting
ATTACH;FMTTYPE=image/gif:https://www.faams.org/wp-content/uploads/2024/04/Be-Strong-Famalies.gif
END:VEVENT
BEGIN:VEVENT
DTSTART;TZID=America/Chicago:20250815T090000
DTEND;TZID=America/Chicago:20250815T090000
DTSTAMP:20260423T101029
CREATED:20240718T203402Z
LAST-MODIFIED:20240718T204818Z
UID:10001968-1755248400-1755248400@www.faams.org
SUMMARY:Board of Mental Health Meeting
DESCRIPTION:Department of Mental Health\n\n\nThe Department of Mental Health Regular  Board meeting will be held on August 15\, at 9:00 am. \nClick here for notice information. \n\nMeeting Location\n\n239 North Lamar Street\nRobert E. Lee Building\nJackson MS 39201 \nContact Information\nSuzanne Marler\n6013596260\nsuzanne.marler@dmh.ms.gov
URL:https://www.faams.org/event/board-of-mental-health-meeting-31/
CATEGORIES:Meeting
ATTACH;FMTTYPE=image/png:https://www.faams.org/wp-content/uploads/2023/06/Board-of-Mental-Health-Meeting.png
END:VEVENT
BEGIN:VEVENT
DTSTART;TZID=America/Chicago:20250814T100000
DTEND;TZID=America/Chicago:20250814T110000
DTSTAMP:20260423T101029
CREATED:20240129T220054Z
LAST-MODIFIED:20250724T160419Z
UID:10001744-1755165600-1755169200@www.faams.org
SUMMARY:Mississippi Behavioral Health Planning and Advisory Council
DESCRIPTION: Department of Mental Health \nFederal law specifies the duties of the Joint Mental Health Planning Councils. \n>Duties include: \n\nTo review the Mental Health Block Grant Plan and to make recommendations;\nTo serve as an advocate for adults with serious mental illness\, children with a serious emotional disturbance\, and other individuals with mental illnesses; and\nTo monitor\, review\, and evaluate\, not less than once yearly\, the allocation and adequacy of mental health services within the State.\n\n\nMeeting Location-in person\nMississippi State Hospital – Building 56 \n\n\n 
URL:https://www.faams.org/event/mississippi-planning-and-advisory-council-5/
CATEGORIES:Meeting
ATTACH;FMTTYPE=image/png:https://www.faams.org/wp-content/uploads/2023/06/Board-of-Mental-Health-Meeting.png
END:VEVENT
BEGIN:VEVENT
DTSTART;TZID=America/Chicago:20250813T120000
DTEND;TZID=America/Chicago:20250813T130000
DTSTAMP:20260423T101029
CREATED:20240416T164200Z
LAST-MODIFIED:20240507T025514Z
UID:10001828-1755086400-1755090000@www.faams.org
SUMMARY:Supportive Coaching for Parents Supporting Other Parents
DESCRIPTION:For any parents supporting other parents in any system. Parent peer support specialists\, parent consultants\, parent educators\, and parents who have completed parent peer support training are strongly encouraged to attend. We will discuss current trends in parent peer support\, national standards for parent peer support\, continuing education opportunities\, and local and state issues affecting parent peer support. The group also provides support and coaching for any specific issues participants share. Meetings are held on the second Wednesday of the month at 12 noon. We ask that anyone attending respect the confidentiality of the group. \nRegister here >>
URL:https://www.faams.org/event/supportive-coaching-for-parents-supporting-other-parents-55/
CATEGORIES:Meeting
ATTACH;FMTTYPE=image/jpeg:https://www.faams.org/wp-content/uploads/2021/04/lucas-law-ecELcxmJTk4-unsplash.jpg
END:VEVENT
BEGIN:VEVENT
DTSTART;TZID=America/Chicago:20250709T120000
DTEND;TZID=America/Chicago:20250709T130000
DTSTAMP:20260423T101029
CREATED:20240416T163959Z
LAST-MODIFIED:20240416T163959Z
UID:10001827-1752062400-1752066000@www.faams.org
SUMMARY:Supportive Coaching for Parents Supporting Other Parents
DESCRIPTION:For any parents supporting other parents in any system. Parent peer support specialists\, parent consultants\, parent educators\, and parents who have completed parent peer support training are strongly encouraged to attend. We will discuss current trends in parent peer support\, national standards for parent peer support\, continuing education opportunities\, and local and state issues affecting parent peer support. The group also provides support and coaching for any specific issues participants share. Meetings are held on the second Wednesday of the month at 12 noon. We ask that anyone attending respect the confidentiality of the group. \nRegister here >>
URL:https://www.faams.org/event/supportive-coaching-for-parents-supporting-other-parents-54/
CATEGORIES:Meeting
ATTACH;FMTTYPE=image/jpeg:https://www.faams.org/wp-content/uploads/2021/04/lucas-law-ecELcxmJTk4-unsplash.jpg
END:VEVENT
BEGIN:VEVENT
DTSTART;TZID=America/Chicago:20250626T090000
DTEND;TZID=America/Chicago:20250626T090000
DTSTAMP:20260423T101029
CREATED:20250625T201812Z
LAST-MODIFIED:20250625T201812Z
UID:10002282-1750928400-1750928400@www.faams.org
SUMMARY:BSF Parent Cafes
DESCRIPTION:Be Strong Families \nIf you ever needed a place to learn how to keep families strong—this is it! This information session will give you a complete overview of the Be Strong Families’ Parent Cafés and the process of how to make them a part of your parent outreach. \nRegister here>>
URL:https://www.faams.org/event/bsf-parent-cafes-2/
CATEGORIES:Meeting
ATTACH;FMTTYPE=image/gif:https://www.faams.org/wp-content/uploads/2024/04/Be-Strong-Famalies.gif
END:VEVENT
BEGIN:VEVENT
DTSTART;TZID=America/Chicago:20250626T090000
DTEND;TZID=America/Chicago:20250626T090000
DTSTAMP:20260423T101029
CREATED:20250625T201158Z
LAST-MODIFIED:20250625T201309Z
UID:10002281-1750928400-1750928400@www.faams.org
SUMMARY:BSF Parent Cafes
DESCRIPTION:Be Strong Families \nIf you ever needed a place to learn how to keep families strong—this is it! This information session will give you a complete overview of the Be Strong Families’ Parent Cafés and the process of how to make them a part of your parent outreach. \nRegister here>>
URL:https://www.faams.org/event/bsf-parent-cafes/
CATEGORIES:Meeting
ATTACH;FMTTYPE=image/gif:https://www.faams.org/wp-content/uploads/2024/04/Be-Strong-Famalies.gif
END:VEVENT
BEGIN:VEVENT
DTSTART;TZID=America/Chicago:20250619T090000
DTEND;TZID=America/Chicago:20250619T090000
DTSTAMP:20260423T101029
CREATED:20250718T163724Z
LAST-MODIFIED:20250718T163855Z
UID:10002313-1750323600-1750323600@www.faams.org
SUMMARY:Board of Mental Health Meeting
DESCRIPTION:Department of Mental Health\n\n\nThe Department of Mental Health Regular  Board meeting will be held on  June 18\, 2026\, at 9:30 am. \nClick here for notice information. \n\nMeeting Location\n\n1937 Briar Ridge Road\nTupelo MS 38804
URL:https://www.faams.org/event/board-of-mental-health-meeting-40/
CATEGORIES:Meeting
ATTACH;FMTTYPE=image/png:https://www.faams.org/wp-content/uploads/2023/06/Board-of-Mental-Health-Meeting.png
END:VEVENT
BEGIN:VEVENT
DTSTART;TZID=America/Chicago:20250619T090000
DTEND;TZID=America/Chicago:20250619T090000
DTSTAMP:20260423T101029
CREATED:20250718T162724Z
LAST-MODIFIED:20250718T163226Z
UID:10002312-1750323600-1750323600@www.faams.org
SUMMARY:Board of Mental Health Meeting
DESCRIPTION:Department of Mental Health\n\n\nThe Department of Mental Health Regular Board meeting will be held on April 16\, 2026\, at 9:30 a.m. \nClick here for notice information. \n\nMeeting Location\n\nVirtually from the Central Office
URL:https://www.faams.org/event/board-of-mental-health-meeting-39/
CATEGORIES:Meeting
ATTACH;FMTTYPE=image/png:https://www.faams.org/wp-content/uploads/2023/06/Board-of-Mental-Health-Meeting.png
END:VEVENT
BEGIN:VEVENT
DTSTART;TZID=America/Chicago:20250619T090000
DTEND;TZID=America/Chicago:20250619T090000
DTSTAMP:20260423T101029
CREATED:20250718T161508Z
LAST-MODIFIED:20250718T163345Z
UID:10002311-1750323600-1750323600@www.faams.org
SUMMARY:Board of Mental Health Meeting
DESCRIPTION:Department of Mental Health\n\n\nThe Department of Mental Health Regular  Board meeting will be held on March 19\, 2026\, at 9:30 am. \nClick here for notice information. \n\nMeeting Location\n\n3550 Highway 468 West\nWhitfield MS 39193
URL:https://www.faams.org/event/board-of-mental-health-meeting-38/
CATEGORIES:Meeting
ATTACH;FMTTYPE=image/png:https://www.faams.org/wp-content/uploads/2023/06/Board-of-Mental-Health-Meeting.png
END:VEVENT
BEGIN:VEVENT
DTSTART;TZID=America/Chicago:20250619T090000
DTEND;TZID=America/Chicago:20250619T090000
DTSTAMP:20260423T101029
CREATED:20250718T155222Z
LAST-MODIFIED:20250718T155222Z
UID:10002310-1750323600-1750323600@www.faams.org
SUMMARY:Board of Mental Health Meeting
DESCRIPTION:Department of Mental Health\n\n\nThe Department of Mental Health Regular  Board meeting will be held on  September 18\, 2025\, at 9:30 am. \nClick here for notice information. \n\nMeeting Location\n\n823 MS 589\nPurvis MS 39475
URL:https://www.faams.org/event/board-of-mental-health-meeting-37/
CATEGORIES:Meeting
ATTACH;FMTTYPE=image/png:https://www.faams.org/wp-content/uploads/2023/06/Board-of-Mental-Health-Meeting.png
END:VEVENT
BEGIN:VEVENT
DTSTART;TZID=America/Chicago:20250619T090000
DTEND;TZID=America/Chicago:20250619T090000
DTSTAMP:20260423T101029
CREATED:20250718T154036Z
LAST-MODIFIED:20250718T154036Z
UID:10002309-1750323600-1750323600@www.faams.org
SUMMARY:Board of Mental Health Meeting
DESCRIPTION:Department of Mental Health\n\n\nThe Department of Mental Health Regular  Board meeting will be held on August 21\, 2025\, at 9:30 am. \nClick here for notice information. \n\nMeeting Location\n\nThis meeting will be held virtually.
URL:https://www.faams.org/event/board-of-mental-health-meeting-36/
CATEGORIES:Meeting
ATTACH;FMTTYPE=image/png:https://www.faams.org/wp-content/uploads/2023/06/Board-of-Mental-Health-Meeting.png
END:VEVENT
BEGIN:VEVENT
DTSTART;TZID=America/Chicago:20250619T090000
DTEND;TZID=America/Chicago:20250619T090000
DTSTAMP:20260423T101029
CREATED:20240718T210711Z
LAST-MODIFIED:20250718T154240Z
UID:10001970-1750323600-1750323600@www.faams.org
SUMMARY:Board of Mental Health Meeting
DESCRIPTION:Department of Mental Health\n\n\nThe Department of Mental Health Regular  Board meeting will be held on  June 19\, 2025\, at 9:00 am. \nClick here for notice information. \n\nMeeting Location\n\n1049 Simpson Hwy 149\nMagee MS 39111
URL:https://www.faams.org/event/board-of-mental-health-meeting-34/
CATEGORIES:Meeting
ATTACH;FMTTYPE=image/png:https://www.faams.org/wp-content/uploads/2023/06/Board-of-Mental-Health-Meeting.png
END:VEVENT
BEGIN:VEVENT
DTSTART;TZID=America/Chicago:20250611T120000
DTEND;TZID=America/Chicago:20250611T130000
DTSTAMP:20260423T101029
CREATED:20240416T163823Z
LAST-MODIFIED:20240416T163823Z
UID:10001826-1749643200-1749646800@www.faams.org
SUMMARY:Supportive Coaching for Parents Supporting Other Parents
DESCRIPTION:For any parents supporting other parents in any system. Parent peer support specialists\, parent consultants\, parent educators\, and parents who have completed parent peer support training are strongly encouraged to attend. We will discuss current trends in parent peer support\, national standards for parent peer support\, continuing education opportunities\, and local and state issues affecting parent peer support. The group also provides support and coaching for any specific issues participants share. Meetings are held on the second Wednesday of the month at 12 noon. We ask that anyone attending respect the confidentiality of the group. \nRegister here >>
URL:https://www.faams.org/event/supportive-coaching-for-parents-supporting-other-parents-53/
CATEGORIES:Meeting
ATTACH;FMTTYPE=image/jpeg:https://www.faams.org/wp-content/uploads/2021/04/lucas-law-ecELcxmJTk4-unsplash.jpg
END:VEVENT
BEGIN:VEVENT
DTSTART;TZID=America/Chicago:20250514T120000
DTEND;TZID=America/Chicago:20250514T130000
DTSTAMP:20260423T101029
CREATED:20240416T163600Z
LAST-MODIFIED:20240416T163600Z
UID:10001825-1747224000-1747227600@www.faams.org
SUMMARY:Supportive Coaching for Parents Supporting Other Parents
DESCRIPTION:For any parents supporting other parents in any system. Parent peer support specialists\, parent consultants\, parent educators\, and parents who have completed parent peer support training are strongly encouraged to attend. We will discuss current trends in parent peer support\, national standards for parent peer support\, continuing education opportunities\, and local and state issues affecting parent peer support. The group also provides support and coaching for any specific issues participants share. Meetings are held on the second Wednesday of the month at 12 noon. We ask that anyone attending respect the confidentiality of the group. \nRegister here >>
URL:https://www.faams.org/event/supportive-coaching-for-parents-supporting-other-parents-52/
CATEGORIES:Meeting
ATTACH;FMTTYPE=image/jpeg:https://www.faams.org/wp-content/uploads/2021/04/lucas-law-ecELcxmJTk4-unsplash.jpg
END:VEVENT
BEGIN:VEVENT
DTSTART;TZID=America/Chicago:20250417T090000
DTEND;TZID=America/Chicago:20250417T090000
DTSTAMP:20260423T101029
CREATED:20240627T174057Z
LAST-MODIFIED:20240627T181344Z
UID:10001941-1744880400-1744880400@www.faams.org
SUMMARY:Board of Mental Health Meeting
DESCRIPTION:Department of Mental Health\n\n\nThe Department of Mental Health Regular  Board meeting will be held Virtually on April 17\, 2025\, at 9:00 am. \nClick here for notice information:\nhttps://www.ms.gov/dfa/pmn/Home/NoticeDetails/991db1c4-6b2f-4279-be01-e239b53d8c90 \n\nMeeting Location\n\n3550 MS 468\nWhitfield MS 39193 \nContact Information\nSuzanne Marler\n6013596260\nSuzanne.marler@dmh.ms.gov
URL:https://www.faams.org/event/board-of-mental-health-meeting-29/
CATEGORIES:Meeting
ATTACH;FMTTYPE=image/png:https://www.faams.org/wp-content/uploads/2023/06/Board-of-Mental-Health-Meeting.png
END:VEVENT
BEGIN:VEVENT
DTSTART;TZID=America/Chicago:20250409T120000
DTEND;TZID=America/Chicago:20250409T130000
DTSTAMP:20260423T101029
CREATED:20240416T163309Z
LAST-MODIFIED:20240416T163309Z
UID:10001824-1744200000-1744203600@www.faams.org
SUMMARY:Supportive Coaching for Parents Supporting Other Parents
DESCRIPTION:For any parents supporting other parents in any system. Parent peer support specialists\, parent consultants\, parent educators\, and parents who have completed parent peer support training are strongly encouraged to attend. We will discuss current trends in parent peer support\, national standards for parent peer support\, continuing education opportunities\, and local and state issues affecting parent peer support. The group also provides support and coaching for any specific issues participants share. Meetings are held on the second Wednesday of the month at 12 noon. We ask that anyone attending respect the confidentiality of the group. \nRegister here >>
URL:https://www.faams.org/event/supportive-coaching-for-parents-supporting-other-parents-51/
CATEGORIES:Meeting
ATTACH;FMTTYPE=image/jpeg:https://www.faams.org/wp-content/uploads/2021/04/lucas-law-ecELcxmJTk4-unsplash.jpg
END:VEVENT
BEGIN:VEVENT
DTSTART;TZID=America/Chicago:20250312T120000
DTEND;TZID=America/Chicago:20250312T130000
DTSTAMP:20260423T101029
CREATED:20240416T163029Z
LAST-MODIFIED:20240416T163029Z
UID:10001823-1741780800-1741784400@www.faams.org
SUMMARY:Supportive Coaching for Parents Supporting Other Parents
DESCRIPTION:For any parents supporting other parents in any system. Parent peer support specialists\, parent consultants\, parent educators\, and parents who have completed parent peer support training are strongly encouraged to attend. We will discuss current trends in parent peer support\, national standards for parent peer support\, continuing education opportunities\, and local and state issues affecting parent peer support. The group also provides support and coaching for any specific issues participants share. Meetings are held on the second Wednesday of the month at 12 noon. We ask that anyone attending respect the confidentiality of the group. \nRegister here >>
URL:https://www.faams.org/event/supportive-coaching-for-parents-supporting-other-parents-50/
CATEGORIES:Meeting
ATTACH;FMTTYPE=image/jpeg:https://www.faams.org/wp-content/uploads/2021/04/lucas-law-ecELcxmJTk4-unsplash.jpg
END:VEVENT
BEGIN:VEVENT
DTSTART;TZID=America/Chicago:20250220T090000
DTEND;TZID=America/Chicago:20250220T090000
DTSTAMP:20260423T101029
CREATED:20240627T173130Z
LAST-MODIFIED:20240627T181558Z
UID:10001942-1740042000-1740042000@www.faams.org
SUMMARY:Board of Mental Health Meeting
DESCRIPTION:Department of Mental Health\n\n\nThe Department of Mental Health Regular  Board meeting will be held Virtually on February 20\, 2025\, at 9:00 am. \nClick here for notice information:\nhttps://www.ms.gov/dfa/pmn/Home/NoticeDetails/991db1c4-6b2f-4279-be01-e239b53d8c90 \n\nMeeting Location\n\n3550 MS 468\nWhitfield MS 39193 \nContact Information\nSuzanne Marler\n6013596260\nSuzanne.marler@dmh.ms.gov
URL:https://www.faams.org/event/board-of-mental-health-meeting-28/
CATEGORIES:Meeting
ATTACH;FMTTYPE=image/png:https://www.faams.org/wp-content/uploads/2023/06/Board-of-Mental-Health-Meeting.png
END:VEVENT
BEGIN:VEVENT
DTSTART;TZID=America/Chicago:20250213T100000
DTEND;TZID=America/Chicago:20250213T120000
DTSTAMP:20260423T101030
CREATED:20250211T023703Z
LAST-MODIFIED:20250211T023703Z
UID:10002144-1739440800-1739448000@www.faams.org
SUMMARY:Joint Planning Council Meeting
DESCRIPTION:Department of Mental Health\nJoint Mental Health and Substance Use Planning Council \nMeeting Location:\nMississippi State Hospital\nBuilding 56\n3550 MS-468\nPearl\, MS 39208 \n  \n\n 
URL:https://www.faams.org/event/joint-planning-council-meeting-6/
CATEGORIES:Meeting
ATTACH;FMTTYPE=image/jpeg:https://www.faams.org/wp-content/uploads/2021/11/preview-full-planning-council.jpg
END:VEVENT
END:VCALENDAR