BEGIN:VCALENDAR
VERSION:2.0
PRODID:-//Families as Allies - ECPv6.15.20//NONSGML v1.0//EN
CALSCALE:GREGORIAN
METHOD:PUBLISH
X-ORIGINAL-URL:https://www.faams.org
X-WR-CALDESC:Events for Families as Allies
REFRESH-INTERVAL;VALUE=DURATION:PT1H
X-Robots-Tag:noindex
X-PUBLISHED-TTL:PT1H
BEGIN:VTIMEZONE
TZID:America/Chicago
BEGIN:DAYLIGHT
TZOFFSETFROM:-0600
TZOFFSETTO:-0500
TZNAME:CDT
DTSTART:20250309T080000
END:DAYLIGHT
BEGIN:STANDARD
TZOFFSETFROM:-0500
TZOFFSETTO:-0600
TZNAME:CST
DTSTART:20251102T070000
END:STANDARD
BEGIN:DAYLIGHT
TZOFFSETFROM:-0600
TZOFFSETTO:-0500
TZNAME:CDT
DTSTART:20260308T080000
END:DAYLIGHT
BEGIN:STANDARD
TZOFFSETFROM:-0500
TZOFFSETTO:-0600
TZNAME:CST
DTSTART:20261101T070000
END:STANDARD
BEGIN:DAYLIGHT
TZOFFSETFROM:-0600
TZOFFSETTO:-0500
TZNAME:CDT
DTSTART:20270314T080000
END:DAYLIGHT
BEGIN:STANDARD
TZOFFSETFROM:-0500
TZOFFSETTO:-0600
TZNAME:CST
DTSTART:20271107T070000
END:STANDARD
END:VTIMEZONE
BEGIN:VEVENT
DTSTART;TZID=America/Chicago:20260211T120000
DTEND;TZID=America/Chicago:20260211T130000
DTSTAMP:20260423T214025
CREATED:20250930T163051Z
LAST-MODIFIED:20250930T163051Z
UID:10002373-1770811200-1770814800@www.faams.org
SUMMARY:Supportive Coaching for Parents Supporting Other Parents
DESCRIPTION:For any parents supporting other parents in any system. Parent peer support specialists\, parent consultants\, parent educators\, and parents who have completed parent peer support training are strongly encouraged to attend. We will discuss current trends in parent peer support\, national standards for parent peer support\, continuing education opportunities\, and local and state issues affecting parent peer support. The group also provides support and coaching for any specific issues participants share. Meetings are held on the second Wednesday of each month at 12:00 p.m. We ask that anyone attending respect the confidentiality of the group. \nRegister here >>
URL:https://www.faams.org/event/supportive-coaching-for-parents-supporting-other-parents-60/
CATEGORIES:Meeting
ATTACH;FMTTYPE=image/jpeg:https://www.faams.org/wp-content/uploads/2021/04/lucas-law-ecELcxmJTk4-unsplash.jpg
END:VEVENT
BEGIN:VEVENT
DTSTART;TZID=America/Chicago:20260217T123000
DTEND;TZID=America/Chicago:20260217T133000
DTSTAMP:20260423T214025
CREATED:20260212T005837Z
LAST-MODIFIED:20260212T010101Z
UID:10002457-1771331400-1771335000@www.faams.org
SUMMARY:How to Help Students Effectively Participate in their IEP Meetings
DESCRIPTION:Mississippi Parent Training & Information Center Project \nThe Individuals with Disabilities Education Act (IDEA) considers the student to be an important member of the IEP team. This session will provide information on how to start including your child in the meetings\, how it can work\, why it’s important\, and strategies for successful outcomes. \n  \nRegister Here>>
URL:https://www.faams.org/event/how-to-help-students-effectively-participate-in-their-iep-meetings/
CATEGORIES:Meeting
ATTACH;FMTTYPE=image/png:https://www.faams.org/wp-content/uploads/2026/02/Feb-17.png
END:VEVENT
BEGIN:VEVENT
DTSTART;TZID=America/Chicago:20260220T130000
DTEND;TZID=America/Chicago:20260220T150000
DTSTAMP:20260423T214025
CREATED:20251216T211120Z
LAST-MODIFIED:20251216T214221Z
UID:10002448-1771592400-1771599600@www.faams.org
SUMMARY:Early Hearing Detection and Intervention Advisory Committee
DESCRIPTION:Mississippi Department of Health \nThe Early Hearing Detection and Intervention Advisory Council will hold a public hearing on proposed changes to the Department of Health. \nMicrosoft Teams:\nJoin the meeting now\nMeeting ID: 241 792 330 328 9\nPasscode: AJ2Jy2gf \nDial in by phone\n+1 769-208-4410\,\,661876060# United States\, Jackson\nFind a local number\nPhone conference ID: 661 876 060#\nFor organizers: Meeting options | Reset dial-in PIN \nIf you have any questions related to the public hearing\, please get in touch with Ashten Yost by email at\nAshten.Yost@msdh.ms.gov.
URL:https://www.faams.org/event/early-hearing-detection-and-intervention-advisory-committee-2/
CATEGORIES:Meeting
ATTACH;FMTTYPE=image/jpeg:https://www.faams.org/wp-content/uploads/2025/12/MSDH.jpg
END:VEVENT
END:VCALENDAR