BEGIN:VCALENDAR
VERSION:2.0
PRODID:-//Families as Allies - ECPv6.15.20//NONSGML v1.0//EN
CALSCALE:GREGORIAN
METHOD:PUBLISH
X-ORIGINAL-URL:https://www.faams.org
X-WR-CALDESC:Events for Families as Allies
REFRESH-INTERVAL;VALUE=DURATION:PT1H
X-Robots-Tag:noindex
X-PUBLISHED-TTL:PT1H
BEGIN:VTIMEZONE
TZID:America/Chicago
BEGIN:DAYLIGHT
TZOFFSETFROM:-0600
TZOFFSETTO:-0500
TZNAME:CDT
DTSTART:20190310T080000
END:DAYLIGHT
BEGIN:STANDARD
TZOFFSETFROM:-0500
TZOFFSETTO:-0600
TZNAME:CST
DTSTART:20191103T070000
END:STANDARD
BEGIN:DAYLIGHT
TZOFFSETFROM:-0600
TZOFFSETTO:-0500
TZNAME:CDT
DTSTART:20200308T080000
END:DAYLIGHT
BEGIN:STANDARD
TZOFFSETFROM:-0500
TZOFFSETTO:-0600
TZNAME:CST
DTSTART:20201101T070000
END:STANDARD
BEGIN:DAYLIGHT
TZOFFSETFROM:-0600
TZOFFSETTO:-0500
TZNAME:CDT
DTSTART:20210314T080000
END:DAYLIGHT
BEGIN:STANDARD
TZOFFSETFROM:-0500
TZOFFSETTO:-0600
TZNAME:CST
DTSTART:20211107T070000
END:STANDARD
BEGIN:DAYLIGHT
TZOFFSETFROM:-0600
TZOFFSETTO:-0500
TZNAME:CDT
DTSTART:20220313T080000
END:DAYLIGHT
BEGIN:STANDARD
TZOFFSETFROM:-0500
TZOFFSETTO:-0600
TZNAME:CST
DTSTART:20221106T070000
END:STANDARD
END:VTIMEZONE
BEGIN:VEVENT
DTSTART;TZID=America/Chicago:20210218T120000
DTEND;TZID=America/Chicago:20210218T130000
DTSTAMP:20260424T193809
CREATED:20210201T171830Z
LAST-MODIFIED:20210201T171830Z
UID:10000850-1613649600-1613653200@www.faams.org
SUMMARY:Virtual Family Support Meeting
DESCRIPTION:This meeting is open to any parent or caregiver raising a child. There’s no specific agenda—we’re just here to check in with each other\, discuss problems and concerns and support one another through this emotional time. \nRegister in advance for this meeting:\nhttps://us02web.zoom.us/meeting/register/tZEtdu-trD0oGdHvb5HbHw2gOjNJfExzgVAY \nAfter registering\, you will receive a confirmation email containing information about joining the meeting.
URL:https://www.faams.org/event/virtual-family-support-meeting-30/
CATEGORIES:Group
ATTACH;FMTTYPE=image/jpeg:https://www.faams.org/wp-content/uploads/2020/03/video-conference-meeting-1.jpg
END:VEVENT
BEGIN:VEVENT
DTSTART;TZID=America/Chicago:20210217T120000
DTEND;TZID=America/Chicago:20210217T130000
DTSTAMP:20260424T193809
CREATED:20210201T171613Z
LAST-MODIFIED:20210201T171613Z
UID:10001043-1613563200-1613566800@www.faams.org
SUMMARY:Supportive Coaching for Parents Supporting Other Parents
DESCRIPTION:Join us via Zoom for our monthly Coaching and Support session for parents who are supporting other parents in any system. \nRegister here:\nhttps://us02web.zoom.us/meeting/register/tZAof-2grzgqHtLSskmlqCY7nuGPwuNILbJS
URL:https://www.faams.org/event/supportive-coaching-for-parents-supporting-other-parents-2/
CATEGORIES:Group,Training
ATTACH;FMTTYPE=image/jpeg:https://www.faams.org/wp-content/uploads/2019/07/Famleadtraining2-18.jpg
END:VEVENT
BEGIN:VEVENT
DTSTART;TZID=America/Chicago:20210211T120000
DTEND;TZID=America/Chicago:20210211T130000
DTSTAMP:20260424T193809
CREATED:20210201T170850Z
LAST-MODIFIED:20210201T170850Z
UID:10001042-1613044800-1613048400@www.faams.org
SUMMARY:Virtual Family Support Meeting
DESCRIPTION:This meeting is open to any parent or caregiver raising a child. There’s no specific agenda—we’re just here to check in with each other\, discuss problems and concerns and support one another through this emotional time. \nRegister in advance for this meeting:\nhttps://us02web.zoom.us/meeting/register/tZMufu-pqjssHNYChvWrPUMFLdEGg6Y6ozeo \nAfter registering\, you will receive a confirmation email containing information about joining the meeting.
URL:https://www.faams.org/event/virtual-family-support-meeting-29/
CATEGORIES:Group
ATTACH;FMTTYPE=image/jpeg:https://www.faams.org/wp-content/uploads/2020/03/video-conference-meeting-1.jpg
END:VEVENT
BEGIN:VEVENT
DTSTART;TZID=America/Chicago:20210204T120000
DTEND;TZID=America/Chicago:20210204T130000
DTSTAMP:20260424T193809
CREATED:20210201T170337Z
LAST-MODIFIED:20210201T170337Z
UID:10001041-1612440000-1612443600@www.faams.org
SUMMARY:Virtual Family Support Meeting
DESCRIPTION:This meeting is open to any parent or caregiver raising a child. There’s no specific agenda—we’re just here to check in with each other\, discuss problems and concerns and support one another through this emotional time. \nRegister in advance for this meeting:\nhttps://us02web.zoom.us/meeting/register/tZwodeispzooGNBvb91DOGKLjYxdyTM51SHQ \nAfter registering\, you will receive a confirmation email containing information about joining the meeting.
URL:https://www.faams.org/event/virtual-family-support-meeting-28/
CATEGORIES:Group
ATTACH;FMTTYPE=image/jpeg:https://www.faams.org/wp-content/uploads/2020/03/video-conference-meeting-1.jpg
END:VEVENT
BEGIN:VEVENT
DTSTART;TZID=America/Chicago:20210128T120000
DTEND;TZID=America/Chicago:20210128T130000
DTSTAMP:20260424T193809
CREATED:20210127T161237Z
LAST-MODIFIED:20210127T161237Z
UID:10001040-1611835200-1611838800@www.faams.org
SUMMARY:Virtual Family Support Meeting
DESCRIPTION:This meeting is open to any parent or caregiver raising a child. There’s no specific agenda—we’re just here to check in with each other\, discuss problems and concerns and support one another through this emotional time. \nRegister in advance for this meeting:\nhttps://us02web.zoom.us/meeting/register/tZItdu2vpzIqHtfj1cIMt-mCCwij5bIKZrvI \nAfter registering\, you will receive a confirmation email containing information about joining the meeting.
URL:https://www.faams.org/event/virtual-family-support-meeting-27/
CATEGORIES:Group
ATTACH;FMTTYPE=image/jpeg:https://www.faams.org/wp-content/uploads/2020/03/video-conference-meeting-1.jpg
END:VEVENT
BEGIN:VEVENT
DTSTART;TZID=America/Chicago:20210121T120000
DTEND;TZID=America/Chicago:20210121T130000
DTSTAMP:20260424T193809
CREATED:20210108T002039Z
LAST-MODIFIED:20210108T004222Z
UID:10001028-1611230400-1611234000@www.faams.org
SUMMARY:Virtual Family Support Meeting
DESCRIPTION:This meeting is open to any parent or caregiver raising a child. There’s no specific agenda—we’re just here to check in with each other\, discuss problems and concerns and support one another through this emotional time. \nRegister in advance for this meeting:\nhttps://us02web.zoom.us/meeting/register/tZUrceyspz4qGdXuCMCkJZZO5l2hf_0vUB2- \nAfter registering\, you will receive a confirmation email containing information about joining the meeting.
URL:https://www.faams.org/event/virtual-family-support-meeting-26/
CATEGORIES:Group
ATTACH;FMTTYPE=image/jpeg:https://www.faams.org/wp-content/uploads/2020/03/video-conference-meeting-1.jpg
END:VEVENT
BEGIN:VEVENT
DTSTART;TZID=America/Chicago:20210120T120000
DTEND;TZID=America/Chicago:20210120T130000
DTSTAMP:20260424T193809
CREATED:20210108T001921Z
LAST-MODIFIED:20210108T001936Z
UID:10001026-1611144000-1611147600@www.faams.org
SUMMARY:Supportive Coaching for Parents Supporting Other Parents
DESCRIPTION:Join us via Zoom for our monthly Coaching and Support session for parents who are supporting other parents in any system. \nRegister here: https://us02web.zoom.us/meeting/register/tZAlceusqT0jEteUoR6xMZaXzR97S22xmV_S
URL:https://www.faams.org/event/supportive-coaching-for-parents-supporting-other-parents/
CATEGORIES:Group,Training
ATTACH;FMTTYPE=image/jpeg:https://www.faams.org/wp-content/uploads/2019/07/Famleadtraining2-18.jpg
END:VEVENT
BEGIN:VEVENT
DTSTART;TZID=America/Chicago:20210114T120000
DTEND;TZID=America/Chicago:20210114T130000
DTSTAMP:20260424T193809
CREATED:20210108T001736Z
LAST-MODIFIED:20210108T001736Z
UID:10001024-1610625600-1610629200@www.faams.org
SUMMARY:Virtual Family Support Meeting
DESCRIPTION:This meeting is open to any parent or caregiver raising a child. There’s no specific agenda—we’re just here to check in with each other\, discuss problems and concerns and support one another through this emotional time. \nRegister in advance for this meeting:\nhttps://us02web.zoom.us/meeting/register/tZ0pdOCtpzwpG9OyHQE9d_374UaGcPUjyRcU \nAfter registering\, you will receive a confirmation email containing information about joining the meeting.
URL:https://www.faams.org/event/virtual-family-support-meeting-25/
CATEGORIES:Group
ATTACH;FMTTYPE=image/jpeg:https://www.faams.org/wp-content/uploads/2020/03/video-conference-meeting-1.jpg
END:VEVENT
BEGIN:VEVENT
DTSTART;TZID=America/Chicago:20201217T120000
DTEND;TZID=America/Chicago:20201217T130000
DTSTAMP:20260424T193809
CREATED:20201210T231703Z
LAST-MODIFIED:20201210T231703Z
UID:10001019-1608206400-1608210000@www.faams.org
SUMMARY:Virtual Family Support Meeting
DESCRIPTION:This meeting is open to any parent or caregiver raising a child. There’s no specific agenda—we’re just here to check in with each other\, discuss problems and concerns and support one another through this emotional time. \nRegister in advance for this meeting:\nhttps://us02web.zoom.us/meeting/register/tZYuf-ihqzMsGdUT051iAPrcLoA55EDgBaiJ \nAfter registering\, you will receive a confirmation email containing information about joining the meeting.
URL:https://www.faams.org/event/virtual-family-support-meeting-24/
CATEGORIES:Group
ATTACH;FMTTYPE=image/jpeg:https://www.faams.org/wp-content/uploads/2020/03/video-conference-meeting-1.jpg
END:VEVENT
BEGIN:VEVENT
DTSTART;TZID=America/Chicago:20201216T120000
DTEND;TZID=America/Chicago:20201216T130000
DTSTAMP:20260424T193809
CREATED:20201210T231806Z
LAST-MODIFIED:20201210T231806Z
UID:10001020-1608120000-1608123600@www.faams.org
SUMMARY:Coaching and Support - Monthly Session
DESCRIPTION:Join us via Zoom for our monthly Coaching and Support session for parents who are supporting other parents in any system. Click here to register.
URL:https://www.faams.org/event/coaching-and-support-monthly-session-3/
CATEGORIES:Group,Training
ATTACH;FMTTYPE=image/jpeg:https://www.faams.org/wp-content/uploads/2019/07/Famleadtraining2-18.jpg
END:VEVENT
BEGIN:VEVENT
DTSTART;TZID=America/Chicago:20201210T120000
DTEND;TZID=America/Chicago:20201210T130000
DTSTAMP:20260424T193809
CREATED:20201207T162509Z
LAST-MODIFIED:20201207T162509Z
UID:10001016-1607601600-1607605200@www.faams.org
SUMMARY:Virtual Family Support Meeting
DESCRIPTION:This meeting is open to any parent or caregiver raising a child. There’s no specific agenda—we’re just here to check in with each other\, discuss problems and concerns and support one another through this emotional time. \nRegister in advance for this meeting:\nhttps://us02web.zoom.us/meeting/register/tZYuf-ihqzMsGdUT051iAPrcLoA55EDgBaiJ \nAfter registering\, you will receive a confirmation email containing information about joining the meeting.
URL:https://www.faams.org/event/virtual-family-support-meeting-23/
CATEGORIES:Group
ATTACH;FMTTYPE=image/jpeg:https://www.faams.org/wp-content/uploads/2020/03/video-conference-meeting-1.jpg
END:VEVENT
BEGIN:VEVENT
DTSTART;TZID=America/Chicago:20201203T120000
DTEND;TZID=America/Chicago:20201203T130000
DTSTAMP:20260424T193809
CREATED:20201130T232454Z
LAST-MODIFIED:20201130T232557Z
UID:10001008-1606996800-1607000400@www.faams.org
SUMMARY:Virtual Family Support Meeting
DESCRIPTION:This meeting is open to any parent or caregiver raising a child. There’s no specific agenda—we’re just here to check in with each other\, discuss problems and concerns and support one another through this emotional time. \nRegister in advance for this meeting:\nhttps://us02web.zoom.us/meeting/register/tZEkcemprDMsE9BtoFyjDP0TAE2Sep6Mb0eD \nAfter registering\, you will receive a confirmation email containing information about joining the meeting.
URL:https://www.faams.org/event/virtual-family-support-meeting-22/
CATEGORIES:Group
ATTACH;FMTTYPE=image/jpeg:https://www.faams.org/wp-content/uploads/2020/03/video-conference-meeting-1.jpg
END:VEVENT
BEGIN:VEVENT
DTSTART;TZID=America/Chicago:20201119T120000
DTEND;TZID=America/Chicago:20201119T130000
DTSTAMP:20260424T193809
CREATED:20201105T201249Z
LAST-MODIFIED:20201105T201405Z
UID:10000839-1605787200-1605790800@www.faams.org
SUMMARY:Virtual Family Support Meeting
DESCRIPTION:This meeting is open to any parent or caregiver raising a child. There’s no specific agenda—we’re just here to check in with each other\, discuss problems and concerns and support one another through this emotional time. \nRegister in advance for this meeting:\nhttps://us02web.zoom.us/meeting/register/tZEkcemprDMsE9BtoFyjDP0TAE2Sep6Mb0eD \nAfter registering\, you will receive a confirmation email containing information about joining the meeting.
URL:https://www.faams.org/event/virtual-family-support-meeting-21/
CATEGORIES:Group
ATTACH;FMTTYPE=image/jpeg:https://www.faams.org/wp-content/uploads/2020/03/video-conference-meeting-1.jpg
END:VEVENT
BEGIN:VEVENT
DTSTART;TZID=America/Chicago:20201118T120000
DTEND;TZID=America/Chicago:20201118T130000
DTSTAMP:20260424T193809
CREATED:20201111T025611Z
LAST-MODIFIED:20201111T032425Z
UID:10000841-1605700800-1605704400@www.faams.org
SUMMARY:Coaching and Support - Monthly Session
DESCRIPTION:Join us via Zoom for our monthly Coaching and Support session for parents who are supporting other parents in any system. Click here to register.
URL:https://www.faams.org/event/coaching-and-support-monthly-session-2/
CATEGORIES:Group,Training
ATTACH;FMTTYPE=image/jpeg:https://www.faams.org/wp-content/uploads/2019/07/Famleadtraining2-18.jpg
END:VEVENT
BEGIN:VEVENT
DTSTART;TZID=America/Chicago:20201112T120000
DTEND;TZID=America/Chicago:20201112T130000
DTSTAMP:20260424T193809
CREATED:20201105T201140Z
LAST-MODIFIED:20201105T201140Z
UID:10000837-1605182400-1605186000@www.faams.org
SUMMARY:Virtual Family Support Meeting
DESCRIPTION:This meeting is open to any parent or caregiver raising a child. There’s no specific agenda—we’re just here to check in with each other\, discuss problems and concerns and support one another through this emotional time. \nRegister in advance for this meeting:\nhttps://us02web.zoom.us/meeting/register/tZIvf-urqzsoG9w7GH0lmswgFOBJj-F94MIp \nAfter registering\, you will receive a confirmation email containing information about joining the meeting.
URL:https://www.faams.org/event/virtual-family-support-meeting-20/
CATEGORIES:Group
ATTACH;FMTTYPE=image/jpeg:https://www.faams.org/wp-content/uploads/2020/03/video-conference-meeting-1.jpg
END:VEVENT
BEGIN:VEVENT
DTSTART;TZID=America/Chicago:20201106T100000
DTEND;TZID=America/Chicago:20201106T110000
DTSTAMP:20260424T193809
CREATED:20201023T212630Z
LAST-MODIFIED:20201105T020836Z
UID:10000834-1604656800-1604660400@www.faams.org
SUMMARY:Early Childhood Focus Group Session 9
DESCRIPTION:This meeting is for Mississippi parents and caregivers (a caregiver is someone who is raising a child who is not the child’s parent) of children ages birth to 5 who have social\, emotional or developmental challenges.\n\nParents will be asked to share their thoughts about getting help for their children and to compare what happens to them to what happened to families in earlier groups. Information will be used to help Mississippi Thrive understand the best ways to set up services to be able to help young children and their families.\n\nAll participants who complete the focus group will receive a $25 Walmart gift card. Registration is required and you will be asked for your mailing address during registration so that your gift card can be mailed to you after you finish the group.
URL:https://www.faams.org/event/early-childhood-focus-group-session-9/
CATEGORIES:Group
ATTACH;FMTTYPE=image/jpeg:https://www.faams.org/wp-content/uploads/2020/09/larry-crayton-Oj77q2yIjzI-unsplash-scaled.jpg
END:VEVENT
BEGIN:VEVENT
DTSTART;TZID=America/Chicago:20201105T120000
DTEND;TZID=America/Chicago:20201105T130000
DTSTAMP:20260424T193809
CREATED:20201105T020531Z
LAST-MODIFIED:20201105T020531Z
UID:10000836-1604577600-1604581200@www.faams.org
SUMMARY:Virtual Family Support Meeting
DESCRIPTION:This meeting is open to any parent or caregiver raising a child. There’s no specific agenda—we’re just here to check in with each other\, discuss problems and concerns and support one another through this emotional time. \nRegister in advance for this meeting:\nhttps://us02web.zoom.us/meeting/register/tZ0lf-igqDosHNJ7WxshoN3NGLLmnwx5QKXe \nAfter registering\, you will receive a confirmation email containing information about joining the meeting.
URL:https://www.faams.org/event/virtual-family-support-meeting-19/
CATEGORIES:Group
ATTACH;FMTTYPE=image/jpeg:https://www.faams.org/wp-content/uploads/2020/03/video-conference-meeting-1.jpg
END:VEVENT
BEGIN:VEVENT
DTSTART;TZID=America/Chicago:20201029T120000
DTEND;TZID=America/Chicago:20201029T130000
DTSTAMP:20260424T193809
CREATED:20200921T214403Z
LAST-MODIFIED:20200921T214416Z
UID:10000990-1603972800-1603976400@www.faams.org
SUMMARY:Virtual Family Support Meeting
DESCRIPTION:This meeting is open to any parent or caregiver raising a child. There’s no specific agenda—we’re just here to check in with each other\, discuss problems and concerns and support one another through this emotional time. \nRegister in advance for this meeting:\nhttps://us02web.zoom.us/meeting/register/tZcode-grjguH9NcpNQ5v2nUckNBqUiH9z_u \nAfter registering\, you will receive a confirmation email containing information about joining the meeting.
URL:https://www.faams.org/event/virtual-family-support-meeting-18/
CATEGORIES:Group
ATTACH;FMTTYPE=image/jpeg:https://www.faams.org/wp-content/uploads/2020/03/video-conference-meeting-1.jpg
END:VEVENT
BEGIN:VEVENT
DTSTART;TZID=America/Chicago:20201026T120000
DTEND;TZID=America/Chicago:20201026T130000
DTSTAMP:20260424T193809
CREATED:20201023T212353Z
LAST-MODIFIED:20201023T213044Z
UID:10000832-1603713600-1603717200@www.faams.org
SUMMARY:Early Childhood Focus Group Session 6
DESCRIPTION:This conference call focus group is for Mississippi parents and caregivers of children ages birth to 5 who have social\, emotional or developmental challenges. \nIn the focus groups\, parents will be asked to share their thoughts about getting help for their children and to compare what happens to them to what happened to families in groups that we did a few years ago. Each of the focus groups will last about one hour. \n\n\nEach focus group will last 45-60 minutes and you will receive a $25 Walmart gift card for participating. You will be asked if you think what families said in 2013 about getting help for their young children is still the same or if things are different.  You can read what parents said in our 2013 focus groups by clicking here.
URL:https://www.faams.org/event/early-childhood-focus-group-session-6/
CATEGORIES:Group
ATTACH;FMTTYPE=image/jpeg:https://www.faams.org/wp-content/uploads/2020/09/larry-crayton-Oj77q2yIjzI-unsplash-scaled.jpg
END:VEVENT
BEGIN:VEVENT
DTSTART;TZID=America/Chicago:20201022T120000
DTEND;TZID=America/Chicago:20201022T130000
DTSTAMP:20260424T193809
CREATED:20200921T214319Z
LAST-MODIFIED:20200921T214319Z
UID:10000988-1603368000-1603371600@www.faams.org
SUMMARY:Virtual Family Support Meeting
DESCRIPTION:This meeting is open to any parent or caregiver raising a child. There’s no specific agenda—we’re just here to check in with each other\, discuss problems and concerns and support one another through this emotional time. \nRegister in advance for this meeting:\nhttps://us02web.zoom.us/meeting/register/tZcvd-CqqDMtGt0DTjsoF8w_SuRzEraHCmNf \nAfter registering\, you will receive a confirmation email containing information about joining the meeting.
URL:https://www.faams.org/event/virtual-family-support-meeting-17/
CATEGORIES:Group
ATTACH;FMTTYPE=image/jpeg:https://www.faams.org/wp-content/uploads/2020/03/video-conference-meeting-1.jpg
END:VEVENT
BEGIN:VEVENT
DTSTART;TZID=America/Chicago:20201021T120000
DTEND;TZID=America/Chicago:20201021T130000
DTSTAMP:20260424T193809
CREATED:20200307T193241Z
LAST-MODIFIED:20201006T193642Z
UID:10000896-1603281600-1603285200@www.faams.org
SUMMARY:Coaching and Support - Monthly Session
DESCRIPTION:Join us via Zoom for our monthly Coaching and Support session for parents who are supporting other parents in any system. Click here to register.
URL:https://www.faams.org/event/coaching-and-support-monthly-session/
CATEGORIES:Group,Training
ATTACH;FMTTYPE=image/jpeg:https://www.faams.org/wp-content/uploads/2019/07/Famleadtraining2-18.jpg
END:VEVENT
BEGIN:VEVENT
DTSTART;TZID=America/Chicago:20201015T120000
DTEND;TZID=America/Chicago:20201015T130000
DTSTAMP:20260424T193809
CREATED:20200921T214146Z
LAST-MODIFIED:20200921T214215Z
UID:10000986-1602763200-1602766800@www.faams.org
SUMMARY:Virtual Family Support Meeting
DESCRIPTION:This meeting is open to any parent or caregiver raising a child. There’s no specific agenda—we’re just here to check in with each other\, discuss problems and concerns and support one another through this emotional time. \nRegister in advance for this meeting:\nhttps://us02web.zoom.us/meeting/register/tZMsde-pqDMvGNCQ7nhva8MS6YRdhSA4TH-u \nAfter registering\, you will receive a confirmation email containing information about joining the meeting.
URL:https://www.faams.org/event/virtual-family-support-meeting-16/
CATEGORIES:Group
ATTACH;FMTTYPE=image/jpeg:https://www.faams.org/wp-content/uploads/2020/03/video-conference-meeting-1.jpg
END:VEVENT
BEGIN:VEVENT
DTSTART;TZID=America/Chicago:20201008T120000
DTEND;TZID=America/Chicago:20201008T130000
DTSTAMP:20260424T193809
CREATED:20200921T214035Z
LAST-MODIFIED:20200921T214035Z
UID:10000984-1602158400-1602162000@www.faams.org
SUMMARY:Virtual Family Support Meeting
DESCRIPTION:This meeting is open to any parent or caregiver raising a child. There’s no specific agenda—we’re just here to check in with each other\, discuss problems and concerns and support one another through this emotional time. \nRegister in advance for this meeting:\nhttps://us02web.zoom.us/meeting/register/tZIqceqqqzMjHN23tE5uo8z7aqlJuV4tfLJi \nAfter registering\, you will receive a confirmation email containing information about joining the meeting.
URL:https://www.faams.org/event/virtual-family-support-meeting-15/
CATEGORIES:Group
ATTACH;FMTTYPE=image/jpeg:https://www.faams.org/wp-content/uploads/2020/03/video-conference-meeting-1.jpg
END:VEVENT
BEGIN:VEVENT
DTSTART;TZID=America/Chicago:20201001T120000
DTEND;TZID=America/Chicago:20201001T130000
DTSTAMP:20260424T193809
CREATED:20200921T213833Z
LAST-MODIFIED:20200930T000313Z
UID:10000982-1601553600-1601557200@www.faams.org
SUMMARY:Virtual Family Support Meeting
DESCRIPTION:This meeting is open to any parent or caregiver raising a child. There’s no specific agenda—we’re just here to check in with each other\, discuss problems and concerns and support one another through this emotional time. \nRegister in advance for this meeting:\nhttps://us02web.zoom.us/meeting/register/tZwucu-hpzwoH90yvatte1Sx7TBXCkjBUYeH \nAfter registering\, you will receive a confirmation email containing information about joining the meeting.
URL:https://www.faams.org/event/virtual-family-support-meeting-14/
CATEGORIES:Group
ATTACH;FMTTYPE=image/jpeg:https://www.faams.org/wp-content/uploads/2020/03/video-conference-meeting-1.jpg
END:VEVENT
BEGIN:VEVENT
DTSTART;TZID=America/Chicago:20200930T120000
DTEND;TZID=America/Chicago:20200930T130000
DTSTAMP:20260424T193809
CREATED:20200908T173402Z
LAST-MODIFIED:20200908T173402Z
UID:10000818-1601467200-1601470800@www.faams.org
SUMMARY:Facebook Live - 9/30/20
DESCRIPTION:This Sept 30 at noon\, we’ll do a FB Live to share what’s going on at Families as Allies and also get everyone’s ideas about Families as Allies and how we can all work together to make things better for our children. \nhttps://www.facebook.com/faams.org/
URL:https://www.faams.org/event/facebook-live-9-30-20/
CATEGORIES:Group
ATTACH;FMTTYPE=image/png:https://www.faams.org/wp-content/uploads/2020/09/Copy-of-Copy-of-Simple-Border-Justice-Hall-Quote-Law-Day-Social-Media-Graphic-1.png
END:VEVENT
BEGIN:VEVENT
DTSTART;TZID=America/Chicago:20200924T120000
DTEND;TZID=America/Chicago:20200924T130000
DTSTAMP:20260424T193809
CREATED:20200825T192330Z
LAST-MODIFIED:20200916T232335Z
UID:10000810-1600948800-1600952400@www.faams.org
SUMMARY:Virtual Family Support Meeting
DESCRIPTION:This meeting is open to any parent or caregiver raising a child. There’s no specific agenda—we’re just here to check in with each other\, discuss problems and concerns and support one another through this emotional time. \nRegister in advance for this meeting:\nhttps://us02web.zoom.us/meeting/register/tZwudemgrzojEtR5bKlS6VgjIlGwrcGFzRZr \nAfter registering\, you will receive a confirmation email containing information about joining the meeting.
URL:https://www.faams.org/event/virtual-family-support-meeting-13/
CATEGORIES:Group
ATTACH;FMTTYPE=image/jpeg:https://www.faams.org/wp-content/uploads/2020/03/video-conference-meeting-1.jpg
END:VEVENT
BEGIN:VEVENT
DTSTART;TZID=America/Chicago:20200917T120000
DTEND;TZID=America/Chicago:20200917T130000
DTSTAMP:20260424T193809
CREATED:20200825T192213Z
LAST-MODIFIED:20200916T231606Z
UID:10000809-1600344000-1600347600@www.faams.org
SUMMARY:Virtual Family Support Meeting
DESCRIPTION:This meeting is open to any parent or caregiver raising a child. There’s no specific agenda—we’re just here to check in with each other\, discuss problems and concerns and support one another through this emotional time. \nRegister in advance for this meeting:\nhttps://us02web.zoom.us/meeting/register/tZMvcuyhqz4jHtNCdbOQ1BXsCSQr8I6fxGEp \nAfter registering\, you will receive a confirmation email containing information about joining the meeting.
URL:https://www.faams.org/event/virtual-family-support-meeting-12/
CATEGORIES:Group
ATTACH;FMTTYPE=image/jpeg:https://www.faams.org/wp-content/uploads/2020/03/video-conference-meeting-1.jpg
END:VEVENT
BEGIN:VEVENT
DTSTART;TZID=America/Chicago:20200916T120000
DTEND;TZID=America/Chicago:20200916T130000
DTSTAMP:20260424T193809
CREATED:20200307T193241Z
LAST-MODIFIED:20200824T141248Z
UID:10000901-1600257600-1600261200@www.faams.org
SUMMARY:Coaching and Support - Monthly Session
DESCRIPTION:Join us via Zoom for our monthly Coaching and Support session for parents who are supporting other parents in any system. Click here to register.
URL:https://www.faams.org/event/coaching-and-support-monthly-session-2020-09-16/
CATEGORIES:Group,Training
ATTACH;FMTTYPE=image/jpeg:https://www.faams.org/wp-content/uploads/2019/07/Famleadtraining2-18.jpg
END:VEVENT
BEGIN:VEVENT
DTSTART;TZID=America/Chicago:20200910T120000
DTEND;TZID=America/Chicago:20200910T130000
DTSTAMP:20260424T193809
CREATED:20200810T141237Z
LAST-MODIFIED:20200903T231733Z
UID:10000971-1599739200-1599742800@www.faams.org
SUMMARY:Virtual Family Support Meeting
DESCRIPTION:This meeting is open to any parent or caregiver raising a child. There’s no specific agenda—we’re just here to check in with each other\, discuss problems and concerns and support one another through this emotional time. \nRegister in advance for this meeting:\nhttps://zoom.us/meeting/register/tJUudeGhrj0uvlYdWW5R7YJJ6PgFrdzpMw \nAfter registering\, you will receive a confirmation email containing information about joining the meeting.
URL:https://www.faams.org/event/virtual-family-support-meeting-9/
CATEGORIES:Group
ATTACH;FMTTYPE=image/jpeg:https://www.faams.org/wp-content/uploads/2020/03/video-conference-meeting-1.jpg
END:VEVENT
BEGIN:VEVENT
DTSTART;TZID=America/Chicago:20200909T173000
DTEND;TZID=America/Chicago:20200909T183000
DTSTAMP:20260424T193809
CREATED:20200902T224228Z
LAST-MODIFIED:20200903T011654Z
UID:10000814-1599672600-1599676200@www.faams.org
SUMMARY:Virtual Community Listening Forum - Mississippi's Developmental Disabilities Network
DESCRIPTION:Description: You are invited to attend the Virtual Community Listening Forum to share what services\, supports\, and resources are needed most by people with developmental disabilities in Mississippi. This will assist in planning for future programs and activities. \nWho should participate in the Virtual Community Listening Forum? \n\nPeople with developmental or other disabilities\nParents or other family members\nCaregivers\n\nSeptember 9\, 2020 \n12:00-1:00 p.m. or 5:30-6:30 p.m. \nRegister: tinyurl.com/MSDDN2020 \nPlease register for one of the forums. A link for the forum will be e-mailed by September 9\, 2020. \nThe Community Listening Forum is hosted by Mississippi’s Developmental Disabilities Network (Mississippi Council on Developmental Disabilities\, Disability Rights Mississippi\, and the Institute for Disability Studies at the University of Southern Mississippi).
URL:https://www.faams.org/event/virtual-community-listening-forum-mississippis-development-disabilities-network/2020-09-09/2/
CATEGORIES:Group
ATTACH;FMTTYPE=image/jpeg:https://www.faams.org/wp-content/uploads/2020/09/unnamed.jpg
END:VEVENT
END:VCALENDAR