BEGIN:VCALENDAR
VERSION:2.0
PRODID:-//Families as Allies - ECPv6.15.20//NONSGML v1.0//EN
CALSCALE:GREGORIAN
METHOD:PUBLISH
X-WR-CALNAME:Families as Allies
X-ORIGINAL-URL:https://www.faams.org
X-WR-CALDESC:Events for Families as Allies
REFRESH-INTERVAL;VALUE=DURATION:PT1H
X-Robots-Tag:noindex
X-PUBLISHED-TTL:PT1H
BEGIN:VTIMEZONE
TZID:America/Chicago
BEGIN:DAYLIGHT
TZOFFSETFROM:-0600
TZOFFSETTO:-0500
TZNAME:CDT
DTSTART:20190310T080000
END:DAYLIGHT
BEGIN:STANDARD
TZOFFSETFROM:-0500
TZOFFSETTO:-0600
TZNAME:CST
DTSTART:20191103T070000
END:STANDARD
BEGIN:DAYLIGHT
TZOFFSETFROM:-0600
TZOFFSETTO:-0500
TZNAME:CDT
DTSTART:20200308T080000
END:DAYLIGHT
BEGIN:STANDARD
TZOFFSETFROM:-0500
TZOFFSETTO:-0600
TZNAME:CST
DTSTART:20201101T070000
END:STANDARD
BEGIN:DAYLIGHT
TZOFFSETFROM:-0600
TZOFFSETTO:-0500
TZNAME:CDT
DTSTART:20210314T080000
END:DAYLIGHT
BEGIN:STANDARD
TZOFFSETFROM:-0500
TZOFFSETTO:-0600
TZNAME:CST
DTSTART:20211107T070000
END:STANDARD
END:VTIMEZONE
BEGIN:VEVENT
DTSTART;TZID=America/Chicago:20200326T163000
DTEND;TZID=America/Chicago:20200326T173000
DTSTAMP:20260424T074816
CREATED:20200323T192241Z
LAST-MODIFIED:20200324T173845Z
UID:10000905-1585240200-1585243800@www.faams.org
SUMMARY:Virtual Family Support Meeting
DESCRIPTION:This meeting is open to any parent or caregiver raising a child who has behavioral mental health challenges. There’s no specific agenda—we’re just here to check in with each other\, discuss problems and concerns and support one another through this emotional time. All are welcome.\n\nWatch this to learn more about using Zoom: https://www.youtube.com/watch?v=2BEPQsfUg2M\n\n\n\n\nTopic: Virtual Family Support Meeting\nTime: Mar 26\, 2020 04:30 PM Central Time (US and Canada)Join Zoom Meeting\nhttps://zoom.us/j/6013550915\nMeeting ID: 601 355 0915
URL:https://www.faams.org/event/virtual-family-support-meeting/
CATEGORIES:Group
ATTACH;FMTTYPE=image/jpeg:https://www.faams.org/wp-content/uploads/2020/03/video-conference-meeting-1.jpg
END:VEVENT
BEGIN:VEVENT
DTSTART;TZID=America/Chicago:20200415T120000
DTEND;TZID=America/Chicago:20200415T130000
DTSTAMP:20260424T074816
CREATED:20200307T193241Z
LAST-MODIFIED:20200413T064533Z
UID:10000897-1586952000-1586955600@www.faams.org
SUMMARY:Coaching and Support - Monthly Session
DESCRIPTION:Join us via Zoom for our monthly Coaching and Support session for parents who are supporting other parents in any system. Click here to register.
URL:https://www.faams.org/event/coaching-and-support-monthly-session-2020-04-15/
CATEGORIES:Group,Training
ATTACH;FMTTYPE=image/jpeg:https://www.faams.org/wp-content/uploads/2019/07/Famleadtraining2-18.jpg
END:VEVENT
BEGIN:VEVENT
DTSTART;TZID=America/Chicago:20200416T163000
DTEND;TZID=America/Chicago:20200416T173000
DTSTAMP:20260424T074816
CREATED:20200401T150931Z
LAST-MODIFIED:20200413T064731Z
UID:10000927-1587054600-1587058200@www.faams.org
SUMMARY:Virtual Family Support Meeting
DESCRIPTION:This meeting is open to any parent or caregiver raising a child who has behavioral mental health challenges. There’s no specific agenda—we’re just here to check in with each other\, discuss problems and concerns and support one another through this emotional time. \nRegister in advance for this meeting:\nhttps://zoom.us/meeting/register/tJUudeGhrj0uvlYdWW5R7YJJ6PgFrdzpMw \nAfter registering\, you will receive a confirmation email containing information about joining the meeting.
URL:https://www.faams.org/event/virtual-family-support-meeting-040920-2020-04-16/
CATEGORIES:Group
ATTACH;FMTTYPE=image/jpeg:https://www.faams.org/wp-content/uploads/2020/03/video-conference-meeting-1.jpg
END:VEVENT
BEGIN:VEVENT
DTSTART;TZID=America/Chicago:20200430T163000
DTEND;TZID=America/Chicago:20200430T173000
DTSTAMP:20260424T074816
CREATED:20200401T150931Z
LAST-MODIFIED:20200428T174451Z
UID:10000929-1588264200-1588267800@www.faams.org
SUMMARY:Virtual Family Support Meeting
DESCRIPTION:This meeting is open to any parent or caregiver raising a child who has behavioral mental health challenges. There’s no specific agenda—we’re just here to check in with each other\, discuss problems and concerns and support one another through this emotional time. \nRegister in advance for this meeting:\nhttps://zoom.us/meeting/register/tJUudeGhrj0uvlYdWW5R7YJJ6PgFrdzpMw \nAfter registering\, you will receive a confirmation email containing information about joining the meeting.
URL:https://www.faams.org/event/virtual-family-support-meeting-040920-2020-04-30/
CATEGORIES:Group
ATTACH;FMTTYPE=image/jpeg:https://www.faams.org/wp-content/uploads/2020/03/video-conference-meeting-1.jpg
END:VEVENT
BEGIN:VEVENT
DTSTART;TZID=America/Chicago:20200514T120000
DTEND;TZID=America/Chicago:20200514T130000
DTSTAMP:20260424T074816
CREATED:20200401T150931Z
LAST-MODIFIED:20200512T225735Z
UID:10000931-1589457600-1589461200@www.faams.org
SUMMARY:Virtual Family Support Meeting
DESCRIPTION:This meeting is open to any parent or caregiver raising a child who has behavioral mental health challenges. There’s no specific agenda—we’re just here to check in with each other\, discuss problems and concerns and support one another through this emotional time. \nRegister in advance for this meeting:\nhttps://us02web.zoom.us/meeting/register/tJUudeGhrj0uvlYdWW5R7YJJ6PgFrdzpMw \nAfter registering\, you will receive a confirmation email containing information about joining the meeting.
URL:https://www.faams.org/event/virtual-family-support-meeting-040920-2020-05-14/
CATEGORIES:Group
ATTACH;FMTTYPE=image/jpeg:https://www.faams.org/wp-content/uploads/2020/03/video-conference-meeting-1.jpg
END:VEVENT
BEGIN:VEVENT
DTSTART;TZID=America/Chicago:20200521T120000
DTEND;TZID=America/Chicago:20200521T120000
DTSTAMP:20260424T074816
CREATED:20200401T150931Z
LAST-MODIFIED:20200519T233159Z
UID:10000908-1590062400-1590062400@www.faams.org
SUMMARY:Virtual Family Support Meeting
DESCRIPTION:This meeting is open to any parent or caregiver raising a child who has behavioral mental health challenges. There’s no specific agenda—we’re just here to check in with each other\, discuss problems and concerns and support one another through this emotional time. \nRegister in advance for this meeting:\nhttps://zoom.us/meeting/register/tJUudeGhrj0uvlYdWW5R7YJJ6PgFrdzpMw \nAfter registering\, you will receive a confirmation email containing information about joining the meeting.
URL:https://www.faams.org/event/virtual-family-support-meeting-040920/2020-05-21/
CATEGORIES:Group
ATTACH;FMTTYPE=image/jpeg:https://www.faams.org/wp-content/uploads/2020/03/video-conference-meeting-1.jpg
END:VEVENT
BEGIN:VEVENT
DTSTART;TZID=America/Chicago:20200528T120000
DTEND;TZID=America/Chicago:20200528T120000
DTSTAMP:20260424T074816
CREATED:20200401T150931Z
LAST-MODIFIED:20200526T151111Z
UID:10000933-1590667200-1590667200@www.faams.org
SUMMARY:Virtual Family Support Meeting
DESCRIPTION:This meeting is open to any parent or caregiver raising a child who has behavioral mental health challenges. There’s no specific agenda—we’re just here to check in with each other\, discuss problems and concerns and support one another through this emotional time. \nRegister in advance for this meeting:\nhttps://zoom.us/meeting/register/tJUudeGhrj0uvlYdWW5R7YJJ6PgFrdzpMw \nAfter registering\, you will receive a confirmation email containing information about joining the meeting.
URL:https://www.faams.org/event/virtual-family-support-meeting-040920-2020-05-28/
CATEGORIES:Group
ATTACH;FMTTYPE=image/jpeg:https://www.faams.org/wp-content/uploads/2020/03/video-conference-meeting-1.jpg
END:VEVENT
BEGIN:VEVENT
DTSTART;TZID=America/Chicago:20200604T120000
DTEND;TZID=America/Chicago:20200604T130000
DTSTAMP:20260424T074816
CREATED:20200601T170002Z
LAST-MODIFIED:20200602T021309Z
UID:10000947-1591272000-1591275600@www.faams.org
SUMMARY:Virtual Family Support Meeting
DESCRIPTION:This meeting is open to any parent or caregiver raising a child. There’s no specific agenda—we’re just here to check in with each other\, discuss problems and concerns and support one another through this emotional time. \nRegister in advance for this meeting:\nhttps://zoom.us/meeting/register/tJUudeGhrj0uvlYdWW5R7YJJ6PgFrdzpMw \nAfter registering\, you will receive a confirmation email containing information about joining the meeting.
URL:https://www.faams.org/event/virtual-family-support-meeting-060420/
CATEGORIES:Group
ATTACH;FMTTYPE=image/jpeg:https://www.faams.org/wp-content/uploads/2020/03/video-conference-meeting-1.jpg
END:VEVENT
BEGIN:VEVENT
DTSTART;TZID=America/Chicago:20200611T120000
DTEND;TZID=America/Chicago:20200611T130000
DTSTAMP:20260424T074816
CREATED:20200608T142006Z
LAST-MODIFIED:20200608T142006Z
UID:10000949-1591876800-1591880400@www.faams.org
SUMMARY:Virtual Family Support Meeting
DESCRIPTION:This meeting is open to any parent or caregiver raising a child. There’s no specific agenda—we’re just here to check in with each other\, discuss problems and concerns and support one another through this emotional time. \nRegister in advance for this meeting:\nhttps://zoom.us/meeting/register/tJUudeGhrj0uvlYdWW5R7YJJ6PgFrdzpMw \nAfter registering\, you will receive a confirmation email containing information about joining the meeting.
URL:https://www.faams.org/event/virtual-family-support-meeting-061120/
CATEGORIES:Group
ATTACH;FMTTYPE=image/jpeg:https://www.faams.org/wp-content/uploads/2020/03/video-conference-meeting-1.jpg
END:VEVENT
BEGIN:VEVENT
DTSTART;TZID=America/Chicago:20200617T120000
DTEND;TZID=America/Chicago:20200617T130000
DTSTAMP:20260424T074816
CREATED:20200307T193241Z
LAST-MODIFIED:20200317T214711Z
UID:10000898-1592395200-1592398800@www.faams.org
SUMMARY:Coaching and Support - Monthly Session
DESCRIPTION:Join us via Zoom for our monthly Coaching and Support session for parents who are supporting other parents in any system. Click here to register.
URL:https://www.faams.org/event/coaching-and-support-monthly-session-2020-06-17/
CATEGORIES:Group,Training
ATTACH;FMTTYPE=image/jpeg:https://www.faams.org/wp-content/uploads/2019/07/Famleadtraining2-18.jpg
END:VEVENT
BEGIN:VEVENT
DTSTART;TZID=America/Chicago:20200618T120000
DTEND;TZID=America/Chicago:20200618T130000
DTSTAMP:20260424T074816
CREATED:20200608T142115Z
LAST-MODIFIED:20200608T142115Z
UID:10000950-1592481600-1592485200@www.faams.org
SUMMARY:Virtual Family Support Meeting
DESCRIPTION:This meeting is open to any parent or caregiver raising a child. There’s no specific agenda—we’re just here to check in with each other\, discuss problems and concerns and support one another through this emotional time. \nRegister in advance for this meeting:\nhttps://zoom.us/meeting/register/tJUudeGhrj0uvlYdWW5R7YJJ6PgFrdzpMw \nAfter registering\, you will receive a confirmation email containing information about joining the meeting.
URL:https://www.faams.org/event/virtual-family-support-meeting-071820/
CATEGORIES:Group
ATTACH;FMTTYPE=image/jpeg:https://www.faams.org/wp-content/uploads/2020/03/video-conference-meeting-1.jpg
END:VEVENT
BEGIN:VEVENT
DTSTART;TZID=America/Chicago:20200702T110000
DTEND;TZID=America/Chicago:20200702T120000
DTSTAMP:20260424T074816
CREATED:20200625T145310Z
LAST-MODIFIED:20200701T013621Z
UID:10000798-1593687600-1593691200@www.faams.org
SUMMARY:Virtual Family Support Meeting
DESCRIPTION:This meeting is open to any parent or caregiver raising a child. There’s no specific agenda—we’re just here to check in with each other\, discuss problems and concerns and support one another through this emotional time. \nRegister in advance for this meeting:\nhttps://zoom.us/meeting/register/tJUudeGhrj0uvlYdWW5R7YJJ6PgFrdzpMw \nAfter registering\, you will receive a confirmation email containing information about joining the meeting.
URL:https://www.faams.org/event/virtual-family-support-meeting-2/
CATEGORIES:Group
ATTACH;FMTTYPE=image/jpeg:https://www.faams.org/wp-content/uploads/2020/03/video-conference-meeting-1.jpg
END:VEVENT
BEGIN:VEVENT
DTSTART;TZID=America/Chicago:20200709T120000
DTEND;TZID=America/Chicago:20200709T130000
DTSTAMP:20260424T074816
CREATED:20200608T142151Z
LAST-MODIFIED:20200625T145321Z
UID:10000952-1594296000-1594299600@www.faams.org
SUMMARY:Virtual Family Support Meeting
DESCRIPTION:This meeting is open to any parent or caregiver raising a child. There’s no specific agenda—we’re just here to check in with each other\, discuss problems and concerns and support one another through this emotional time. \nRegister in advance for this meeting:\nhttps://zoom.us/meeting/register/tJUudeGhrj0uvlYdWW5R7YJJ6PgFrdzpMw \nAfter registering\, you will receive a confirmation email containing information about joining the meeting.
URL:https://www.faams.org/event/virtual-family-support-meeting-072520/
CATEGORIES:Group
ATTACH;FMTTYPE=image/jpeg:https://www.faams.org/wp-content/uploads/2020/03/video-conference-meeting-1.jpg
END:VEVENT
BEGIN:VEVENT
DTSTART;TZID=America/Chicago:20200715T120000
DTEND;TZID=America/Chicago:20200715T130000
DTSTAMP:20260424T074816
CREATED:20200307T193241Z
LAST-MODIFIED:20200622T195012Z
UID:10000899-1594814400-1594818000@www.faams.org
SUMMARY:Coaching and Support - Monthly Session
DESCRIPTION:Join us via Zoom for our monthly Coaching and Support session for parents who are supporting other parents in any system. Click here to register.
URL:https://www.faams.org/event/coaching-and-support-monthly-session-2020-07-15/
CATEGORIES:Group,Training
ATTACH;FMTTYPE=image/jpeg:https://www.faams.org/wp-content/uploads/2019/07/Famleadtraining2-18.jpg
END:VEVENT
BEGIN:VEVENT
DTSTART;TZID=America/Chicago:20200716T120000
DTEND;TZID=America/Chicago:20200716T130000
DTSTAMP:20260424T074816
CREATED:20200715T161724Z
LAST-MODIFIED:20200715T161724Z
UID:10000804-1594900800-1594904400@www.faams.org
SUMMARY:Virtual Family Support Meeting
DESCRIPTION:This meeting is open to any parent or caregiver raising a child. There’s no specific agenda—we’re just here to check in with each other\, discuss problems and concerns and support one another through this emotional time. \nRegister in advance for this meeting:\nhttps://zoom.us/meeting/register/tJUudeGhrj0uvlYdWW5R7YJJ6PgFrdzpMw \nAfter registering\, you will receive a confirmation email containing information about joining the meeting.
URL:https://www.faams.org/event/virtual-family-support-meeting-3/
CATEGORIES:Group
ATTACH;FMTTYPE=image/jpeg:https://www.faams.org/wp-content/uploads/2020/03/video-conference-meeting-1.jpg
END:VEVENT
BEGIN:VEVENT
DTSTART;TZID=America/Chicago:20200723T120000
DTEND;TZID=America/Chicago:20200723T130000
DTSTAMP:20260424T074816
CREATED:20200721T012834Z
LAST-MODIFIED:20200721T012834Z
UID:10000806-1595505600-1595509200@www.faams.org
SUMMARY:Virtual Family Support Meeting
DESCRIPTION:This meeting is open to any parent or caregiver raising a child. There’s no specific agenda—we’re just here to check in with each other\, discuss problems and concerns and support one another through this emotional time. \nRegister in advance for this meeting:\nhttps://zoom.us/meeting/register/tJUudeGhrj0uvlYdWW5R7YJJ6PgFrdzpMw \nAfter registering\, you will receive a confirmation email containing information about joining the meeting.
URL:https://www.faams.org/event/virtual-family-support-meeting-4/
CATEGORIES:Group
ATTACH;FMTTYPE=image/jpeg:https://www.faams.org/wp-content/uploads/2020/03/video-conference-meeting-1.jpg
END:VEVENT
BEGIN:VEVENT
DTSTART;TZID=America/Chicago:20200730T120000
DTEND;TZID=America/Chicago:20200730T130000
DTSTAMP:20260424T074816
CREATED:20200727T140545Z
LAST-MODIFIED:20200727T201104Z
UID:10000960-1596110400-1596114000@www.faams.org
SUMMARY:Virtual Family Support Meeting
DESCRIPTION:This meeting is open to any parent or caregiver raising a child. There’s no specific agenda—we’re just here to check in with each other\, discuss problems and concerns and support one another through this emotional time. \nRegister in advance for this meeting:\nhttps://zoom.us/meeting/register/tJUudeGhrj0uvlYdWW5R7YJJ6PgFrdzpMw \nAfter registering\, you will receive a confirmation email containing information about joining the meeting.
URL:https://www.faams.org/event/virtual-family-support-meeting-5/
CATEGORIES:Group
ATTACH;FMTTYPE=image/jpeg:https://www.faams.org/wp-content/uploads/2020/03/video-conference-meeting-1.jpg
END:VEVENT
BEGIN:VEVENT
DTSTART;TZID=America/Chicago:20200806T120000
DTEND;TZID=America/Chicago:20200806T130000
DTSTAMP:20260424T074816
CREATED:20200803T141015Z
LAST-MODIFIED:20200803T191658Z
UID:10000968-1596715200-1596718800@www.faams.org
SUMMARY:Virtual Family Support Meeting
DESCRIPTION:This meeting is open to any parent or caregiver raising a child. There’s no specific agenda—we’re just here to check in with each other\, discuss problems and concerns and support one another through this emotional time. \nRegister in advance for this meeting:\nhttps://zoom.us/meeting/register/tJUudeGhrj0uvlYdWW5R7YJJ6PgFrdzpMw \nAfter registering\, you will receive a confirmation email containing information about joining the meeting.
URL:https://www.faams.org/event/virtual-family-support-meeting-6/
CATEGORIES:Group
ATTACH;FMTTYPE=image/jpeg:https://www.faams.org/wp-content/uploads/2020/03/video-conference-meeting-1.jpg
END:VEVENT
BEGIN:VEVENT
DTSTART;TZID=America/Chicago:20200813T120000
DTEND;TZID=America/Chicago:20200813T130000
DTSTAMP:20260424T074816
CREATED:20200810T140719Z
LAST-MODIFIED:20200810T141144Z
UID:10000969-1597320000-1597323600@www.faams.org
SUMMARY:Virtual Family Support Meeting
DESCRIPTION:This meeting is open to any parent or caregiver raising a child. There’s no specific agenda—we’re just here to check in with each other\, discuss problems and concerns and support one another through this emotional time. \nRegister in advance for this meeting:\nhttps://zoom.us/meeting/register/tJUudeGhrj0uvlYdWW5R7YJJ6PgFrdzpMw \nAfter registering\, you will receive a confirmation email containing information about joining the meeting.
URL:https://www.faams.org/event/virtual-family-support-meeting-7/
CATEGORIES:Group
ATTACH;FMTTYPE=image/jpeg:https://www.faams.org/wp-content/uploads/2020/03/video-conference-meeting-1.jpg
END:VEVENT
BEGIN:VEVENT
DTSTART;TZID=America/Chicago:20200819T120000
DTEND;TZID=America/Chicago:20200819T130000
DTSTAMP:20260424T074816
CREATED:20200307T193241Z
LAST-MODIFIED:20200819T164305Z
UID:10000900-1597838400-1597842000@www.faams.org
SUMMARY:Coaching and Support - Monthly Session
DESCRIPTION:Join us via Zoom for our monthly Coaching and Support session for parents who are supporting other parents in any system. Click here to register.
URL:https://www.faams.org/event/coaching-and-support-monthly-session-2020-08-19/
CATEGORIES:Group,Training
ATTACH;FMTTYPE=image/jpeg:https://www.faams.org/wp-content/uploads/2019/07/Famleadtraining2-18.jpg
END:VEVENT
BEGIN:VEVENT
DTSTART;TZID=America/Chicago:20200820T120000
DTEND;TZID=America/Chicago:20200820T130000
DTSTAMP:20260424T074816
CREATED:20200810T140752Z
LAST-MODIFIED:20200810T141154Z
UID:10000970-1597924800-1597928400@www.faams.org
SUMMARY:Virtual Family Support Meeting
DESCRIPTION:This meeting is open to any parent or caregiver raising a child. There’s no specific agenda—we’re just here to check in with each other\, discuss problems and concerns and support one another through this emotional time. \nRegister in advance for this meeting:\nhttps://zoom.us/meeting/register/tJUudeGhrj0uvlYdWW5R7YJJ6PgFrdzpMw \nAfter registering\, you will receive a confirmation email containing information about joining the meeting.
URL:https://www.faams.org/event/virtual-family-support-meeting-8/
CATEGORIES:Group
ATTACH;FMTTYPE=image/jpeg:https://www.faams.org/wp-content/uploads/2020/03/video-conference-meeting-1.jpg
END:VEVENT
BEGIN:VEVENT
DTSTART;TZID=America/Chicago:20200827T120000
DTEND;TZID=America/Chicago:20200827T130000
DTSTAMP:20260424T074816
CREATED:20200820T170009Z
LAST-MODIFIED:20200825T191846Z
UID:10000807-1598529600-1598533200@www.faams.org
SUMMARY:Virtual Family Support Meeting
DESCRIPTION:This meeting is open to any parent or caregiver raising a child. There’s no specific agenda—we’re just here to check in with each other\, discuss problems and concerns and support one another through this emotional time. \nRegister in advance for this meeting:\nhttps://zoom.us/meeting/register/tJUudeGhrj0uvlYdWW5R7YJJ6PgFrdzpMw \nAfter registering\, you will receive a confirmation email containing information about joining the meeting.
URL:https://www.faams.org/event/virtual-family-support-meeting-11/
CATEGORIES:Group
ATTACH;FMTTYPE=image/jpeg:https://www.faams.org/wp-content/uploads/2020/03/video-conference-meeting-1.jpg
END:VEVENT
BEGIN:VEVENT
DTSTART;TZID=America/Chicago:20200903T120000
DTEND;TZID=America/Chicago:20200903T130000
DTSTAMP:20260424T074816
CREATED:20200820T170039Z
LAST-MODIFIED:20200903T153129Z
UID:10000808-1599134400-1599138000@www.faams.org
SUMMARY:Virtual Family Support Meeting
DESCRIPTION:This meeting is open to any parent or caregiver raising a child. There’s no specific agenda—we’re just here to check in with each other\, discuss problems and concerns and support one another through this emotional time. \nRegister in advance for this meeting:\nhttps://us02web.zoom.us/meeting/register/tZwsce6qrzMiEtPr3WXGF_-8aFleeNjQ8MNY \nAfter registering\, you will receive a confirmation email containing information about joining the meeting.
URL:https://www.faams.org/event/virtual-family-support-meeting-10/
CATEGORIES:Group
ATTACH;FMTTYPE=image/jpeg:https://www.faams.org/wp-content/uploads/2020/03/video-conference-meeting-1.jpg
END:VEVENT
BEGIN:VEVENT
DTSTART;TZID=America/Chicago:20200909T120000
DTEND;TZID=America/Chicago:20200909T130000
DTSTAMP:20260424T074816
CREATED:20200902T224228Z
LAST-MODIFIED:20200903T011654Z
UID:10000813-1599652800-1599656400@www.faams.org
SUMMARY:Virtual Community Listening Forum - Mississippi's Developmental Disabilities Network
DESCRIPTION:Description: You are invited to attend the Virtual Community Listening Forum to share what services\, supports\, and resources are needed most by people with developmental disabilities in Mississippi. This will assist in planning for future programs and activities. \nWho should participate in the Virtual Community Listening Forum? \n\nPeople with developmental or other disabilities\nParents or other family members\nCaregivers\n\nSeptember 9\, 2020 \n12:00-1:00 p.m. or 5:30-6:30 p.m. \nRegister: tinyurl.com/MSDDN2020 \nPlease register for one of the forums. A link for the forum will be e-mailed by September 9\, 2020. \nThe Community Listening Forum is hosted by Mississippi’s Developmental Disabilities Network (Mississippi Council on Developmental Disabilities\, Disability Rights Mississippi\, and the Institute for Disability Studies at the University of Southern Mississippi).
URL:https://www.faams.org/event/virtual-community-listening-forum-mississippis-development-disabilities-network/2020-09-09/1/
CATEGORIES:Group
ATTACH;FMTTYPE=image/jpeg:https://www.faams.org/wp-content/uploads/2020/09/unnamed.jpg
END:VEVENT
BEGIN:VEVENT
DTSTART;TZID=America/Chicago:20200909T173000
DTEND;TZID=America/Chicago:20200909T183000
DTSTAMP:20260424T074816
CREATED:20200902T224228Z
LAST-MODIFIED:20200903T011654Z
UID:10000814-1599672600-1599676200@www.faams.org
SUMMARY:Virtual Community Listening Forum - Mississippi's Developmental Disabilities Network
DESCRIPTION:Description: You are invited to attend the Virtual Community Listening Forum to share what services\, supports\, and resources are needed most by people with developmental disabilities in Mississippi. This will assist in planning for future programs and activities. \nWho should participate in the Virtual Community Listening Forum? \n\nPeople with developmental or other disabilities\nParents or other family members\nCaregivers\n\nSeptember 9\, 2020 \n12:00-1:00 p.m. or 5:30-6:30 p.m. \nRegister: tinyurl.com/MSDDN2020 \nPlease register for one of the forums. A link for the forum will be e-mailed by September 9\, 2020. \nThe Community Listening Forum is hosted by Mississippi’s Developmental Disabilities Network (Mississippi Council on Developmental Disabilities\, Disability Rights Mississippi\, and the Institute for Disability Studies at the University of Southern Mississippi).
URL:https://www.faams.org/event/virtual-community-listening-forum-mississippis-development-disabilities-network/2020-09-09/2/
CATEGORIES:Group
ATTACH;FMTTYPE=image/jpeg:https://www.faams.org/wp-content/uploads/2020/09/unnamed.jpg
END:VEVENT
BEGIN:VEVENT
DTSTART;TZID=America/Chicago:20200910T120000
DTEND;TZID=America/Chicago:20200910T130000
DTSTAMP:20260424T074816
CREATED:20200810T141237Z
LAST-MODIFIED:20200903T231733Z
UID:10000971-1599739200-1599742800@www.faams.org
SUMMARY:Virtual Family Support Meeting
DESCRIPTION:This meeting is open to any parent or caregiver raising a child. There’s no specific agenda—we’re just here to check in with each other\, discuss problems and concerns and support one another through this emotional time. \nRegister in advance for this meeting:\nhttps://zoom.us/meeting/register/tJUudeGhrj0uvlYdWW5R7YJJ6PgFrdzpMw \nAfter registering\, you will receive a confirmation email containing information about joining the meeting.
URL:https://www.faams.org/event/virtual-family-support-meeting-9/
CATEGORIES:Group
ATTACH;FMTTYPE=image/jpeg:https://www.faams.org/wp-content/uploads/2020/03/video-conference-meeting-1.jpg
END:VEVENT
BEGIN:VEVENT
DTSTART;TZID=America/Chicago:20200916T120000
DTEND;TZID=America/Chicago:20200916T130000
DTSTAMP:20260424T074816
CREATED:20200307T193241Z
LAST-MODIFIED:20200824T141248Z
UID:10000901-1600257600-1600261200@www.faams.org
SUMMARY:Coaching and Support - Monthly Session
DESCRIPTION:Join us via Zoom for our monthly Coaching and Support session for parents who are supporting other parents in any system. Click here to register.
URL:https://www.faams.org/event/coaching-and-support-monthly-session-2020-09-16/
CATEGORIES:Group,Training
ATTACH;FMTTYPE=image/jpeg:https://www.faams.org/wp-content/uploads/2019/07/Famleadtraining2-18.jpg
END:VEVENT
BEGIN:VEVENT
DTSTART;TZID=America/Chicago:20200917T120000
DTEND;TZID=America/Chicago:20200917T130000
DTSTAMP:20260424T074816
CREATED:20200825T192213Z
LAST-MODIFIED:20200916T231606Z
UID:10000809-1600344000-1600347600@www.faams.org
SUMMARY:Virtual Family Support Meeting
DESCRIPTION:This meeting is open to any parent or caregiver raising a child. There’s no specific agenda—we’re just here to check in with each other\, discuss problems and concerns and support one another through this emotional time. \nRegister in advance for this meeting:\nhttps://us02web.zoom.us/meeting/register/tZMvcuyhqz4jHtNCdbOQ1BXsCSQr8I6fxGEp \nAfter registering\, you will receive a confirmation email containing information about joining the meeting.
URL:https://www.faams.org/event/virtual-family-support-meeting-12/
CATEGORIES:Group
ATTACH;FMTTYPE=image/jpeg:https://www.faams.org/wp-content/uploads/2020/03/video-conference-meeting-1.jpg
END:VEVENT
BEGIN:VEVENT
DTSTART;TZID=America/Chicago:20200924T120000
DTEND;TZID=America/Chicago:20200924T130000
DTSTAMP:20260424T074817
CREATED:20200825T192330Z
LAST-MODIFIED:20200916T232335Z
UID:10000810-1600948800-1600952400@www.faams.org
SUMMARY:Virtual Family Support Meeting
DESCRIPTION:This meeting is open to any parent or caregiver raising a child. There’s no specific agenda—we’re just here to check in with each other\, discuss problems and concerns and support one another through this emotional time. \nRegister in advance for this meeting:\nhttps://us02web.zoom.us/meeting/register/tZwudemgrzojEtR5bKlS6VgjIlGwrcGFzRZr \nAfter registering\, you will receive a confirmation email containing information about joining the meeting.
URL:https://www.faams.org/event/virtual-family-support-meeting-13/
CATEGORIES:Group
ATTACH;FMTTYPE=image/jpeg:https://www.faams.org/wp-content/uploads/2020/03/video-conference-meeting-1.jpg
END:VEVENT
BEGIN:VEVENT
DTSTART;TZID=America/Chicago:20200930T120000
DTEND;TZID=America/Chicago:20200930T130000
DTSTAMP:20260424T074817
CREATED:20200908T173402Z
LAST-MODIFIED:20200908T173402Z
UID:10000818-1601467200-1601470800@www.faams.org
SUMMARY:Facebook Live - 9/30/20
DESCRIPTION:This Sept 30 at noon\, we’ll do a FB Live to share what’s going on at Families as Allies and also get everyone’s ideas about Families as Allies and how we can all work together to make things better for our children. \nhttps://www.facebook.com/faams.org/
URL:https://www.faams.org/event/facebook-live-9-30-20/
CATEGORIES:Group
ATTACH;FMTTYPE=image/png:https://www.faams.org/wp-content/uploads/2020/09/Copy-of-Copy-of-Simple-Border-Justice-Hall-Quote-Law-Day-Social-Media-Graphic-1.png
END:VEVENT
END:VCALENDAR