BEGIN:VCALENDAR
VERSION:2.0
PRODID:-//Families as Allies - ECPv6.15.20//NONSGML v1.0//EN
CALSCALE:GREGORIAN
METHOD:PUBLISH
X-ORIGINAL-URL:https://www.faams.org
X-WR-CALDESC:Events for Families as Allies
REFRESH-INTERVAL;VALUE=DURATION:PT1H
X-Robots-Tag:noindex
X-PUBLISHED-TTL:PT1H
BEGIN:VTIMEZONE
TZID:America/Chicago
BEGIN:DAYLIGHT
TZOFFSETFROM:-0600
TZOFFSETTO:-0500
TZNAME:CDT
DTSTART:20190310T080000
END:DAYLIGHT
BEGIN:STANDARD
TZOFFSETFROM:-0500
TZOFFSETTO:-0600
TZNAME:CST
DTSTART:20191103T070000
END:STANDARD
BEGIN:DAYLIGHT
TZOFFSETFROM:-0600
TZOFFSETTO:-0500
TZNAME:CDT
DTSTART:20200308T080000
END:DAYLIGHT
BEGIN:STANDARD
TZOFFSETFROM:-0500
TZOFFSETTO:-0600
TZNAME:CST
DTSTART:20201101T070000
END:STANDARD
BEGIN:DAYLIGHT
TZOFFSETFROM:-0600
TZOFFSETTO:-0500
TZNAME:CDT
DTSTART:20210314T080000
END:DAYLIGHT
BEGIN:STANDARD
TZOFFSETFROM:-0500
TZOFFSETTO:-0600
TZNAME:CST
DTSTART:20211107T070000
END:STANDARD
BEGIN:DAYLIGHT
TZOFFSETFROM:-0600
TZOFFSETTO:-0500
TZNAME:CDT
DTSTART:20220313T080000
END:DAYLIGHT
BEGIN:STANDARD
TZOFFSETFROM:-0500
TZOFFSETTO:-0600
TZNAME:CST
DTSTART:20221106T070000
END:STANDARD
END:VTIMEZONE
BEGIN:VEVENT
DTSTART;TZID=America/Chicago:20210611T100000
DTEND;TZID=America/Chicago:20210611T110000
DTSTAMP:20260423T180644
CREATED:20210601T231502Z
LAST-MODIFIED:20210601T231502Z
UID:10000916-1623405600-1623409200@www.faams.org
SUMMARY:Public Hearing for Mississippi Administrative Code Title 23\, Part 223
DESCRIPTION:From the Division of Medicaid: \nThe Mississippi Division of Medicaid will hold a public hearing on Mississippi Administrative Code Title 23\, Part 223\, Rules 1.3\, 1.5\, 1.8\, 2.5\, and 6.1-6.6. The hearing will be held at 10 a.m. on Friday\, June 11\, 2021\, via teleconference. Teleconference number 888-822-7517\, Access Code: 4282244. There will be an opportunity for public comment at the hearing. \nFor more information\, read the public notice and public comments.
URL:https://www.faams.org/event/public-hearing-for-mississippi-administrative-code-title-23-part-223/
CATEGORIES:Gala/Event
ATTACH;FMTTYPE=image/png:https://www.faams.org/wp-content/uploads/2021/06/Screen-Shot-2021-06-01-at-6.13.48-PM.png
END:VEVENT
BEGIN:VEVENT
DTSTART;TZID=America/Chicago:20210515T100000
DTEND;TZID=America/Chicago:20210515T140000
DTSTAMP:20260423T180644
CREATED:20210421T184447Z
LAST-MODIFIED:20210421T184447Z
UID:10001115-1621072800-1621087200@www.faams.org
SUMMARY:Born to Be Wild Family & Friends Picnic
DESCRIPTION:Coalition for Citizens with Disabilities – Mississippi Museum of Natural Science\nGet your outdoor green on and join us for a FUN filled day celebrating individuals with disabilities\, their families and friends. Enjoy a day free of judgment and full of support. \nVisit our “Resource Trail” and gather valuable information from agencies and advocacy groups. Everyone is welcome! There is no fee for registration this year.\nHowever\, we welcome you to become a member of the Coalition and we will be accepting donations at the picnic (suggested donation $12/person) \nRegistration includes:\n* All day access to Museum\n* Lunch\n* Archery\n* Scavenger Hunt\n* Creature Feature\n* Outdoor Hunt\n* Going Wild with the Birds\n* K-9 Demonstration \nRegister here>>
URL:https://www.faams.org/event/born-to-be-wild-family-friends-picnic/
CATEGORIES:Gala/Event
ATTACH;FMTTYPE=image/png:https://www.faams.org/wp-content/uploads/2021/04/Born-to-be-Wild-Picnic-logo-2021.png
END:VEVENT
BEGIN:VEVENT
DTSTART;TZID=America/Chicago:20210505T080000
DTEND;TZID=America/Chicago:20210505T120000
DTSTAMP:20260423T180644
CREATED:20210427T213543Z
LAST-MODIFIED:20210427T213543Z
UID:10001118-1620201600-1620216000@www.faams.org
SUMMARY:Children’s Mental Health Summit
DESCRIPTION:Canopy Children’s Solutions and the Mississippi Department of Mental Health\n\nJoin us for the Seventh Annual Children’s Mental Health Summit\, presented by Canopy Children’s Solutions and Mississippi Department of Mental Health (DMH).\n\n\n\nThis year’s theme is Creating Cultures of Dignity and Hope.\n\n\nJoin us during this year’s summit to learn how to build a culture of dignity and hope within your organization\, with the children you serve\, and in your personal lives. \nThank you to Canopy Children’s Solutions and the Mississippi Department of Mental Health for sponsoring the summit. \nThere will be a $50/participant fee for the event. \nRegister for the Children’s Mental Health Summit by: \n\nDownloading the registration form below and submitting to Canopy Children’s Solutions\, Post Office Box 1078\, Jackson\, MS 39215\, or by fax to 601.968.0021.\nPaying with Paymode – If you are a state agency paying with Paymode\, please fax in registration form below to reserve your spots and designate paying through Paymode. Payment should be designated to Mississippi Children’s Home Society.\n\nRegister here>>
URL:https://www.faams.org/event/childrens-mental-health-summit/
CATEGORIES:Gala/Event
ATTACH;FMTTYPE=image/jpeg:https://www.faams.org/wp-content/uploads/2021/04/178720139_4222861197752949_3282402605014031567_n.jpg
END:VEVENT
BEGIN:VEVENT
DTSTART;TZID=America/Chicago:20210331T120000
DTEND;TZID=America/Chicago:20210331T130000
DTSTAMP:20260423T180644
CREATED:20210329T172222Z
LAST-MODIFIED:20210329T191722Z
UID:10001072-1617192000-1617195600@www.faams.org
SUMMARY:Families as Allies - Facebook Live
DESCRIPTION:Every time there’s a fifth Wednesday in a month (like this month!) we hit Facebook Live to give you a report on what Families as Allies has been doing and what we have planned for the next three months. Join us at noon on 3/31/21 on our Facebook page! \nGet a Reminder on Facebook >>
URL:https://www.faams.org/event/families-as-allies-facebook-live/
CATEGORIES:Gala/Event
ATTACH;FMTTYPE=image/jpeg:https://www.faams.org/wp-content/uploads/2021/03/Facebook-Live-Image.jpg
END:VEVENT
BEGIN:VEVENT
DTSTART;TZID=America/Chicago:20210125T170000
DTEND;TZID=America/Chicago:20210125T180000
DTSTAMP:20260423T180644
CREATED:20210114T002818Z
LAST-MODIFIED:20210114T002915Z
UID:10001034-1611594000-1611597600@www.faams.org
SUMMARY:2021 New Year's Open House
DESCRIPTION:For the past seven years\, Families as Allies has hosted a New Year Open House\, bringing together old and new friends to enjoy each other’s fellowship\, eat good food and plan how we can all work together in the New Year to make things better for our children. We typically also have art and other fun activities for children. \nThis year\, our New Year Open House will happen virtually on Monday\, January 25 at 5 PM.  We are inviting all of you to share your thoughts and feedback about how we can all work together in 2021 to make things better for our children. We want to hear your ideas for Families as Allies\, how we can work together with the systems that serve our children and any other thoughts you have about the New Year. \nYou can share your thoughts in video or in writing here\, and we will respond live during the Open House. You can also share a piece of your child’s artwork at the same link. \nThere will be chances to respond to live questions and polls that night so please plan on tuning in Monday\, January 25 at 5 PM.  You will be able to join from either our Facebook page or our website.
URL:https://www.faams.org/event/2021-new-years-open-house/
CATEGORIES:Gala/Event
ATTACH;FMTTYPE=image/jpeg:https://www.faams.org/wp-content/uploads/2021/01/open-house-scaled.jpg
END:VEVENT
BEGIN:VEVENT
DTSTART;TZID=America/Chicago:20201218T123000
DTEND;TZID=America/Chicago:20201218T140000
DTSTAMP:20260423T180644
CREATED:20201130T233100Z
LAST-MODIFIED:20201201T022345Z
UID:10001010-1608294600-1608300000@www.faams.org
SUMMARY:Self-Help and the 2020 Holidays: Managing Stress
DESCRIPTION:This training from California’s Crisis and Recovery Enhancement (CARE) TA Center covers evidence-based self-help strategies to regulate difficult emotions that are common during the holidays and exacerbated for many during 2020’s pandemic-related grief and social distancing. Participants will learn about virtual support groups\, apps to aid in self-regulation\, emotion regulation skills from Dialectical Behavior Therapy\, and a variety of local and national crisis and warm lines. The goal of this training is to disseminate self-help skills and resources that Californians can use to minimize the development of mental health crises. \nRegister here: https://zoom.us/meeting/register/tJAlceutqDkoGtJ50Rxjl42EURa82u2g0hq3
URL:https://www.faams.org/event/self-help-and-the-2020-holidays-managing-stress/
CATEGORIES:Gala/Event
ATTACH;FMTTYPE=image/jpeg:https://www.faams.org/wp-content/uploads/2020/11/dejan-zakic-JnwbKaELDzQ-unsplash.jpg
END:VEVENT
BEGIN:VEVENT
DTSTART;TZID=America/Chicago:20201116T173000
DTEND;TZID=America/Chicago:20201116T183000
DTSTAMP:20260423T180644
CREATED:20201015T193606Z
LAST-MODIFIED:20201113T020602Z
UID:10000828-1605547800-1605551400@www.faams.org
SUMMARY:7th Annual Virtual Community Partnership Celebration
DESCRIPTION:Our virtual Community Partnership Celebration Fundraiser takes place this year on November 16th at 5:30 pm on Facebook Live as well as to people who don’t have a Facebook account. Register for a free ticket or to sign up to become a sponsor of the event. Come see and hear from the recipients of this year’s four awards for: Accountability\, Valuing Every Child and Family\, Excellence\, and Partnership. \nIf you are interested in becoming a sponsor or would like more info about sponsorship opportunities and details for the Community Partnership Celebration please contact Joy Hogge at jhogge@faams.org.
URL:https://www.faams.org/event/7th-annual-virtual-community-partnership-celebration/
CATEGORIES:Gala/Event
ATTACH;FMTTYPE=image/jpeg:https://www.faams.org/wp-content/uploads/2020/10/CommunityPartnershipCelebration.jpg
END:VEVENT
BEGIN:VEVENT
DTSTART;TZID=America/Chicago:20200218T080000
DTEND;TZID=America/Chicago:20200218T110000
DTSTAMP:20260423T180644
CREATED:20200208T180228Z
LAST-MODIFIED:20200218T181259Z
UID:10000892-1582012800-1582023600@www.faams.org
SUMMARY:Mental Health and Wellness Day at the Capitol
DESCRIPTION:MISSISSIPPI STATE CAPITOL BUILDING\n400 High Street\nJackson\, MS 39201\n8:00am to 11:00am \nFor more info contact Kay Daneault at\n(228) 864-6274 or email:\nKay@msmentalhealth.org
URL:https://www.faams.org/event/mental-health-and-wellness-day-at-the-capitol/
CATEGORIES:Gala/Event
END:VEVENT
END:VCALENDAR