BEGIN:VCALENDAR
VERSION:2.0
PRODID:-//Families as Allies - ECPv6.15.20//NONSGML v1.0//EN
CALSCALE:GREGORIAN
METHOD:PUBLISH
X-ORIGINAL-URL:https://www.faams.org
X-WR-CALDESC:Events for Families as Allies
REFRESH-INTERVAL;VALUE=DURATION:PT1H
X-Robots-Tag:noindex
X-PUBLISHED-TTL:PT1H
BEGIN:VTIMEZONE
TZID:America/Chicago
BEGIN:DAYLIGHT
TZOFFSETFROM:-0600
TZOFFSETTO:-0500
TZNAME:CDT
DTSTART:20250309T080000
END:DAYLIGHT
BEGIN:STANDARD
TZOFFSETFROM:-0500
TZOFFSETTO:-0600
TZNAME:CST
DTSTART:20251102T070000
END:STANDARD
BEGIN:DAYLIGHT
TZOFFSETFROM:-0600
TZOFFSETTO:-0500
TZNAME:CDT
DTSTART:20260308T080000
END:DAYLIGHT
BEGIN:STANDARD
TZOFFSETFROM:-0500
TZOFFSETTO:-0600
TZNAME:CST
DTSTART:20261101T070000
END:STANDARD
BEGIN:DAYLIGHT
TZOFFSETFROM:-0600
TZOFFSETTO:-0500
TZNAME:CDT
DTSTART:20270314T080000
END:DAYLIGHT
BEGIN:STANDARD
TZOFFSETFROM:-0500
TZOFFSETTO:-0600
TZNAME:CST
DTSTART:20271107T070000
END:STANDARD
END:VTIMEZONE
BEGIN:VEVENT
DTSTART;TZID=America/Chicago:20260716T183000
DTEND;TZID=America/Chicago:20260716T193000
DTSTAMP:20260423T083916
CREATED:20251211T031259Z
LAST-MODIFIED:20251211T031259Z
UID:10002406-1784226600-1784230200@www.faams.org
SUMMARY:Families as Allies Board Quarterly Board Meeting
DESCRIPTION:Quarterly board meeting of the board of Families as Allies. All meetings are open to the public and include time for public comments. Public comments can also be emailed to info@faams.org or faxed to 601-355-0919. \n\n\n\nRegister here >>
URL:https://www.faams.org/event/families-as-allies-board-quarterly-board-meeting-18/
CATEGORIES:Families as Allies meeting
ATTACH;FMTTYPE=image/jpeg:https://www.faams.org/wp-content/uploads/2022/04/272825917_5130348763656248_3367918031541469050_n.jpg
END:VEVENT
END:VCALENDAR