BEGIN:VCALENDAR
VERSION:2.0
PRODID:-//Families as Allies - ECPv6.15.20//NONSGML v1.0//EN
CALSCALE:GREGORIAN
METHOD:PUBLISH
X-WR-CALNAME:Families as Allies
X-ORIGINAL-URL:https://www.faams.org
X-WR-CALDESC:Events for Families as Allies
REFRESH-INTERVAL;VALUE=DURATION:PT1H
X-Robots-Tag:noindex
X-PUBLISHED-TTL:PT1H
BEGIN:VTIMEZONE
TZID:America/Chicago
BEGIN:DAYLIGHT
TZOFFSETFROM:-0600
TZOFFSETTO:-0500
TZNAME:CDT
DTSTART:20180311T080000
END:DAYLIGHT
BEGIN:STANDARD
TZOFFSETFROM:-0500
TZOFFSETTO:-0600
TZNAME:CST
DTSTART:20181104T070000
END:STANDARD
BEGIN:DAYLIGHT
TZOFFSETFROM:-0600
TZOFFSETTO:-0500
TZNAME:CDT
DTSTART:20190310T080000
END:DAYLIGHT
BEGIN:STANDARD
TZOFFSETFROM:-0500
TZOFFSETTO:-0600
TZNAME:CST
DTSTART:20191103T070000
END:STANDARD
BEGIN:DAYLIGHT
TZOFFSETFROM:-0600
TZOFFSETTO:-0500
TZNAME:CDT
DTSTART:20200308T080000
END:DAYLIGHT
BEGIN:STANDARD
TZOFFSETFROM:-0500
TZOFFSETTO:-0600
TZNAME:CST
DTSTART:20201101T070000
END:STANDARD
BEGIN:DAYLIGHT
TZOFFSETFROM:-0600
TZOFFSETTO:-0500
TZNAME:CDT
DTSTART:20210314T080000
END:DAYLIGHT
BEGIN:STANDARD
TZOFFSETFROM:-0500
TZOFFSETTO:-0600
TZNAME:CST
DTSTART:20211107T070000
END:STANDARD
BEGIN:DAYLIGHT
TZOFFSETFROM:-0600
TZOFFSETTO:-0500
TZNAME:CDT
DTSTART:20220313T080000
END:DAYLIGHT
BEGIN:STANDARD
TZOFFSETFROM:-0500
TZOFFSETTO:-0600
TZNAME:CST
DTSTART:20221106T070000
END:STANDARD
BEGIN:DAYLIGHT
TZOFFSETFROM:-0600
TZOFFSETTO:-0500
TZNAME:CDT
DTSTART:20230312T080000
END:DAYLIGHT
BEGIN:STANDARD
TZOFFSETFROM:-0500
TZOFFSETTO:-0600
TZNAME:CST
DTSTART:20231105T070000
END:STANDARD
BEGIN:DAYLIGHT
TZOFFSETFROM:-0600
TZOFFSETTO:-0500
TZNAME:CDT
DTSTART:20240310T080000
END:DAYLIGHT
BEGIN:STANDARD
TZOFFSETFROM:-0500
TZOFFSETTO:-0600
TZNAME:CST
DTSTART:20241103T070000
END:STANDARD
BEGIN:DAYLIGHT
TZOFFSETFROM:-0600
TZOFFSETTO:-0500
TZNAME:CDT
DTSTART:20250309T080000
END:DAYLIGHT
BEGIN:STANDARD
TZOFFSETFROM:-0500
TZOFFSETTO:-0600
TZNAME:CST
DTSTART:20251102T070000
END:STANDARD
END:VTIMEZONE
BEGIN:VEVENT
DTSTART;VALUE=DATE:20191224
DTEND;VALUE=DATE:20191226
DTSTAMP:20260425T082543
CREATED:20191203T222913Z
LAST-MODIFIED:20191203T222913Z
UID:10000880-1577210400-1577296799@www.faams.org
SUMMARY:Closed for Holidays
DESCRIPTION:
URL:https://www.faams.org/event/closed-for-holidays/
CATEGORIES:Families as Allies meeting
END:VEVENT
BEGIN:VEVENT
DTSTART;TZID=America/Chicago:20200429T120000
DTEND;TZID=America/Chicago:20200429T130000
DTSTAMP:20260425T082543
CREATED:20200428T191004Z
LAST-MODIFIED:20200428T191004Z
UID:10000794-1588161600-1588165200@www.faams.org
SUMMARY:Facebook Live Town Hall
DESCRIPTION:Please join us Wednesday\, April 29 at noon for our first Facebook Live Town Hall and bring your suggestions and ideas for Families as Allies with you! \nhttps://www.facebook.com/faams.org/
URL:https://www.faams.org/event/facebook-live-town-hall/
CATEGORIES:Families as Allies meeting
ATTACH;FMTTYPE=image/jpeg:https://www.faams.org/wp-content/uploads/2020/04/VirtualTownHall_Families-as-Allies.jpg
END:VEVENT
BEGIN:VEVENT
DTSTART;TZID=America/Chicago:20200507T130000
DTEND;TZID=America/Chicago:20200507T140000
DTSTAMP:20260425T082543
CREATED:20200503T182503Z
LAST-MODIFIED:20200503T182809Z
UID:10000796-1588856400-1588860000@www.faams.org
SUMMARY:Facebook Live: Children's Mental Health Awareness Day - May 7
DESCRIPTION:Please join us for our next Facebook Live on Thursday\, May 7 at 1 PM to celebrate Children’s Mental Health Awareness Day. We will be wearing our green and giving all of you a chance to share your tips for the best ways to cope with COVID and keep our children’s mental health in focus.
URL:https://www.faams.org/event/facebook-live-childrens-mental-health-awareness-day-may-7/
CATEGORIES:Families as Allies meeting
ATTACH;FMTTYPE=image/png:https://www.faams.org/wp-content/uploads/2020/05/CMHAW-Facebook-Cover-1.png
END:VEVENT
BEGIN:VEVENT
DTSTART;TZID=America/Chicago:20200716T183000
DTEND;TZID=America/Chicago:20200716T193000
DTSTAMP:20260425T082543
CREATED:20200715T163558Z
LAST-MODIFIED:20200716T154901Z
UID:10000805-1594924200-1594927800@www.faams.org
SUMMARY:Families As Allies Board Meeting
DESCRIPTION:Families are welcome to join us for our board meeting this Thursday at 6:30 p.m. \nRegister Here >>
URL:https://www.faams.org/event/families-as-allies-board-meeting/
CATEGORIES:Families as Allies meeting
ATTACH;FMTTYPE=image/png:https://www.faams.org/wp-content/uploads/2020/03/FAA-LOGO-straight-line-mapmiddle-20-TAGLINE-RV1.png
END:VEVENT
BEGIN:VEVENT
DTSTART;TZID=America/Chicago:20200721T100000
DTEND;TZID=America/Chicago:20200721T113000
DTSTAMP:20260425T082543
CREATED:20200708T183312Z
LAST-MODIFIED:20200708T183312Z
UID:10000803-1595325600-1595331000@www.faams.org
SUMMARY:Virtual Leadership Training
DESCRIPTION:This training is for parents of young children birth to 8 and other parents who are interested in being Parent/Caregiver Leaders to serve on decision-making groups and committees.\n\nThere will be 4 sessions: Tuesday\, July 21\, Thursday\, July 23\, Tuesday\, July 28 and Thursday\, July 30. The sessions begin at 10:00 am and last 1.5 hours. Participants who successfully complete the training will receive a $100 stipend for their time.\n\n\n\nJul 21\, 2020 10:00 AM\nJul 23\, 2020 10:00 AM\nJul 28\, 2020 10:00 AM\nJul 30\, 2020 10:00 AM\n\n\nRegister here >>
URL:https://www.faams.org/event/virtual-leadership-training/
CATEGORIES:Families as Allies meeting
ATTACH;FMTTYPE=image/png:https://www.faams.org/wp-content/uploads/2020/07/Virtual-Training.png
END:VEVENT
BEGIN:VEVENT
DTSTART;TZID=America/Chicago:20200729T120000
DTEND;TZID=America/Chicago:20200729T130000
DTSTAMP:20260425T082543
CREATED:20200708T182422Z
LAST-MODIFIED:20200723T014553Z
UID:10000802-1596024000-1596027600@www.faams.org
SUMMARY:Facebook Live Discussion
DESCRIPTION:This July 29 at noon\, we’ll do a FB Live to share what’s going on at Families as Allies and also get everyone’s ideas about Families as Allies and how we can all work together to make things better for our children. \nhttps://www.facebook.com/faams.org/
URL:https://www.faams.org/event/facebook-live-town-hall-0720/
CATEGORIES:Families as Allies meeting
ATTACH;FMTTYPE=image/jpeg:https://www.faams.org/wp-content/uploads/2020/07/FB-Live-FAA.jpg
END:VEVENT
BEGIN:VEVENT
DTSTART;TZID=America/Chicago:20210121T183000
DTEND;TZID=America/Chicago:20210121T193000
DTSTAMP:20260425T082543
CREATED:20210121T144911Z
LAST-MODIFIED:20210121T144911Z
UID:10001036-1611253800-1611257400@www.faams.org
SUMMARY:Families As Allies Board Meeting
DESCRIPTION:Quarterly board meeting of the board of Families as Allies. All meetings are open to the public and include time for public comments. Public comments can also be emailed to info@faams.org or faxed to 601-355-0919.\n\n\n\nRegister Here >>
URL:https://www.faams.org/event/families-as-allies-board-meeting-0121/
CATEGORIES:Families as Allies meeting
ATTACH;FMTTYPE=image/png:https://www.faams.org/wp-content/uploads/2020/03/FAA-LOGO-straight-line-mapmiddle-20-TAGLINE-RV1.png
END:VEVENT
BEGIN:VEVENT
DTSTART;TZID=America/Chicago:20210415T183000
DTEND;TZID=America/Chicago:20210415T193000
DTSTAMP:20260425T082543
CREATED:20210414T001805Z
LAST-MODIFIED:20210414T001822Z
UID:10001089-1618511400-1618515000@www.faams.org
SUMMARY:Families As Allies Board Meeting
DESCRIPTION:Quarterly board meeting of the board of Families as Allies. All meetings are open to the public and include time for public comments. Public comments can also be emailed to info@faams.org or faxed to 601-355-0919.\n\n\n\nRegister Here >>
URL:https://www.faams.org/event/families-as-allies-board-meeting-41521/
CATEGORIES:Families as Allies meeting
ATTACH;FMTTYPE=image/png:https://www.faams.org/wp-content/uploads/2020/03/FAA-LOGO-straight-line-mapmiddle-20-TAGLINE-RV1.png
END:VEVENT
BEGIN:VEVENT
DTSTART;TZID=America/Chicago:20210603T183000
DTEND;TZID=America/Chicago:20210603T193000
DTSTAMP:20260425T082543
CREATED:20210601T232047Z
LAST-MODIFIED:20210601T232047Z
UID:10000917-1622745000-1622748600@www.faams.org
SUMMARY:Families As Allies Specially Called Board Meeting
DESCRIPTION:Specially called board meeting to vote on proposed new member and plan for retreat. All Families as Allies board meeting are open to the public and include time for public comments. If you cannot attend but would like to share comments with the board\, they can be emailed to info@faams.org or faxed to 601-355- 0919.\n\n\n\n\n\nRegister Here >>
URL:https://www.faams.org/event/families-as-allies-specially-called-board-meeting/
CATEGORIES:Families as Allies meeting
ATTACH;FMTTYPE=image/png:https://www.faams.org/wp-content/uploads/2020/03/FAA-LOGO-straight-line-mapmiddle-20-TAGLINE-RV1.png
END:VEVENT
BEGIN:VEVENT
DTSTART;TZID=America/Chicago:20210715T183000
DTEND;TZID=America/Chicago:20210715T193000
DTSTAMP:20260425T082543
CREATED:20210715T151421Z
LAST-MODIFIED:20210715T152058Z
UID:10001168-1626373800-1626377400@www.faams.org
SUMMARY:Families as Allies Board Quarterly Board Meeting
DESCRIPTION:Quarterly board meeting of the board of Families as Allies. All meetings are open to the public and include time for public comments. Public comments can also be emailed to info@faams.org or faxed to 601-355-0919.\n\n\n\nRegister Here >>
URL:https://www.faams.org/event/families-as-allies-board-quarterly-board-meeting/
CATEGORIES:Families as Allies meeting
ATTACH;FMTTYPE=image/png:https://www.faams.org/wp-content/uploads/2020/03/FAA-LOGO-straight-line-mapmiddle-20-TAGLINE-RV1.png
END:VEVENT
BEGIN:VEVENT
DTSTART;TZID=America/Chicago:20211020T183000
DTEND;TZID=America/Chicago:20211020T193000
DTSTAMP:20260425T082543
CREATED:20211019T161747Z
LAST-MODIFIED:20211020T015109Z
UID:10001266-1634754600-1634758200@www.faams.org
SUMMARY:Families as Allies Quarterly Board Meeting
DESCRIPTION:Quarterly board meeting of the board of Families as Allies. All meetings are open to the public and include time for public comments. Public comments can also be emailed to info@faams.org or faxed to 601-355-0919.\n\n\n\nRegister Here >>
URL:https://www.faams.org/event/families-as-allies-board-quarterly-board-meeting-2/
CATEGORIES:Families as Allies meeting
ATTACH;FMTTYPE=image/png:https://www.faams.org/wp-content/uploads/2020/03/FAA-LOGO-straight-line-mapmiddle-20-TAGLINE-RV1.png
END:VEVENT
BEGIN:VEVENT
DTSTART;TZID=America/Chicago:20220120T183000
DTEND;TZID=America/Chicago:20220120T193000
DTSTAMP:20260425T082543
CREATED:20220118T151654Z
LAST-MODIFIED:20220118T164913Z
UID:10001339-1642703400-1642707000@www.faams.org
SUMMARY:Families as Allies Board Quarterly Board Meeting
DESCRIPTION:Quarterly board meeting of the board of Families as Allies. All meetings are open to the public and include time for public comments. Public comments can also be emailed to info@faams.org or faxed to 601-355-0919. \n\n\n\n\nRegister here >>
URL:https://www.faams.org/event/families-as-allies-board-quarterly-board-meeting-3/
CATEGORIES:Families as Allies meeting
ATTACH;FMTTYPE=image/png:https://www.faams.org/wp-content/uploads/2020/03/FAA-LOGO-straight-line-mapmiddle-20-TAGLINE-RV1.png
END:VEVENT
BEGIN:VEVENT
DTSTART;TZID=America/Chicago:20220421T183000
DTEND;TZID=America/Chicago:20220421T193000
DTSTAMP:20260425T082543
CREATED:20220418T172602Z
LAST-MODIFIED:20220418T172709Z
UID:10001391-1650565800-1650569400@www.faams.org
SUMMARY:Families as Allies Board Quarterly Board Meeting
DESCRIPTION:Quarterly board meeting of the board of Families as Allies. All meetings are open to the public and include time for public comments. Public comments can also be emailed to info@faams.org or faxed to 601-355-0919. \n\n\n\nRegister here >>
URL:https://www.faams.org/event/families-as-allies-board-quarterly-board-meeting-4/
CATEGORIES:Families as Allies meeting
ATTACH;FMTTYPE=image/png:https://www.faams.org/wp-content/uploads/2020/03/FAA-LOGO-straight-line-mapmiddle-20-TAGLINE-RV1.png
END:VEVENT
BEGIN:VEVENT
DTSTART;TZID=America/Chicago:20220629T120000
DTEND;TZID=America/Chicago:20220629T120000
DTSTAMP:20260425T082543
CREATED:20220613T224147Z
LAST-MODIFIED:20220628T220647Z
UID:10001421-1656504000-1656504000@www.faams.org
SUMMARY:Families as Allies Live!
DESCRIPTION:Please join us for this quarterly update about our recent events and future plans. Families as Allies is about ALL of us and we want to hear your ideas and feedback on how we can all move forward together on behalf of our children. \nJoin us on Facebook: https://www.facebook.com/faams.org/posts/406538864845421 \nJoin us on Youtube: https://www.youtube.com/watch?v=KcRUdJrgid0 \n  \n 
URL:https://www.faams.org/event/families-as-allies-live/
CATEGORIES:Families as Allies meeting
ATTACH;FMTTYPE=image/jpeg:https://www.faams.org/wp-content/uploads/2022/06/full.jpg
END:VEVENT
BEGIN:VEVENT
DTSTART;TZID=America/Chicago:20220721T183000
DTEND;TZID=America/Chicago:20220721T193000
DTSTAMP:20260425T082543
CREATED:20220418T173402Z
LAST-MODIFIED:20220418T173402Z
UID:10001392-1658428200-1658431800@www.faams.org
SUMMARY:Families as Allies Board Quarterly Board Meeting
DESCRIPTION:Quarterly board meeting of the board of Families as Allies. All meetings are open to the public and include time for public comments. Public comments can also be emailed to info@faams.org or faxed to 601-355-0919. \n\n\n\nRegister here >>
URL:https://www.faams.org/event/families-as-allies-board-quarterly-board-meeting-5/
CATEGORIES:Families as Allies meeting
ATTACH;FMTTYPE=image/png:https://www.faams.org/wp-content/uploads/2020/03/FAA-LOGO-straight-line-mapmiddle-20-TAGLINE-RV1.png
END:VEVENT
BEGIN:VEVENT
DTSTART;TZID=America/Chicago:20221020T183000
DTEND;TZID=America/Chicago:20221020T193000
DTSTAMP:20260425T082543
CREATED:20220418T173805Z
LAST-MODIFIED:20221020T184248Z
UID:10001393-1666290600-1666294200@www.faams.org
SUMMARY:Families as Allies Board Quarterly Board Meeting
DESCRIPTION:Quarterly board meeting of the board of Families as Allies. All meetings are open to the public and include time for public comments. Public comments can also be emailed to info@faams.org or faxed to 601-355-0919. \n\n\n\nRegister here >>
URL:https://www.faams.org/event/families-as-allies-board-quarterly-board-meeting-6/
CATEGORIES:Families as Allies meeting
ATTACH;FMTTYPE=image/jpeg:https://www.faams.org/wp-content/uploads/2022/04/272825917_5130348763656248_3367918031541469050_n.jpg
END:VEVENT
BEGIN:VEVENT
DTSTART;TZID=America/Chicago:20221130T120000
DTEND;TZID=America/Chicago:20221130T130000
DTSTAMP:20260425T082544
CREATED:20221129T231157Z
LAST-MODIFIED:20221129T231630Z
UID:10001177-1669809600-1669813200@www.faams.org
SUMMARY:Families as Allies Live
DESCRIPTION:Please join us for this quarterly update about our recent events and future plans. Families as Allies is about ALL of us and we want to hear your ideas and feedback on how we can all move forward together on behalf of our children. We will discuss common school issues this time of year\, including suspension and expulsions and risk assessments. \nJoin us on Facebook: https://www.facebook.com/events/679527800428694 \nOr on Youtube: https://www.youtube.com/watch?v=3InuWAMW9vA
URL:https://www.faams.org/event/families-as-allies-live-q4-2022/
CATEGORIES:Families as Allies meeting
ATTACH;FMTTYPE=image/jpeg:https://www.faams.org/wp-content/uploads/2022/11/FAAMS_Live_2022.jpg
END:VEVENT
BEGIN:VEVENT
DTSTART;TZID=America/Chicago:20230119T183000
DTEND;TZID=America/Chicago:20230119T193000
DTSTAMP:20260425T082544
CREATED:20230118T204119Z
LAST-MODIFIED:20230118T204119Z
UID:10001494-1674153000-1674156600@www.faams.org
SUMMARY:Families as Allies Board Quarterly Board Meeting
DESCRIPTION:Quarterly board meeting of the board of Families as Allies. All meetings are open to the public and include time for public comments. Public comments can also be emailed to info@faams.org or faxed to 601-355-0919. \n\n\n\nRegister here >>
URL:https://www.faams.org/event/families-as-allies-board-quarterly-board-meeting-7/
CATEGORIES:Families as Allies meeting
ATTACH;FMTTYPE=image/jpeg:https://www.faams.org/wp-content/uploads/2022/04/272825917_5130348763656248_3367918031541469050_n.jpg
END:VEVENT
BEGIN:VEVENT
DTSTART;TZID=America/Chicago:20230329T120000
DTEND;TZID=America/Chicago:20230329T130000
DTSTAMP:20260425T082544
CREATED:20230322T000832Z
LAST-MODIFIED:20230322T170718Z
UID:10001528-1680091200-1680094800@www.faams.org
SUMMARY:Families as Allies Live
DESCRIPTION:Please join us for this quarterly update about our recent events and future plans. Families as Allies is about ALL of us\, and we want to hear your ideas and feedback on how we can all move forward together on behalf of our children.\n\nWe’ll go over the Mississippi Behavioral Health Planning and Advisory Council and the survey about mental health services in Mississippi. Please use this link to take the survey https://www.faams.org/please-take-this-survey-about-mental-health-services-in-mississippi/. \n\n\nJoin us on Facebook: https://www.facebook.com/events/536822045186130\nOr on Youtube: https://www.youtube.com/watch?v=T0tf2zOkEfg
URL:https://www.faams.org/event/families-as-allies-live-2/
CATEGORIES:Families as Allies meeting
ATTACH;FMTTYPE=image/jpeg:https://www.faams.org/wp-content/uploads/2023/03/FAAMS_Live_0323.jpg
END:VEVENT
BEGIN:VEVENT
DTSTART;TZID=America/Chicago:20230420T183000
DTEND;TZID=America/Chicago:20230420T193000
DTSTAMP:20260425T082544
CREATED:20230118T204532Z
LAST-MODIFIED:20230118T204532Z
UID:10001495-1682015400-1682019000@www.faams.org
SUMMARY:Families as Allies Board Quarterly Board Meeting
DESCRIPTION:Quarterly board meeting of the board of Families as Allies. All meetings are open to the public and include time for public comments. Public comments can also be emailed to info@faams.org or faxed to 601-355-0919. \n\n\n\nRegister here >>
URL:https://www.faams.org/event/families-as-allies-board-quarterly-board-meeting-8/
CATEGORIES:Families as Allies meeting
ATTACH;FMTTYPE=image/jpeg:https://www.faams.org/wp-content/uploads/2022/04/272825917_5130348763656248_3367918031541469050_n.jpg
END:VEVENT
BEGIN:VEVENT
DTSTART;TZID=America/Chicago:20230531T120000
DTEND;TZID=America/Chicago:20230531T120000
DTSTAMP:20260425T082544
CREATED:20230530T212011Z
LAST-MODIFIED:20230530T233919Z
UID:10001557-1685534400-1685534400@www.faams.org
SUMMARY:Families as Allies Live
DESCRIPTION:Please join us for this quarterly update about our recent events and future plans. Families as Allies is about ALL of us\, and we want to hear your ideas and feedback on how we can all move forward together on behalf of our children.\n\n\nJoin us on Facebook: https://www.facebook.com/events/6165432156886218 \n\nOr on Youtube: https://www.youtube.com/watch?v=TCxerlevi4U
URL:https://www.faams.org/event/families-as-allies-live-3/
CATEGORIES:Families as Allies meeting
ATTACH;FMTTYPE=image/jpeg:https://www.faams.org/wp-content/uploads/2023/05/unnamed-1.jpg
END:VEVENT
BEGIN:VEVENT
DTSTART;TZID=America/Chicago:20230720T183000
DTEND;TZID=America/Chicago:20230720T193000
DTSTAMP:20260425T082544
CREATED:20230118T205728Z
LAST-MODIFIED:20230118T205728Z
UID:10001497-1689877800-1689881400@www.faams.org
SUMMARY:Families as Allies Board Quarterly Board Meeting
DESCRIPTION:Quarterly board meeting of the board of Families as Allies. All meetings are open to the public and include time for public comments. Public comments can also be emailed to info@faams.org or faxed to 601-355-0919. \n\n\n\nRegister here >>
URL:https://www.faams.org/event/families-as-allies-board-quarterly-board-meeting-10/
CATEGORIES:Families as Allies meeting
ATTACH;FMTTYPE=image/jpeg:https://www.faams.org/wp-content/uploads/2022/04/272825917_5130348763656248_3367918031541469050_n.jpg
END:VEVENT
BEGIN:VEVENT
DTSTART;TZID=America/Chicago:20230830T120000
DTEND;TZID=America/Chicago:20230830T120000
DTSTAMP:20260425T082544
CREATED:20230816T141815Z
LAST-MODIFIED:20230817T143511Z
UID:10001606-1693396800-1693396800@www.faams.org
SUMMARY:Families as Allies Live
DESCRIPTION:Whenever a month happens to have a fifth Wednesday\, the Families as Allies group gathers for a live session on both Facebook and YouTube. During this session\, we engage in conversations about current developments and address any inquiries you might have. We invite you to be a part of this informative session where we’ll be sharing updates on recent happenings and discussing our upcoming strategies. \nFamilies as Allies is a collective effort that involves each and every one of us. Your input and thoughts are invaluable to us as we aim to progress collaboratively. We eagerly look forward to your participation and the opportunity to explore how we can advance together. \nJoin us on Facebook: https://www.facebook.com/events/306388481799434\nJoin us on YouTube: https://www.youtube.com/live/ByTReiJAi64?feature=share
URL:https://www.faams.org/event/families-as-allies-live-4/
CATEGORIES:Families as Allies meeting
ATTACH;FMTTYPE=image/jpeg:https://www.faams.org/wp-content/uploads/2023/08/FAAMS_Live_august-30-1.jpg
END:VEVENT
BEGIN:VEVENT
DTSTART;TZID=America/Chicago:20231025T183000
DTEND;TZID=America/Chicago:20231025T193000
DTSTAMP:20260425T082544
CREATED:20230118T204724Z
LAST-MODIFIED:20231025T014227Z
UID:10001496-1698258600-1698262200@www.faams.org
SUMMARY:Families as Allies Board Quarterly Board Meeting
DESCRIPTION:Quarterly board meeting of the board of Families as Allies. All meetings are open to the public and include time for public comments. Public comments can also be emailed to info@faams.org or faxed to 601-355-0919. \n\n\n\nRegister here >>
URL:https://www.faams.org/event/families-as-allies-board-quarterly-board-meeting-9/
CATEGORIES:Families as Allies meeting
ATTACH;FMTTYPE=image/jpeg:https://www.faams.org/wp-content/uploads/2022/04/272825917_5130348763656248_3367918031541469050_n.jpg
END:VEVENT
BEGIN:VEVENT
DTSTART;TZID=America/Chicago:20240118T183000
DTEND;TZID=America/Chicago:20240118T193000
DTSTAMP:20260425T082544
CREATED:20240118T201504Z
LAST-MODIFIED:20240118T201831Z
UID:10001732-1705602600-1705606200@www.faams.org
SUMMARY:Families as Allies Board Quarterly Board Meeting
DESCRIPTION:Quarterly board meeting of the board of Families as Allies. All meetings are open to the public and include time for public comments. Public comments can also be emailed to info@faams.org or faxed to 601-355-0919. \n\n\n\nRegister here >>
URL:https://www.faams.org/event/families-as-allies-board-quarterly-board-meeting-11/
CATEGORIES:Families as Allies meeting
ATTACH;FMTTYPE=image/jpeg:https://www.faams.org/wp-content/uploads/2022/04/272825917_5130348763656248_3367918031541469050_n.jpg
END:VEVENT
BEGIN:VEVENT
DTSTART;TZID=America/Chicago:20240131T120000
DTEND;TZID=America/Chicago:20240131T130000
DTSTAMP:20260425T082544
CREATED:20240124T003119Z
LAST-MODIFIED:20240129T154847Z
UID:10001739-1706702400-1706706000@www.faams.org
SUMMARY:Families as Allies Live
DESCRIPTION:Whenever a month happens to have a fifth Wednesday\, the Families as Allies group gathers for a live session on both Facebook and YouTube. During this session\, we discuss current developments and address any inquiries you might have. We invite you to be a part of this informative session\, where we’ll be sharing updates on recent happenings and discussing our upcoming strategies. \nFamilies as Allies is a collective effort that involves each and every one of us. Your input and thoughts are invaluable to us as we aim to progress collaboratively. We eagerly await your participation and the opportunity to explore how we can advance together. \nJoin us on Facebook: https://www.facebook.com/events/306388481799434\nJoin us on YouTube: https://www.youtube.com/watch?v=29iUoeGZBhU
URL:https://www.faams.org/event/families-as-allies-live-5/
CATEGORIES:Families as Allies meeting
ATTACH;FMTTYPE=image/jpeg:https://www.faams.org/wp-content/uploads/2024/01/FAAMS_Live_jan-31.jpg
END:VEVENT
BEGIN:VEVENT
DTSTART;TZID=America/Chicago:20240418T183000
DTEND;TZID=America/Chicago:20240418T193000
DTSTAMP:20260425T082544
CREATED:20240118T202328Z
LAST-MODIFIED:20240118T212232Z
UID:10001733-1713465000-1713468600@www.faams.org
SUMMARY:Families as Allies Board Quarterly Board Meeting
DESCRIPTION:Quarterly board meeting of the board of Families as Allies. All meetings are open to the public and include time for public comments. Public comments can also be emailed to info@faams.org or faxed to 601-355-0919. \n\n\n\nRegister here >>
URL:https://www.faams.org/event/families-as-allies-board-quarterly-board-meeting-12/
CATEGORIES:Families as Allies meeting
ATTACH;FMTTYPE=image/jpeg:https://www.faams.org/wp-content/uploads/2022/04/272825917_5130348763656248_3367918031541469050_n.jpg
END:VEVENT
BEGIN:VEVENT
DTSTART;TZID=America/Chicago:20240508T120000
DTEND;TZID=America/Chicago:20240508T120000
DTSTAMP:20260425T082544
CREATED:20240506T150752Z
LAST-MODIFIED:20240507T015005Z
UID:10001857-1715169600-1715169600@www.faams.org
SUMMARY:Lighting the Path to Social Justice for Children and Youth: Finding Support from each other and from systems
DESCRIPTION:Families as Allies  \nWe are presenting a series of webinars during May that highlight the theme of Children’s Mental Health Acceptance Week: “Lighting the Path to Social Justice for Children and Youth”. This webinar focuses on finding support for our children and ourselves that reflects these values of social justice: \n1. Equity at every level of society \n2. Ensuring that all members of our society are physically and psychologically safe and secure \n3. Giving every person the opportunity to live up to their full potential \n4. Supporting one another to live meaningful\, purposeful lives. Families\, youth\, and anyone who cares about families and youth are encouraged to attend. \nRegister here>>
URL:https://www.faams.org/event/lighting-the-path-to-social-justice-for-children-and-youth-finding-support-from-each-other-and-from-systems/
CATEGORIES:Families as Allies meeting,Webinar
ATTACH;FMTTYPE=image/png:https://www.faams.org/wp-content/uploads/2024/04/Lighting-the-Path-to-Social-Justice-for-Children-Youth.png
END:VEVENT
BEGIN:VEVENT
DTSTART;TZID=America/Chicago:20240515T120000
DTEND;TZID=America/Chicago:20240515T120000
DTSTAMP:20260425T082544
CREATED:20240506T151153Z
LAST-MODIFIED:20240513T152801Z
UID:10001858-1715774400-1715774400@www.faams.org
SUMMARY:Lighting the Path to Social Justice for Children and Youth: Finding Support with School Issues
DESCRIPTION:Families as Allies  \nWe are presenting a series of webinars during May that highlight the theme of Children’s Mental Health Acceptance Week: “Lighting the Path to Social Justice for Children and Youth”. \nThis webinar focuses on finding support when our children experience school issues in ways that reflect these principles of social justice: \n1. Equity at every level of society\n2. Ensuring that all members of our society are physically and psychologically safe and secure\n3.Giving every person the opportunity to live up to their full potential\n4. Supporting one another to live meaningful\, purposeful lives. \nFamilies\, youth\, and anyone who cares about families and youth are encouraged to attend. \nRegister here>>
URL:https://www.faams.org/event/lighting-the-path-to-social-justice-for-children-and-youth-finding-support-from-each-other-and-from-systems-2/
CATEGORIES:Families as Allies meeting,Webinar
ATTACH;FMTTYPE=image/png:https://www.faams.org/wp-content/uploads/2019/10/FamiliesAsAllies_Logo.png
END:VEVENT
BEGIN:VEVENT
DTSTART;TZID=America/Chicago:20240522T120000
DTEND;TZID=America/Chicago:20240522T120000
DTSTAMP:20260425T082544
CREATED:20240506T151532Z
LAST-MODIFIED:20240513T153030Z
UID:10001859-1716379200-1716379200@www.faams.org
SUMMARY:Lighting the Path to Social Justice for Children and Youth: Making sure policies support social justice for our children
DESCRIPTION:Families as Allies  \nWe are presenting a series of webinars during May that highlight the theme of Children’s Mental Health Acceptance Week: “Lighting the Path to Social Justice for Children and Youth”. \nThis webinar focuses on how we can make sure that policies that affect our children and families reflect these values of social justice: \n1. Equity at every level of society\n2. Ensuring that all members of our society are physically and psychologically safe and secure\n3. Giving every person the opportunity to live up to their full potential\n4. Supporting one another to live meaningful\, purposeful lives. \nFamilies\, youth\, and anyone who cares about families and youth are encouraged to attend. \nRegister here>>
URL:https://www.faams.org/event/lighting-the-path-to-social-justice-for-children-and-youth-finding-support-from-each-other-and-from-systems-3/
CATEGORIES:Families as Allies meeting,Webinar
ATTACH;FMTTYPE=image/png:https://www.faams.org/wp-content/uploads/2019/10/FamiliesAsAllies_Logo.png
END:VEVENT
END:VCALENDAR