BEGIN:VCALENDAR
VERSION:2.0
PRODID:-//Families as Allies - ECPv6.15.20//NONSGML v1.0//EN
CALSCALE:GREGORIAN
METHOD:PUBLISH
X-WR-CALNAME:Families as Allies
X-ORIGINAL-URL:https://www.faams.org
X-WR-CALDESC:Events for Families as Allies
REFRESH-INTERVAL;VALUE=DURATION:PT1H
X-Robots-Tag:noindex
X-PUBLISHED-TTL:PT1H
BEGIN:VTIMEZONE
TZID:America/Chicago
BEGIN:DAYLIGHT
TZOFFSETFROM:-0600
TZOFFSETTO:-0500
TZNAME:CDT
DTSTART:20250309T080000
END:DAYLIGHT
BEGIN:STANDARD
TZOFFSETFROM:-0500
TZOFFSETTO:-0600
TZNAME:CST
DTSTART:20251102T070000
END:STANDARD
BEGIN:DAYLIGHT
TZOFFSETFROM:-0600
TZOFFSETTO:-0500
TZNAME:CDT
DTSTART:20260308T080000
END:DAYLIGHT
BEGIN:STANDARD
TZOFFSETFROM:-0500
TZOFFSETTO:-0600
TZNAME:CST
DTSTART:20261101T070000
END:STANDARD
BEGIN:DAYLIGHT
TZOFFSETFROM:-0600
TZOFFSETTO:-0500
TZNAME:CDT
DTSTART:20270314T080000
END:DAYLIGHT
BEGIN:STANDARD
TZOFFSETFROM:-0500
TZOFFSETTO:-0600
TZNAME:CST
DTSTART:20271107T070000
END:STANDARD
END:VTIMEZONE
BEGIN:VEVENT
DTSTART;TZID=America/Chicago:20260430T070000
DTEND;TZID=America/Chicago:20260501T133000
DTSTAMP:20260424T083034
CREATED:20260410T161641Z
LAST-MODIFIED:20260410T161641Z
UID:10002465-1777532400-1777642200@www.faams.org
SUMMARY:2026 NAMI Mississippi Annual Conference on Mental Health & CIT
DESCRIPTION:NAMI Mississippi \nThis premier statewide conference brings together voices from mental health\, law enforcement\, healthcare\, and advocacy to explore innovative strategies\, strengthen collaboration\, and improve crisis response and mental health outcomes in Mississippi. \nRegister here>>
URL:https://www.faams.org/event/2026-nami-mississippi-annual-conference-on-mental-health-cit/
CATEGORIES:Conference
ATTACH;FMTTYPE=image/png:https://www.faams.org/wp-content/uploads/2026/04/NAMI-April-30.png
END:VEVENT
END:VCALENDAR