BEGIN:VCALENDAR
VERSION:2.0
PRODID:-//Families as Allies - ECPv6.15.20//NONSGML v1.0//EN
CALSCALE:GREGORIAN
METHOD:PUBLISH
X-ORIGINAL-URL:https://www.faams.org
X-WR-CALDESC:Events for Families as Allies
REFRESH-INTERVAL;VALUE=DURATION:PT1H
X-Robots-Tag:noindex
X-PUBLISHED-TTL:PT1H
BEGIN:VTIMEZONE
TZID:America/Chicago
BEGIN:DAYLIGHT
TZOFFSETFROM:-0600
TZOFFSETTO:-0500
TZNAME:CDT
DTSTART:20220313T080000
END:DAYLIGHT
BEGIN:STANDARD
TZOFFSETFROM:-0500
TZOFFSETTO:-0600
TZNAME:CST
DTSTART:20221106T070000
END:STANDARD
BEGIN:DAYLIGHT
TZOFFSETFROM:-0600
TZOFFSETTO:-0500
TZNAME:CDT
DTSTART:20230312T080000
END:DAYLIGHT
BEGIN:STANDARD
TZOFFSETFROM:-0500
TZOFFSETTO:-0600
TZNAME:CST
DTSTART:20231105T070000
END:STANDARD
BEGIN:DAYLIGHT
TZOFFSETFROM:-0600
TZOFFSETTO:-0500
TZNAME:CDT
DTSTART:20240310T080000
END:DAYLIGHT
BEGIN:STANDARD
TZOFFSETFROM:-0500
TZOFFSETTO:-0600
TZNAME:CST
DTSTART:20241103T070000
END:STANDARD
BEGIN:DAYLIGHT
TZOFFSETFROM:-0600
TZOFFSETTO:-0500
TZNAME:CDT
DTSTART:20250309T080000
END:DAYLIGHT
BEGIN:STANDARD
TZOFFSETFROM:-0500
TZOFFSETTO:-0600
TZNAME:CST
DTSTART:20251102T070000
END:STANDARD
BEGIN:DAYLIGHT
TZOFFSETFROM:-0600
TZOFFSETTO:-0500
TZNAME:CDT
DTSTART:20260308T080000
END:DAYLIGHT
BEGIN:STANDARD
TZOFFSETFROM:-0500
TZOFFSETTO:-0600
TZNAME:CST
DTSTART:20261101T070000
END:STANDARD
BEGIN:DAYLIGHT
TZOFFSETFROM:-0600
TZOFFSETTO:-0500
TZNAME:CDT
DTSTART:20270314T080000
END:DAYLIGHT
BEGIN:STANDARD
TZOFFSETFROM:-0500
TZOFFSETTO:-0600
TZNAME:CST
DTSTART:20271107T070000
END:STANDARD
END:VTIMEZONE
BEGIN:VEVENT
DTSTART;TZID=America/Chicago:20230926T100000
DTEND;TZID=America/Chicago:20230926T100000
DTSTAMP:20260424T172813
CREATED:20230919T213855Z
LAST-MODIFIED:20230919T224527Z
UID:10001647-1695722400-1695722400@www.faams.org
SUMMARY:Early Childhood Virtual Resource Fair
DESCRIPTION:The University of Mississippi \nFourth Annual Virtual Resource Fair for Early Childhood Professionals. \nThis year’s conference will feature new programs and services!\nTopics include: \n\nState Agencies\nSpecial Needs\nProfessional Development\nParent Resources\nColleges/Universities\nResources Supporting Community\n\nRegister here>>
URL:https://www.faams.org/event/early-childhood-virtual-resource-fair/
CATEGORIES:Conference
ATTACH;FMTTYPE=image/png:https://www.faams.org/wp-content/uploads/2023/09/Early-Childhood-Virtual-Resource-Fair-.png
END:VEVENT
BEGIN:VEVENT
DTSTART;TZID=America/Chicago:20240516T083000
DTEND;TZID=America/Chicago:20240517T123000
DTSTAMP:20260424T172813
CREATED:20240424T165532Z
LAST-MODIFIED:20240424T165900Z
UID:10001849-1715848200-1715949000@www.faams.org
SUMMARY:2024 NAMI Mississippi State Conference on Mental Health
DESCRIPTION:NAMI \n“Where Mental Meets Physical” Inspired by the new NAMI Hearts + Minds program\, this year’s theme was chosen as physical and mental health are connected. Research suggests that the two are so closely linked that they can even directly affect one another. For example\, depression can increase one’s risk for diabetes\, heart disease\, or stroke\, and chronic conditions such as cancer or heart disease can increase a person’s risk of developing a mental health condition. \nThe conference will be held from May 16-17\, 2024\, with half-day sessions on Friday\, May 17. Lunch on Thursday\, May 16\, is included. CEUs are being applied for and included unless the issuer requires a separate payment. \nPEER SCHOLARSHIP \nAre you a Peer? (those living with a mental illness\, co-occurring disorder\, or substance use disorder) \nIf you are a Peer\, NAMI Mississippi offers a scholarship to attend the 2024 State Conference. Lodging is not included. Please complete this online application by clicking here to be considered for the 25 available scholarships. \nThe deadline for the Peer Scholarship application is April 30\, 2024. \nRegister here>> \n 
URL:https://www.faams.org/event/2024-nami-mississippi-state-conference-on-mental-health/
CATEGORIES:Conference
ATTACH;FMTTYPE=image/jpeg:https://www.faams.org/wp-content/uploads/2024/04/Where-mental-meets-physical-2024-State-Conference.jpg
END:VEVENT
BEGIN:VEVENT
DTSTART;TZID=America/Chicago:20240613T073000
DTEND;TZID=America/Chicago:20240614T120000
DTSTAMP:20260424T172813
CREATED:20240206T042549Z
LAST-MODIFIED:20240412T151626Z
UID:10001748-1718263800-1718366400@www.faams.org
SUMMARY:The Mississippi disAbility MegaConference
DESCRIPTION:  \nThe Mississippi disAbility MegaConference is Mississippi’s largest cross-disability conference for people with disabilities\, families\, students\, and professionals. \nPresenters\, sponsors\, and exhibitors will share the latest information and innovations on many topics. \nMeet people and make new friends! \nContinuing Education – Applying for DMH Credentials\, Education\, and Social Work \nGame Night will be June 12 from 5:30 – 7:30 p.m. in the Cabana Room. \nRegister here>>
URL:https://www.faams.org/event/the-mississippi-disability-megaconference/
CATEGORIES:Conference
ATTACH;FMTTYPE=image/png:https://www.faams.org/wp-content/uploads/2024/02/Disability-MegaConference-2024-1.png
END:VEVENT
BEGIN:VEVENT
DTSTART;TZID=America/Chicago:20240617T083000
DTEND;TZID=America/Chicago:20240620T110000
DTSTAMP:20260424T172813
CREATED:20240521T161433Z
LAST-MODIFIED:20240521T162630Z
UID:10001910-1718613000-1718881200@www.faams.org
SUMMARY:2024 Mississippi Early Childhood Education Conference
DESCRIPTION:Uniting early childhood educators from around the state to connect\, collaborate\, and improve early learning environments for every child. \nThe Mississippi Early Childhood Education Conference is one of the South’s largest early childhood education conferences. Hundreds of teachers and program administrators each year choose from dozens of presentations and exhibits to explore the latest trends and research in the early childhood field. \nRegister here>>
URL:https://www.faams.org/event/2024-mississippi-early-childhood-education-conference/
CATEGORIES:Conference
ATTACH;FMTTYPE=image/png:https://www.faams.org/wp-content/uploads/2024/05/MECEC-Registration-Instructions-1.png
END:VEVENT
BEGIN:VEVENT
DTSTART;TZID=America/Chicago:20240820T140000
DTEND;TZID=America/Chicago:20240820T140000
DTSTAMP:20260424T172813
CREATED:20240809T015258Z
LAST-MODIFIED:20240809T020303Z
UID:10001998-1724162400-1724162400@www.faams.org
SUMMARY:Beyond the Hype: What Research Tells Us About Social Media's Role in Youth Mental Health
DESCRIPTION:Child Mind Institute \nJoin Child Mind Institute as they discuss what research can and can’t tell us and how parents\, platforms\, and policymakers can use it to help kids. \nDon’t miss this critical conversation! \nRegister here>>
URL:https://www.faams.org/event/beyond-the-hype-what-research-tells-us-about-social-medias-role-in-youth-mental-health/
CATEGORIES:Conference
ATTACH;FMTTYPE=image/jpeg:https://www.faams.org/wp-content/uploads/2024/08/Child-Mind-Institute-Social-Share-e1723168974929.jpg
END:VEVENT
BEGIN:VEVENT
DTSTART;VALUE=DATE:20240823
DTEND;VALUE=DATE:20240825
DTSTAMP:20260424T172813
CREATED:20240809T012203Z
LAST-MODIFIED:20240809T150623Z
UID:10001997-1724371200-1724543999@www.faams.org
SUMMARY:NAMI Pathways to Hope Conference
DESCRIPTION:NAMI \nPlease join NAMI for their 3rd annual NAMI Pathways to Hope Conference from Aug. 23 – 24\, 2024. This conference unites people from across communities to combat the stigma of mental illness. \nDuring the Conference enjoy in-depth discussions\,  sharing of insights\, and building of meaningful partnerships. \nRegister here>>
URL:https://www.faams.org/event/nami-pathways-to-hope-conference/
CATEGORIES:Conference
ATTACH;FMTTYPE=image/png:https://www.faams.org/wp-content/uploads/2024/08/NAMI-National-Pathways-to-Hope-Conference-2024-•-RSVPify-1.png
END:VEVENT
BEGIN:VEVENT
DTSTART;TZID=America/Chicago:20240905T073000
DTEND;TZID=America/Chicago:20240905T160000
DTSTAMP:20260424T172813
CREATED:20240711T205134Z
LAST-MODIFIED:20240711T205134Z
UID:10001949-1725521400-1725552000@www.faams.org
SUMMARY:Creating Your Own Path Autism Conference 2024
DESCRIPTION:MS Statewide Autism Training Initiative  \nThe MS Statewide Autism Training Initiative is pleased to announce that registration for the 10th Annual Creating Your Own Path autism conference is officially open! \nThe conference will be held on Thursday\, September 5\, 2024\, at The Hilton Jackson in Jackson\, Mississippi. Dr. Temple Grandin\, renowned autism expert and professor at Colorado State University\, will return as the featured speaker. \nRegister here>>
URL:https://www.faams.org/event/creating-your-own-path-autism-conference-2024/
CATEGORIES:Conference
ATTACH;FMTTYPE=image/png:https://www.faams.org/wp-content/uploads/2024/07/Creating-Your-Own-Path.png
END:VEVENT
BEGIN:VEVENT
DTSTART;VALUE=DATE:20240925
DTEND;VALUE=DATE:20240929
DTSTAMP:20260424T172813
CREATED:20240711T214333Z
LAST-MODIFIED:20240807T202302Z
UID:10001951-1727222400-1727567999@www.faams.org
SUMMARY:10 Annual Mississippi Virtual Trauma Informed Care Conference
DESCRIPTION:Prestige Professional Development and Consulting\, LLC \nPrestige Professional Development and Consulting\, LLC will be hosting their 10th Annual Mississippi Virtual  Trauma Informed Conference\, “A Decade of Leading the Way to Triumph Over Trauma” on September 25-27th\, 2024.
URL:https://www.faams.org/event/10-annual-mississippi-virtual-trauma-informed-care-conference/
CATEGORIES:Conference
ATTACH;FMTTYPE=image/png:https://www.faams.org/wp-content/uploads/2024/07/Home-MS-Trauma-Conference.png
END:VEVENT
BEGIN:VEVENT
DTSTART;VALUE=DATE:20241002
DTEND;VALUE=DATE:20241005
DTSTAMP:20260424T172813
CREATED:20240711T220622Z
LAST-MODIFIED:20240711T220622Z
UID:10001952-1727827200-1728086399@www.faams.org
SUMMARY:Southeast Region National Rehabilitation Association’s (SERNRA) Annual Training Conference.
DESCRIPTION: Rehabilitation Association of Mississippi (RAM) \nJoin the Rehabilitation Association of Mississippi at the Southeast Region National Rehabilitation Association Training Conference\, where you can immerse yourself in a dynamic experience featuring engaging breakout sessions that foster professional growth and learning. \nAmidst the stunning backdrop of the Mississippi Gulf Coast\, this conference promises enriching education and a chance to unwind and connect with peers. \nRegister here>>
URL:https://www.faams.org/event/southeast-region-national-rehabilitation-associations-sernra-annual-training-conference/
CATEGORIES:Conference
ATTACH;FMTTYPE=image/png:https://www.faams.org/wp-content/uploads/2024/07/2024-Sernra-Training-Conference.png
END:VEVENT
BEGIN:VEVENT
DTSTART;TZID=America/Chicago:20241021T000000
DTEND;TZID=America/Chicago:20241022T000000
DTSTAMP:20260424T172813
CREATED:20240722T173817Z
LAST-MODIFIED:20240722T173817Z
UID:10001973-1729468800-1729555200@www.faams.org
SUMMARY:21st Annual ADHD and Related Concerns Conference
DESCRIPTION:Gulf Coast Education Initiative Consortium\, Inc. \nThe ADHD and Related Concerns Conference draws an audience of at least 500 professionals and is a popular resource for school administrators\, educators\, counselors\, marriage and family therapists\, health care providers\, nurses\, psychologists\, social workers\, dyslexia therapists\, speech-language pathologists\, parents\, and caregivers. \nThis year\, a variety of sessions will be offered and will include topics related to ADHD\, autism spectrum disorder\, behavior disorders\, behavior management strategies\, individualized educational best practices\, social and emotional learning\, suicide prevention\, dyslexia\, dyscalculia\, and other learning/behavioral difficulties experienced by children and adolescents. \nThe Gulf Coast Education Initiative Consortium (GCEIC) will again serve as conference directors for 2024 and will provide the Conference Tracker app\, allowing sponsors and vendors the ability to set up profiles and interact with conference participants.  \n\nRegister here>>
URL:https://www.faams.org/event/21st-annual-adhd-and-related-concerns-conference/
CATEGORIES:Conference
ATTACH;FMTTYPE=image/png:https://www.faams.org/wp-content/uploads/2024/07/Annual-ADHD-And-Related-Concerns-Conference-1021-1022.png
END:VEVENT
BEGIN:VEVENT
DTSTART;VALUE=DATE:20241107
DTEND;VALUE=DATE:20241110
DTSTAMP:20260424T172813
CREATED:20240214T195342Z
LAST-MODIFIED:20240307T154941Z
UID:10001763-1730937600-1731196799@www.faams.org
SUMMARY:Registration is Live! NFF 35th Anniversary Conference
DESCRIPTION:National Federation of Families \nFor 35 years\, the National Federation of Families has brought together families\, parents\, community leaders\, providers\, partners\, and legislators at our Annual Conference. We work to leverage our lived experience and learned solutions for the support and advancement of families whose children—of any age—experience mental health and/or substance use challenges. To accomplish this\, we welcome diverse expertise and voices of lived experience to learn from and alongside at our annual conference. \nThis year\, join the National Federation of Families for their 35th Annual Conference in Orlando\, FL! Don’t miss valuable breakout sessions\, inspiring keynote speakers\, and opportunities to network and promote your support services. \nRegister here>>
URL:https://www.faams.org/event/nff-35th-anniversary-conference-call-for-proposals/
CATEGORIES:Conference
ATTACH;FMTTYPE=image/png:https://www.faams.org/wp-content/uploads/2024/02/NFF-Annual-Conference.png
END:VEVENT
BEGIN:VEVENT
DTSTART;TZID=America/Chicago:20250612T073000
DTEND;TZID=America/Chicago:20250613T120000
DTSTAMP:20260424T172813
CREATED:20250403T013023Z
LAST-MODIFIED:20250404T015057Z
UID:10002184-1749713400-1749816000@www.faams.org
SUMMARY:The Mississippi disAbility MegaConference
DESCRIPTION:Mississippi Parent Training and Information Center \nJoin the Mississippi disAbility MegaConference—the state’s largest cross-disability event connecting people with disabilities\, families\, students\, and professionals. Discover the latest insights\, innovations\, and opportunities while building friendships and community! \nRegister here>>
URL:https://www.faams.org/event/the-mississippi-disability-megaconference-2/
CATEGORIES:Conference
ATTACH;FMTTYPE=image/png:https://www.faams.org/wp-content/uploads/2024/02/Disability-MegaConference-2024-1.png
END:VEVENT
BEGIN:VEVENT
DTSTART;VALUE=DATE:20250623
DTEND;VALUE=DATE:20250627
DTSTAMP:20260424T172813
CREATED:20250311T004147Z
LAST-MODIFIED:20250311T004343Z
UID:10002166-1750636800-1750982399@www.faams.org
SUMMARY:2025 Mississippi Early Childhood Education Conference
DESCRIPTION:Mississippi Head Start Association \nThe Mississippi Early Childhood Conference celebrates the dedication and collaborative spirit of families\, educators\, and community advocates working to create a brighter future for young learners. As part of the Mississippi Early Childhood Education Conference\, this gathering highlights the importance of partnership in supporting children’s development. Attendees can look forward to inspiring stories\, opportunities to connect\, and meaningful conversations that underscore the transformative impact of working together for Mississippi’s children and families. \nRegister here>>
URL:https://www.faams.org/event/2025-mississippi-early-childhood-education-conference/
CATEGORIES:Conference
ATTACH;FMTTYPE=image/jpeg:https://www.faams.org/wp-content/uploads/2025/03/0623-26-MS-Early-Childhood-Education-Conference-.jpg
END:VEVENT
BEGIN:VEVENT
DTSTART;TZID=America/Chicago:20251204T083000
DTEND;TZID=America/Chicago:20251204T163000
DTSTAMP:20260424T172813
CREATED:20250829T195042Z
LAST-MODIFIED:20251020T220548Z
UID:10002351-1764837000-1764865800@www.faams.org
SUMMARY:Pathways to Possibilities: Transition to Triumph Conference
DESCRIPTION:Mississippi Department of Education\, Office of Special Education \nThe Mississippi Department of Education\, Office of Special Education\, is excited to host the Pathways to Possibilities: Transition to Triumph Conference on Thursday\, December 4\, 2025\, at the Hilton in North Jackson. \nThis one-day event is designed for educators\, administrators\, early childhood professionals\, families\, service providers\, and community partners. Together\, we will explore strategies to support children and students with disabilities as they prepare for life after high school. \nThe conference will feature an inspiring keynote speaker and breakout sessions covering topics such as early childhood\, K–12\, postsecondary education\, employment\, and independent living. \nRegister here>>
URL:https://www.faams.org/event/pathways-to-possibilities-transition-to-triumph-conference/
CATEGORIES:Conference
ATTACH;FMTTYPE=image/jpeg:https://www.faams.org/wp-content/uploads/2025/08/PATHWAYS-TO-POSSIBILITIES-TRANSITION-TO-TRIUMPH.jpg
END:VEVENT
BEGIN:VEVENT
DTSTART;TZID=America/Chicago:20260327T090000
DTEND;TZID=America/Chicago:20260327T140000
DTSTAMP:20260424T172814
CREATED:20251219T205951Z
LAST-MODIFIED:20251219T205951Z
UID:10002453-1774602000-1774620000@www.faams.org
SUMMARY:Power of Presence: 200 Men Fatherhood Conference
DESCRIPTION:P.R.V.O. Head Start \nJoin P.R.V.O. Head Start for the Power of Presence: 200 Men Fatherhood Conference!Mark your calendars for March 27\, 2026\, 9:00 AM – 2:00 PM at the Jackie Dole Community Center\, 220 West Front St.\, Hattiesburg\, MS.This inspiring event is all about empowering fathers to take an active and intentional role in their children’s lives. Come ready to be renewed\, refreshed\, and restored as we build stronger families and brighter futures together.For more details\, contact Derrick Robinson at drobinson@prvoinc.org or call 601-545-8110 (office) | 601-248-0999 (cell).
URL:https://www.faams.org/event/power-of-presence-200-men-fatherhood-conference/
CATEGORIES:Conference
ATTACH;FMTTYPE=image/jpeg:https://www.faams.org/wp-content/uploads/2025/12/032026.jpg
END:VEVENT
END:VCALENDAR