BEGIN:VCALENDAR
VERSION:2.0
PRODID:-//Families as Allies - ECPv6.15.20//NONSGML v1.0//EN
CALSCALE:GREGORIAN
METHOD:PUBLISH
X-ORIGINAL-URL:https://www.faams.org
X-WR-CALDESC:Events for Families as Allies
REFRESH-INTERVAL;VALUE=DURATION:PT1H
X-Robots-Tag:noindex
X-PUBLISHED-TTL:PT1H
BEGIN:VTIMEZONE
TZID:America/Chicago
BEGIN:DAYLIGHT
TZOFFSETFROM:-0600
TZOFFSETTO:-0500
TZNAME:CDT
DTSTART:20250309T080000
END:DAYLIGHT
BEGIN:STANDARD
TZOFFSETFROM:-0500
TZOFFSETTO:-0600
TZNAME:CST
DTSTART:20251102T070000
END:STANDARD
BEGIN:DAYLIGHT
TZOFFSETFROM:-0600
TZOFFSETTO:-0500
TZNAME:CDT
DTSTART:20260308T080000
END:DAYLIGHT
BEGIN:STANDARD
TZOFFSETFROM:-0500
TZOFFSETTO:-0600
TZNAME:CST
DTSTART:20261101T070000
END:STANDARD
BEGIN:DAYLIGHT
TZOFFSETFROM:-0600
TZOFFSETTO:-0500
TZNAME:CDT
DTSTART:20270314T080000
END:DAYLIGHT
BEGIN:STANDARD
TZOFFSETFROM:-0500
TZOFFSETTO:-0600
TZNAME:CST
DTSTART:20271107T070000
END:STANDARD
END:VTIMEZONE
BEGIN:VEVENT
DTSTART;TZID=America/Chicago:20260430T070000
DTEND;TZID=America/Chicago:20260501T133000
DTSTAMP:20260424T070834
CREATED:20260410T161641Z
LAST-MODIFIED:20260410T161641Z
UID:10002465-1777532400-1777642200@www.faams.org
SUMMARY:2026 NAMI Mississippi Annual Conference on Mental Health & CIT
DESCRIPTION:NAMI Mississippi \nThis premier statewide conference brings together voices from mental health\, law enforcement\, healthcare\, and advocacy to explore innovative strategies\, strengthen collaboration\, and improve crisis response and mental health outcomes in Mississippi. \nRegister here>>
URL:https://www.faams.org/event/2026-nami-mississippi-annual-conference-on-mental-health-cit/
CATEGORIES:Conference
ATTACH;FMTTYPE=image/png:https://www.faams.org/wp-content/uploads/2026/04/NAMI-April-30.png
END:VEVENT
BEGIN:VEVENT
DTSTART;VALUE=DATE:20260527
DTEND;VALUE=DATE:20260530
DTSTAMP:20260424T070834
CREATED:20260423T153045Z
LAST-MODIFIED:20260423T154505Z
UID:10002470-1779840000-1780099199@www.faams.org
SUMMARY:Leadership Connections Conference
DESCRIPTION:The McCormick Institute for Early Childhood \nThe McCormick Institute’s Leadership Connections Conference brings together early childhood education and care (ECEC) leaders for interactive sessions\, dynamic keynotes\, and practical strategies for center‑based\, school‑based\, and family child care programs. Administrators\, coordinators\, technical assistance specialists\, advocates\, and researchers will gain tools to strengthen leadership and improve outcomes for children and families. \nThis year’s theme\, “Onward!”\, focuses on navigating challenging times with confidence while creating “smooth sailing” for ECEC programs. Attendees will learn actionable insights to support strong leadership\, resilient teams\, and high‑quality early learning environments. \nOur commitment to family childcare professionals and Spanish‑speaking leaders continues. The 2026 conference includes a dedicated Family Child Care track with sessions designed to strengthen business practices and leadership skills in the home‑based setting. Select workshops will also be offered in Spanish. \nRegister here >>
URL:https://www.faams.org/event/leadership-connections-conference/
CATEGORIES:Conference
ATTACH;FMTTYPE=image/png:https://www.faams.org/wp-content/uploads/2026/04/Leadership-Connections.png
END:VEVENT
BEGIN:VEVENT
DTSTART;TZID=America/Chicago:20260617T080000
DTEND;TZID=America/Chicago:20260618T120000
DTSTAMP:20260424T070834
CREATED:20260410T154815Z
LAST-MODIFIED:20260410T155107Z
UID:10002464-1781683200-1781784000@www.faams.org
SUMMARY:Mississippi disAbility Megaconference
DESCRIPTION:Coalition for Citizens with Disabilities \nThe Mississippi disAbility MegaConference is Mississippi’s premier learning opportunity for people with disabilities\, family members and professionals. \nRegister here>>
URL:https://www.faams.org/event/mississippi-disability-megaconference-2/
CATEGORIES:Conference
ATTACH;FMTTYPE=image/jpeg:https://www.faams.org/wp-content/uploads/2026/04/Mega-Conference-June-2026.jpeg
END:VEVENT
END:VCALENDAR