BEGIN:VCALENDAR
VERSION:2.0
PRODID:-//Families as Allies - ECPv6.15.20//NONSGML v1.0//EN
CALSCALE:GREGORIAN
METHOD:PUBLISH
X-WR-CALNAME:Families as Allies
X-ORIGINAL-URL:https://www.faams.org
X-WR-CALDESC:Events for Families as Allies
REFRESH-INTERVAL;VALUE=DURATION:PT1H
X-Robots-Tag:noindex
X-PUBLISHED-TTL:PT1H
BEGIN:VTIMEZONE
TZID:America/Chicago
BEGIN:DAYLIGHT
TZOFFSETFROM:-0600
TZOFFSETTO:-0500
TZNAME:CDT
DTSTART:20250309T080000
END:DAYLIGHT
BEGIN:STANDARD
TZOFFSETFROM:-0500
TZOFFSETTO:-0600
TZNAME:CST
DTSTART:20251102T070000
END:STANDARD
BEGIN:DAYLIGHT
TZOFFSETFROM:-0600
TZOFFSETTO:-0500
TZNAME:CDT
DTSTART:20260308T080000
END:DAYLIGHT
BEGIN:STANDARD
TZOFFSETFROM:-0500
TZOFFSETTO:-0600
TZNAME:CST
DTSTART:20261101T070000
END:STANDARD
BEGIN:DAYLIGHT
TZOFFSETFROM:-0600
TZOFFSETTO:-0500
TZNAME:CDT
DTSTART:20270314T080000
END:DAYLIGHT
BEGIN:STANDARD
TZOFFSETFROM:-0500
TZOFFSETTO:-0600
TZNAME:CST
DTSTART:20271107T070000
END:STANDARD
END:VTIMEZONE
BEGIN:VEVENT
DTSTART;TZID=America/Chicago:20260327T090000
DTEND;TZID=America/Chicago:20260327T140000
DTSTAMP:20260424T084101
CREATED:20251219T205951Z
LAST-MODIFIED:20251219T205951Z
UID:10002453-1774602000-1774620000@www.faams.org
SUMMARY:Power of Presence: 200 Men Fatherhood Conference
DESCRIPTION:P.R.V.O. Head Start \nJoin P.R.V.O. Head Start for the Power of Presence: 200 Men Fatherhood Conference!Mark your calendars for March 27\, 2026\, 9:00 AM – 2:00 PM at the Jackie Dole Community Center\, 220 West Front St.\, Hattiesburg\, MS.This inspiring event is all about empowering fathers to take an active and intentional role in their children’s lives. Come ready to be renewed\, refreshed\, and restored as we build stronger families and brighter futures together.For more details\, contact Derrick Robinson at drobinson@prvoinc.org or call 601-545-8110 (office) | 601-248-0999 (cell).
URL:https://www.faams.org/event/power-of-presence-200-men-fatherhood-conference/
CATEGORIES:Conference
ATTACH;FMTTYPE=image/jpeg:https://www.faams.org/wp-content/uploads/2025/12/032026.jpg
END:VEVENT
END:VCALENDAR