BEGIN:VCALENDAR
VERSION:2.0
PRODID:-//Families as Allies - ECPv6.15.20//NONSGML v1.0//EN
CALSCALE:GREGORIAN
METHOD:PUBLISH
X-ORIGINAL-URL:https://www.faams.org
X-WR-CALDESC:Events for Families as Allies
REFRESH-INTERVAL;VALUE=DURATION:PT1H
X-Robots-Tag:noindex
X-PUBLISHED-TTL:PT1H
BEGIN:VTIMEZONE
TZID:America/Chicago
BEGIN:DAYLIGHT
TZOFFSETFROM:-0600
TZOFFSETTO:-0500
TZNAME:CDT
DTSTART:20240310T080000
END:DAYLIGHT
BEGIN:STANDARD
TZOFFSETFROM:-0500
TZOFFSETTO:-0600
TZNAME:CST
DTSTART:20241103T070000
END:STANDARD
BEGIN:DAYLIGHT
TZOFFSETFROM:-0600
TZOFFSETTO:-0500
TZNAME:CDT
DTSTART:20250309T080000
END:DAYLIGHT
BEGIN:STANDARD
TZOFFSETFROM:-0500
TZOFFSETTO:-0600
TZNAME:CST
DTSTART:20251102T070000
END:STANDARD
BEGIN:DAYLIGHT
TZOFFSETFROM:-0600
TZOFFSETTO:-0500
TZNAME:CDT
DTSTART:20260308T080000
END:DAYLIGHT
BEGIN:STANDARD
TZOFFSETFROM:-0500
TZOFFSETTO:-0600
TZNAME:CST
DTSTART:20261101T070000
END:STANDARD
END:VTIMEZONE
BEGIN:VEVENT
DTSTART;TZID=America/Chicago:20250726T100000
DTEND;TZID=America/Chicago:20250726T140000
DTSTAMP:20260422T111230
CREATED:20250724T151258Z
LAST-MODIFIED:20250724T151258Z
UID:10002316-1753524000-1753538400@www.faams.org
SUMMARY:Ready\, Set\, Learn! Back to School Giveaway
DESCRIPTION:LINK \nJoin LINK and Head Start for a fun and impactful Back to School Giveaway on Saturday\, July 26\, 2025\, from 10 AM – 2 PM at the WH Jones Head Start Center\, located at 5489 Old Highway 42\, Hattiesburg\, MS. \nFamilies will have access to: \n\nCommunity Resources\nFree School Supplies\nHygiene Items\nFood\n\nThis event is hosted by LINK (Navigating Families to Success)\, a program of Canopy Children’s Solutions\, in partnership with Head Start. Don’t miss this opportunity to get prepared for a successful school year!
URL:https://www.faams.org/event/ready-set-learn-back-to-school-giveaway/
CATEGORIES:Back to School Giveaway
ATTACH;FMTTYPE=image/jpeg:https://www.faams.org/wp-content/uploads/2025/07/072625-Link-Back-to-School-Giveaway.jpg
END:VEVENT
END:VCALENDAR